BEGIN:VCALENDAR
VERSION:2.0
PRODID:-//Grid Magazine - ECPv6.15.20//NONSGML v1.0//EN
CALSCALE:GREGORIAN
METHOD:PUBLISH
X-WR-CALNAME:Grid Magazine
X-ORIGINAL-URL:https://gridphilly.com
X-WR-CALDESC:Events for Grid Magazine
REFRESH-INTERVAL;VALUE=DURATION:PT1H
X-Robots-Tag:noindex
X-PUBLISHED-TTL:PT1H
BEGIN:VTIMEZONE
TZID:America/New_York
BEGIN:DAYLIGHT
TZOFFSETFROM:-0500
TZOFFSETTO:-0400
TZNAME:EDT
DTSTART:20240310T070000
END:DAYLIGHT
BEGIN:STANDARD
TZOFFSETFROM:-0400
TZOFFSETTO:-0500
TZNAME:EST
DTSTART:20241103T060000
END:STANDARD
BEGIN:DAYLIGHT
TZOFFSETFROM:-0500
TZOFFSETTO:-0400
TZNAME:EDT
DTSTART:20250309T070000
END:DAYLIGHT
BEGIN:STANDARD
TZOFFSETFROM:-0400
TZOFFSETTO:-0500
TZNAME:EST
DTSTART:20251102T060000
END:STANDARD
BEGIN:DAYLIGHT
TZOFFSETFROM:-0500
TZOFFSETTO:-0400
TZNAME:EDT
DTSTART:20260308T070000
END:DAYLIGHT
BEGIN:STANDARD
TZOFFSETFROM:-0400
TZOFFSETTO:-0500
TZNAME:EST
DTSTART:20261101T060000
END:STANDARD
END:VTIMEZONE
BEGIN:VEVENT
DTSTART;TZID=America/New_York:20251213T120000
DTEND;TZID=America/New_York:20251213T150000
DTSTAMP:20260421T073145
CREATED:20241223T135912Z
LAST-MODIFIED:20241223T135912Z
UID:10016116-1765627200-1765638000@gridphilly.com
SUMMARY:Up Next! Youth Jam Sessions
DESCRIPTION:Up Next! is a free monthly open jam session providing a platform for Philly’s creative youth to learn\, perform\, collaborate\, and grow. Every second Saturday\, The Lounge at World Cafe Live offers an all-ages\, alcohol-free environment\, showcasing our city’s up-and-coming talent while building community across the local music scene. A rotating youth ensemble will serve as the house band\, kicking off the afternoon with a featured set including hand-selected guest artists before opening up the jam.\nProduced in collaboration between World Cafe Live and The School District of Philadelphia’s MIC’d Up initiative\, Up Next! aims to engage students in music industry careers both on and off the stage. Students will work alongside the WCL team to curate\, promote\, facilitate\, and document each session\, with opportunities in booking\, marketing\, videography\, photography\, artist relations\, hosting\, audio engineering\, backline management\, and other elements of live event production. A team of professional musicians and educator
URL:https://gridphilly.com/event/up-next-youth-jam-sessions/2025-12-13/
LOCATION:world cafe live\, 3025 Walnut Street\, Philadelphia\, PA\, 19104\, United States
ATTACH;FMTTYPE=image/jpeg:https://gridphilly.com/wp-content/uploads/2024/12/UP-NEXT-square-graphic.jpg
END:VEVENT
BEGIN:VEVENT
DTSTART;TZID=America/New_York:20251108T120000
DTEND;TZID=America/New_York:20251108T150000
DTSTAMP:20260421T073145
CREATED:20241223T135912Z
LAST-MODIFIED:20241223T135912Z
UID:10016115-1762603200-1762614000@gridphilly.com
SUMMARY:Up Next! Youth Jam Sessions
DESCRIPTION:Up Next! is a free monthly open jam session providing a platform for Philly’s creative youth to learn\, perform\, collaborate\, and grow. Every second Saturday\, The Lounge at World Cafe Live offers an all-ages\, alcohol-free environment\, showcasing our city’s up-and-coming talent while building community across the local music scene. A rotating youth ensemble will serve as the house band\, kicking off the afternoon with a featured set including hand-selected guest artists before opening up the jam.\nProduced in collaboration between World Cafe Live and The School District of Philadelphia’s MIC’d Up initiative\, Up Next! aims to engage students in music industry careers both on and off the stage. Students will work alongside the WCL team to curate\, promote\, facilitate\, and document each session\, with opportunities in booking\, marketing\, videography\, photography\, artist relations\, hosting\, audio engineering\, backline management\, and other elements of live event production. A team of professional musicians and educator
URL:https://gridphilly.com/event/up-next-youth-jam-sessions/2025-11-08/
LOCATION:world cafe live\, 3025 Walnut Street\, Philadelphia\, PA\, 19104\, United States
ATTACH;FMTTYPE=image/jpeg:https://gridphilly.com/wp-content/uploads/2024/12/UP-NEXT-square-graphic.jpg
END:VEVENT
BEGIN:VEVENT
DTSTART;TZID=America/New_York:20251011T120000
DTEND;TZID=America/New_York:20251011T150000
DTSTAMP:20260421T073145
CREATED:20241223T135912Z
LAST-MODIFIED:20241223T135912Z
UID:10016114-1760184000-1760194800@gridphilly.com
SUMMARY:Up Next! Youth Jam Sessions
DESCRIPTION:Up Next! is a free monthly open jam session providing a platform for Philly’s creative youth to learn\, perform\, collaborate\, and grow. Every second Saturday\, The Lounge at World Cafe Live offers an all-ages\, alcohol-free environment\, showcasing our city’s up-and-coming talent while building community across the local music scene. A rotating youth ensemble will serve as the house band\, kicking off the afternoon with a featured set including hand-selected guest artists before opening up the jam.\nProduced in collaboration between World Cafe Live and The School District of Philadelphia’s MIC’d Up initiative\, Up Next! aims to engage students in music industry careers both on and off the stage. Students will work alongside the WCL team to curate\, promote\, facilitate\, and document each session\, with opportunities in booking\, marketing\, videography\, photography\, artist relations\, hosting\, audio engineering\, backline management\, and other elements of live event production. A team of professional musicians and educator
URL:https://gridphilly.com/event/up-next-youth-jam-sessions/2025-10-11/
LOCATION:world cafe live\, 3025 Walnut Street\, Philadelphia\, PA\, 19104\, United States
ATTACH;FMTTYPE=image/jpeg:https://gridphilly.com/wp-content/uploads/2024/12/UP-NEXT-square-graphic.jpg
END:VEVENT
BEGIN:VEVENT
DTSTART;TZID=America/New_York:20250913T120000
DTEND;TZID=America/New_York:20250913T150000
DTSTAMP:20260421T073145
CREATED:20241223T135912Z
LAST-MODIFIED:20241223T135912Z
UID:10016113-1757764800-1757775600@gridphilly.com
SUMMARY:Up Next! Youth Jam Sessions
DESCRIPTION:Up Next! is a free monthly open jam session providing a platform for Philly’s creative youth to learn\, perform\, collaborate\, and grow. Every second Saturday\, The Lounge at World Cafe Live offers an all-ages\, alcohol-free environment\, showcasing our city’s up-and-coming talent while building community across the local music scene. A rotating youth ensemble will serve as the house band\, kicking off the afternoon with a featured set including hand-selected guest artists before opening up the jam.\nProduced in collaboration between World Cafe Live and The School District of Philadelphia’s MIC’d Up initiative\, Up Next! aims to engage students in music industry careers both on and off the stage. Students will work alongside the WCL team to curate\, promote\, facilitate\, and document each session\, with opportunities in booking\, marketing\, videography\, photography\, artist relations\, hosting\, audio engineering\, backline management\, and other elements of live event production. A team of professional musicians and educator
URL:https://gridphilly.com/event/up-next-youth-jam-sessions/2025-09-13/
LOCATION:world cafe live\, 3025 Walnut Street\, Philadelphia\, PA\, 19104\, United States
ATTACH;FMTTYPE=image/jpeg:https://gridphilly.com/wp-content/uploads/2024/12/UP-NEXT-square-graphic.jpg
END:VEVENT
BEGIN:VEVENT
DTSTART;TZID=America/New_York:20250809T120000
DTEND;TZID=America/New_York:20250809T150000
DTSTAMP:20260421T073145
CREATED:20241223T135912Z
LAST-MODIFIED:20241223T135912Z
UID:10016112-1754740800-1754751600@gridphilly.com
SUMMARY:Up Next! Youth Jam Sessions
DESCRIPTION:Up Next! is a free monthly open jam session providing a platform for Philly’s creative youth to learn\, perform\, collaborate\, and grow. Every second Saturday\, The Lounge at World Cafe Live offers an all-ages\, alcohol-free environment\, showcasing our city’s up-and-coming talent while building community across the local music scene. A rotating youth ensemble will serve as the house band\, kicking off the afternoon with a featured set including hand-selected guest artists before opening up the jam.\nProduced in collaboration between World Cafe Live and The School District of Philadelphia’s MIC’d Up initiative\, Up Next! aims to engage students in music industry careers both on and off the stage. Students will work alongside the WCL team to curate\, promote\, facilitate\, and document each session\, with opportunities in booking\, marketing\, videography\, photography\, artist relations\, hosting\, audio engineering\, backline management\, and other elements of live event production. A team of professional musicians and educator
URL:https://gridphilly.com/event/up-next-youth-jam-sessions/2025-08-09/
LOCATION:world cafe live\, 3025 Walnut Street\, Philadelphia\, PA\, 19104\, United States
ATTACH;FMTTYPE=image/jpeg:https://gridphilly.com/wp-content/uploads/2024/12/UP-NEXT-square-graphic.jpg
END:VEVENT
BEGIN:VEVENT
DTSTART;TZID=America/New_York:20250712T120000
DTEND;TZID=America/New_York:20250712T150000
DTSTAMP:20260421T073145
CREATED:20241223T135912Z
LAST-MODIFIED:20241223T135912Z
UID:10016111-1752321600-1752332400@gridphilly.com
SUMMARY:Up Next! Youth Jam Sessions
DESCRIPTION:Up Next! is a free monthly open jam session providing a platform for Philly’s creative youth to learn\, perform\, collaborate\, and grow. Every second Saturday\, The Lounge at World Cafe Live offers an all-ages\, alcohol-free environment\, showcasing our city’s up-and-coming talent while building community across the local music scene. A rotating youth ensemble will serve as the house band\, kicking off the afternoon with a featured set including hand-selected guest artists before opening up the jam.\nProduced in collaboration between World Cafe Live and The School District of Philadelphia’s MIC’d Up initiative\, Up Next! aims to engage students in music industry careers both on and off the stage. Students will work alongside the WCL team to curate\, promote\, facilitate\, and document each session\, with opportunities in booking\, marketing\, videography\, photography\, artist relations\, hosting\, audio engineering\, backline management\, and other elements of live event production. A team of professional musicians and educator
URL:https://gridphilly.com/event/up-next-youth-jam-sessions/2025-07-12/
LOCATION:world cafe live\, 3025 Walnut Street\, Philadelphia\, PA\, 19104\, United States
ATTACH;FMTTYPE=image/jpeg:https://gridphilly.com/wp-content/uploads/2024/12/UP-NEXT-square-graphic.jpg
END:VEVENT
BEGIN:VEVENT
DTSTART;TZID=America/New_York:20250614T120000
DTEND;TZID=America/New_York:20250614T150000
DTSTAMP:20260421T073145
CREATED:20241223T135912Z
LAST-MODIFIED:20241223T135912Z
UID:10016110-1749902400-1749913200@gridphilly.com
SUMMARY:Up Next! Youth Jam Sessions
DESCRIPTION:Up Next! is a free monthly open jam session providing a platform for Philly’s creative youth to learn\, perform\, collaborate\, and grow. Every second Saturday\, The Lounge at World Cafe Live offers an all-ages\, alcohol-free environment\, showcasing our city’s up-and-coming talent while building community across the local music scene. A rotating youth ensemble will serve as the house band\, kicking off the afternoon with a featured set including hand-selected guest artists before opening up the jam.\nProduced in collaboration between World Cafe Live and The School District of Philadelphia’s MIC’d Up initiative\, Up Next! aims to engage students in music industry careers both on and off the stage. Students will work alongside the WCL team to curate\, promote\, facilitate\, and document each session\, with opportunities in booking\, marketing\, videography\, photography\, artist relations\, hosting\, audio engineering\, backline management\, and other elements of live event production. A team of professional musicians and educator
URL:https://gridphilly.com/event/up-next-youth-jam-sessions/2025-06-14/
LOCATION:world cafe live\, 3025 Walnut Street\, Philadelphia\, PA\, 19104\, United States
ATTACH;FMTTYPE=image/jpeg:https://gridphilly.com/wp-content/uploads/2024/12/UP-NEXT-square-graphic.jpg
END:VEVENT
BEGIN:VEVENT
DTSTART;TZID=America/New_York:20250510T120000
DTEND;TZID=America/New_York:20250510T150000
DTSTAMP:20260421T073145
CREATED:20241223T135912Z
LAST-MODIFIED:20241223T135912Z
UID:10016109-1746878400-1746889200@gridphilly.com
SUMMARY:Up Next! Youth Jam Sessions
DESCRIPTION:Up Next! is a free monthly open jam session providing a platform for Philly’s creative youth to learn\, perform\, collaborate\, and grow. Every second Saturday\, The Lounge at World Cafe Live offers an all-ages\, alcohol-free environment\, showcasing our city’s up-and-coming talent while building community across the local music scene. A rotating youth ensemble will serve as the house band\, kicking off the afternoon with a featured set including hand-selected guest artists before opening up the jam.\nProduced in collaboration between World Cafe Live and The School District of Philadelphia’s MIC’d Up initiative\, Up Next! aims to engage students in music industry careers both on and off the stage. Students will work alongside the WCL team to curate\, promote\, facilitate\, and document each session\, with opportunities in booking\, marketing\, videography\, photography\, artist relations\, hosting\, audio engineering\, backline management\, and other elements of live event production. A team of professional musicians and educator
URL:https://gridphilly.com/event/up-next-youth-jam-sessions/2025-05-10/
LOCATION:world cafe live\, 3025 Walnut Street\, Philadelphia\, PA\, 19104\, United States
ATTACH;FMTTYPE=image/jpeg:https://gridphilly.com/wp-content/uploads/2024/12/UP-NEXT-square-graphic.jpg
END:VEVENT
BEGIN:VEVENT
DTSTART;TZID=America/New_York:20250412T120000
DTEND;TZID=America/New_York:20250412T150000
DTSTAMP:20260421T073145
CREATED:20241223T135912Z
LAST-MODIFIED:20241223T135912Z
UID:10016108-1744459200-1744470000@gridphilly.com
SUMMARY:Up Next! Youth Jam Sessions
DESCRIPTION:Up Next! is a free monthly open jam session providing a platform for Philly’s creative youth to learn\, perform\, collaborate\, and grow. Every second Saturday\, The Lounge at World Cafe Live offers an all-ages\, alcohol-free environment\, showcasing our city’s up-and-coming talent while building community across the local music scene. A rotating youth ensemble will serve as the house band\, kicking off the afternoon with a featured set including hand-selected guest artists before opening up the jam.\nProduced in collaboration between World Cafe Live and The School District of Philadelphia’s MIC’d Up initiative\, Up Next! aims to engage students in music industry careers both on and off the stage. Students will work alongside the WCL team to curate\, promote\, facilitate\, and document each session\, with opportunities in booking\, marketing\, videography\, photography\, artist relations\, hosting\, audio engineering\, backline management\, and other elements of live event production. A team of professional musicians and educator
URL:https://gridphilly.com/event/up-next-youth-jam-sessions/2025-04-12/
LOCATION:world cafe live\, 3025 Walnut Street\, Philadelphia\, PA\, 19104\, United States
ATTACH;FMTTYPE=image/jpeg:https://gridphilly.com/wp-content/uploads/2024/12/UP-NEXT-square-graphic.jpg
END:VEVENT
BEGIN:VEVENT
DTSTART;TZID=America/New_York:20250308T120000
DTEND;TZID=America/New_York:20250308T150000
DTSTAMP:20260421T073145
CREATED:20241223T135912Z
LAST-MODIFIED:20241223T135912Z
UID:10016107-1741435200-1741446000@gridphilly.com
SUMMARY:Up Next! Youth Jam Sessions
DESCRIPTION:Up Next! is a free monthly open jam session providing a platform for Philly’s creative youth to learn\, perform\, collaborate\, and grow. Every second Saturday\, The Lounge at World Cafe Live offers an all-ages\, alcohol-free environment\, showcasing our city’s up-and-coming talent while building community across the local music scene. A rotating youth ensemble will serve as the house band\, kicking off the afternoon with a featured set including hand-selected guest artists before opening up the jam.\nProduced in collaboration between World Cafe Live and The School District of Philadelphia’s MIC’d Up initiative\, Up Next! aims to engage students in music industry careers both on and off the stage. Students will work alongside the WCL team to curate\, promote\, facilitate\, and document each session\, with opportunities in booking\, marketing\, videography\, photography\, artist relations\, hosting\, audio engineering\, backline management\, and other elements of live event production. A team of professional musicians and educator
URL:https://gridphilly.com/event/up-next-youth-jam-sessions/2025-03-08/
LOCATION:world cafe live\, 3025 Walnut Street\, Philadelphia\, PA\, 19104\, United States
ATTACH;FMTTYPE=image/jpeg:https://gridphilly.com/wp-content/uploads/2024/12/UP-NEXT-square-graphic.jpg
END:VEVENT
BEGIN:VEVENT
DTSTART;TZID=America/New_York:20250208T120000
DTEND;TZID=America/New_York:20250208T150000
DTSTAMP:20260421T073145
CREATED:20241223T135912Z
LAST-MODIFIED:20241223T135912Z
UID:10016106-1739016000-1739026800@gridphilly.com
SUMMARY:Up Next! Youth Jam Sessions
DESCRIPTION:Up Next! is a free monthly open jam session providing a platform for Philly’s creative youth to learn\, perform\, collaborate\, and grow. Every second Saturday\, The Lounge at World Cafe Live offers an all-ages\, alcohol-free environment\, showcasing our city’s up-and-coming talent while building community across the local music scene. A rotating youth ensemble will serve as the house band\, kicking off the afternoon with a featured set including hand-selected guest artists before opening up the jam.\nProduced in collaboration between World Cafe Live and The School District of Philadelphia’s MIC’d Up initiative\, Up Next! aims to engage students in music industry careers both on and off the stage. Students will work alongside the WCL team to curate\, promote\, facilitate\, and document each session\, with opportunities in booking\, marketing\, videography\, photography\, artist relations\, hosting\, audio engineering\, backline management\, and other elements of live event production. A team of professional musicians and educator
URL:https://gridphilly.com/event/up-next-youth-jam-sessions/2025-02-08/
LOCATION:world cafe live\, 3025 Walnut Street\, Philadelphia\, PA\, 19104\, United States
ATTACH;FMTTYPE=image/jpeg:https://gridphilly.com/wp-content/uploads/2024/12/UP-NEXT-square-graphic.jpg
END:VEVENT
BEGIN:VEVENT
DTSTART;TZID=America/New_York:20250111T120000
DTEND;TZID=America/New_York:20250111T150000
DTSTAMP:20260421T073145
CREATED:20241223T135912Z
LAST-MODIFIED:20241223T135912Z
UID:10016105-1736596800-1736607600@gridphilly.com
SUMMARY:Up Next! Youth Jam Sessions
DESCRIPTION:Up Next! is a free monthly open jam session providing a platform for Philly’s creative youth to learn\, perform\, collaborate\, and grow. Every second Saturday\, The Lounge at World Cafe Live offers an all-ages\, alcohol-free environment\, showcasing our city’s up-and-coming talent while building community across the local music scene. A rotating youth ensemble will serve as the house band\, kicking off the afternoon with a featured set including hand-selected guest artists before opening up the jam.\nProduced in collaboration between World Cafe Live and The School District of Philadelphia’s MIC’d Up initiative\, Up Next! aims to engage students in music industry careers both on and off the stage. Students will work alongside the WCL team to curate\, promote\, facilitate\, and document each session\, with opportunities in booking\, marketing\, videography\, photography\, artist relations\, hosting\, audio engineering\, backline management\, and other elements of live event production. A team of professional musicians and educator
URL:https://gridphilly.com/event/up-next-youth-jam-sessions/2025-01-11/
LOCATION:world cafe live\, 3025 Walnut Street\, Philadelphia\, PA\, 19104\, United States
ATTACH;FMTTYPE=image/jpeg:https://gridphilly.com/wp-content/uploads/2024/12/UP-NEXT-square-graphic.jpg
END:VEVENT
END:VCALENDAR