BEGIN:VCALENDAR
VERSION:2.0
PRODID:-//Grid Magazine - ECPv6.15.20//NONSGML v1.0//EN
CALSCALE:GREGORIAN
METHOD:PUBLISH
X-ORIGINAL-URL:https://gridphilly.com
X-WR-CALDESC:Events for Grid Magazine
REFRESH-INTERVAL;VALUE=DURATION:PT1H
X-Robots-Tag:noindex
X-PUBLISHED-TTL:PT1H
BEGIN:VTIMEZONE
TZID:America/New_York
BEGIN:DAYLIGHT
TZOFFSETFROM:-0500
TZOFFSETTO:-0400
TZNAME:EDT
DTSTART:20250309T070000
END:DAYLIGHT
BEGIN:STANDARD
TZOFFSETFROM:-0400
TZOFFSETTO:-0500
TZNAME:EST
DTSTART:20251102T060000
END:STANDARD
BEGIN:DAYLIGHT
TZOFFSETFROM:-0500
TZOFFSETTO:-0400
TZNAME:EDT
DTSTART:20260308T070000
END:DAYLIGHT
BEGIN:STANDARD
TZOFFSETFROM:-0400
TZOFFSETTO:-0500
TZNAME:EST
DTSTART:20261101T060000
END:STANDARD
BEGIN:DAYLIGHT
TZOFFSETFROM:-0500
TZOFFSETTO:-0400
TZNAME:EDT
DTSTART:20270314T070000
END:DAYLIGHT
BEGIN:STANDARD
TZOFFSETFROM:-0400
TZOFFSETTO:-0500
TZNAME:EST
DTSTART:20271107T060000
END:STANDARD
END:VTIMEZONE
BEGIN:VEVENT
DTSTART;TZID=America/New_York:20260223T160000
DTEND;TZID=America/New_York:20260223T173000
DTSTAMP:20260425T160854
CREATED:20260202T175808Z
LAST-MODIFIED:20260202T175959Z
UID:10028723-1771862400-1771867800@gridphilly.com
SUMMARY:Your History and You!
DESCRIPTION:Celebrate Black History Month artfully by creating collage inspired by Black women who have contributed to Philadelphia history!\n\n\nHonor and celebrate the contributions of Black women of Philadelphia and reflect on what their legacy means you. North Philadelphia artist\, Jihan Thomas\, will share her expansive knowledge of Black history while guiding participants through the expressive art of collage.
URL:https://gridphilly.com/event/your-history-and-you/
LOCATION:2808 W Lehigh Ave\, 2808 West Lehigh Avenue\, Philadelphia\, PA\, 19132\, United States
ATTACH;FMTTYPE=image/jpeg:https://gridphilly.com/wp-content/uploads/2026/02/64b1412c22455ff4af9e04bfbd737d96.jpg
END:VEVENT
END:VCALENDAR