BEGIN:VCALENDAR
VERSION:2.0
PRODID:-//Grid Magazine - ECPv6.15.20//NONSGML v1.0//EN
CALSCALE:GREGORIAN
METHOD:PUBLISH
X-ORIGINAL-URL:https://gridphilly.com
X-WR-CALDESC:Events for Grid Magazine
REFRESH-INTERVAL;VALUE=DURATION:PT1H
X-Robots-Tag:noindex
X-PUBLISHED-TTL:PT1H
BEGIN:VTIMEZONE
TZID:America/New_York
BEGIN:DAYLIGHT
TZOFFSETFROM:-0500
TZOFFSETTO:-0400
TZNAME:EDT
DTSTART:20240310T070000
END:DAYLIGHT
BEGIN:STANDARD
TZOFFSETFROM:-0400
TZOFFSETTO:-0500
TZNAME:EST
DTSTART:20241103T060000
END:STANDARD
BEGIN:DAYLIGHT
TZOFFSETFROM:-0500
TZOFFSETTO:-0400
TZNAME:EDT
DTSTART:20250309T070000
END:DAYLIGHT
BEGIN:STANDARD
TZOFFSETFROM:-0400
TZOFFSETTO:-0500
TZNAME:EST
DTSTART:20251102T060000
END:STANDARD
BEGIN:DAYLIGHT
TZOFFSETFROM:-0500
TZOFFSETTO:-0400
TZNAME:EDT
DTSTART:20260308T070000
END:DAYLIGHT
BEGIN:STANDARD
TZOFFSETFROM:-0400
TZOFFSETTO:-0500
TZNAME:EST
DTSTART:20261101T060000
END:STANDARD
END:VTIMEZONE
BEGIN:VEVENT
DTSTART;TZID=America/New_York:20251108T133000
DTEND;TZID=America/New_York:20251108T143000
DTSTAMP:20260421T055326
CREATED:20251031T180556Z
LAST-MODIFIED:20251031T180556Z
UID:10023801-1762608600-1762612200@gridphilly.com
SUMMARY:Celebration of solar installation at Weavers Way Mercantile store (Mt. Airy)
DESCRIPTION:Join Weavers Way Co-op and the Clean Energy Co-op as we celebrate how grassroots investment is growing renewable energy at the Clean Energy Co-op’s latest solar project at the Weavers Way Mercantile. The solar array at Weavers Way Mercantile is the eighth installation of the Clean Ener­gy Co-op\, and the second with Weavers Way Co-op. The Clean Energy Co-op uses an award-winning method of developing solar projects using pooled investments by its members. This pooled investment structure allows individuals to directly in­crease the amount of renewable energy in­stalled in Pennsylvania. \nKids can run a solar powered shoebox size car and enjoy the bubbles produced from a portable solar panel. Short comments from groups and people integral to getting this project done will include Weaver’s Way\, Clean Energy Co-op\, Ken Weinstein\, and Solar States.
URL:https://gridphilly.com/event/celebration-of-solar-installation-at-weavers-way-mercantile-store-mt-airy/2025-11-08/2/
LOCATION:Weavers Way Mercantile Store\, 542 Carpenter Lane\, Philadelphia\, 19119\, United States
CATEGORIES:Food
ATTACH;FMTTYPE=image/png:https://gridphilly.com/wp-content/uploads/2025/10/Copy-of-Make-Solar-a-Reality-1.png
ORGANIZER;CN="The Clean Energy Co-op":MAILTO:cleanenergycoopsepa@gmail.com
END:VEVENT
BEGIN:VEVENT
DTSTART;TZID=America/New_York:20251108T080000
DTEND;TZID=America/New_York:20251108T170000
DTSTAMP:20260421T055326
CREATED:20251031T180556Z
LAST-MODIFIED:20251031T180556Z
UID:10023800-1762588800-1762621200@gridphilly.com
SUMMARY:Celebration of solar installation at Weavers Way Mercantile store (Mt. Airy)
DESCRIPTION:Join Weavers Way Co-op and the Clean Energy Co-op as we celebrate how grassroots investment is growing renewable energy at the Clean Energy Co-op’s latest solar project at the Weavers Way Mercantile. The solar array at Weavers Way Mercantile is the eighth installation of the Clean Ener­gy Co-op\, and the second with Weavers Way Co-op. The Clean Energy Co-op uses an award-winning method of developing solar projects using pooled investments by its members. This pooled investment structure allows individuals to directly in­crease the amount of renewable energy in­stalled in Pennsylvania. \nKids can run a solar powered shoebox size car and enjoy the bubbles produced from a portable solar panel. Short comments from groups and people integral to getting this project done will include Weaver’s Way\, Clean Energy Co-op\, Ken Weinstein\, and Solar States.
URL:https://gridphilly.com/event/celebration-of-solar-installation-at-weavers-way-mercantile-store-mt-airy/2025-11-08/1/
LOCATION:Weavers Way Mercantile Store\, 542 Carpenter Lane\, Philadelphia\, 19119\, United States
CATEGORIES:Food
ATTACH;FMTTYPE=image/png:https://gridphilly.com/wp-content/uploads/2025/10/Copy-of-Make-Solar-a-Reality-1.png
ORGANIZER;CN="The Clean Energy Co-op":MAILTO:cleanenergycoopsepa@gmail.com
END:VEVENT
END:VCALENDAR