BEGIN:VCALENDAR
VERSION:2.0
PRODID:-//Grid Magazine - ECPv6.15.20//NONSGML v1.0//EN
CALSCALE:GREGORIAN
METHOD:PUBLISH
X-WR-CALNAME:Grid Magazine
X-ORIGINAL-URL:https://gridphilly.com
X-WR-CALDESC:Events for Grid Magazine
REFRESH-INTERVAL;VALUE=DURATION:PT1H
X-Robots-Tag:noindex
X-PUBLISHED-TTL:PT1H
BEGIN:VTIMEZONE
TZID:America/New_York
BEGIN:DAYLIGHT
TZOFFSETFROM:-0500
TZOFFSETTO:-0400
TZNAME:EDT
DTSTART:20230312T070000
END:DAYLIGHT
BEGIN:STANDARD
TZOFFSETFROM:-0400
TZOFFSETTO:-0500
TZNAME:EST
DTSTART:20231105T060000
END:STANDARD
BEGIN:DAYLIGHT
TZOFFSETFROM:-0500
TZOFFSETTO:-0400
TZNAME:EDT
DTSTART:20240310T070000
END:DAYLIGHT
BEGIN:STANDARD
TZOFFSETFROM:-0400
TZOFFSETTO:-0500
TZNAME:EST
DTSTART:20241103T060000
END:STANDARD
BEGIN:DAYLIGHT
TZOFFSETFROM:-0500
TZOFFSETTO:-0400
TZNAME:EDT
DTSTART:20250309T070000
END:DAYLIGHT
BEGIN:STANDARD
TZOFFSETFROM:-0400
TZOFFSETTO:-0500
TZNAME:EST
DTSTART:20251102T060000
END:STANDARD
END:VTIMEZONE
BEGIN:VEVENT
DTSTART;TZID=America/New_York:20240117T160000
DTEND;TZID=America/New_York:20240117T180000
DTSTAMP:20260420T113759
CREATED:20240102T145035Z
LAST-MODIFIED:20240102T145035Z
UID:10010428-1705507200-1705514400@gridphilly.com
SUMMARY:Business Law Workshops for Minority-Owned Businesses
DESCRIPTION:Are you a minority owner of a small or micro business with legal questions?\n\n\nCamden-based Volunteer UP Legal Clinic is offering business law workshops with the possiblilty of follow-up pro bono legal services. \nOn Wednesday\, January 17\, from 4 to 6 pm\, volunteer attorneys who are experts in the field will be presenting and answering questions at Subaru Headquarters in Camden. \nTopics to be covered in two one-hour sessions will be determined by the legal needs of participants. We often see labor & employment issues; basic formation\, including choice of entity & registration; protecting the business; contract management\, drafting\, and/or disputes; negotiation; intellectual property\, with particular emphasis on trademark; privacy policies; and employment practices including\, but not limited to\, the use of independent contractors\, handling issues with former\, current\, or prospective employees. \nUpon registration\, you will receive an email asking about your area(s) of concern. You will also be invited to pose general questions ahead of time. \nWe hope you can join us!
URL:https://gridphilly.com/event/business-law-workshops-for-minority-owned-businesses/
LOCATION:Subaru of America\, One Subaru Drive\, Camden\, NJ\, 08103\, United States
ATTACH;FMTTYPE=image/jpeg:https://gridphilly.com/wp-content/uploads/2024/01/42d796887fab5b306af223460a5f333a.jpg
END:VEVENT
END:VCALENDAR