BEGIN:VCALENDAR
VERSION:2.0
PRODID:-//Grid Magazine - ECPv6.15.20//NONSGML v1.0//EN
CALSCALE:GREGORIAN
METHOD:PUBLISH
X-ORIGINAL-URL:https://gridphilly.com
X-WR-CALDESC:Events for Grid Magazine
REFRESH-INTERVAL;VALUE=DURATION:PT1H
X-Robots-Tag:noindex
X-PUBLISHED-TTL:PT1H
BEGIN:VTIMEZONE
TZID:America/New_York
BEGIN:DAYLIGHT
TZOFFSETFROM:-0500
TZOFFSETTO:-0400
TZNAME:EDT
DTSTART:20220313T070000
END:DAYLIGHT
BEGIN:STANDARD
TZOFFSETFROM:-0400
TZOFFSETTO:-0500
TZNAME:EST
DTSTART:20221106T060000
END:STANDARD
BEGIN:DAYLIGHT
TZOFFSETFROM:-0500
TZOFFSETTO:-0400
TZNAME:EDT
DTSTART:20230312T070000
END:DAYLIGHT
BEGIN:STANDARD
TZOFFSETFROM:-0400
TZOFFSETTO:-0500
TZNAME:EST
DTSTART:20231105T060000
END:STANDARD
BEGIN:DAYLIGHT
TZOFFSETFROM:-0500
TZOFFSETTO:-0400
TZNAME:EDT
DTSTART:20240310T070000
END:DAYLIGHT
BEGIN:STANDARD
TZOFFSETFROM:-0400
TZOFFSETTO:-0500
TZNAME:EST
DTSTART:20241103T060000
END:STANDARD
BEGIN:DAYLIGHT
TZOFFSETFROM:-0500
TZOFFSETTO:-0400
TZNAME:EDT
DTSTART:20250309T070000
END:DAYLIGHT
BEGIN:STANDARD
TZOFFSETFROM:-0400
TZOFFSETTO:-0500
TZNAME:EST
DTSTART:20251102T060000
END:STANDARD
BEGIN:DAYLIGHT
TZOFFSETFROM:-0500
TZOFFSETTO:-0400
TZNAME:EDT
DTSTART:20260308T070000
END:DAYLIGHT
BEGIN:STANDARD
TZOFFSETFROM:-0400
TZOFFSETTO:-0500
TZNAME:EST
DTSTART:20261101T060000
END:STANDARD
END:VTIMEZONE
BEGIN:VEVENT
DTSTART;TZID=America/New_York:20250530T180000
DTEND;TZID=America/New_York:20250530T200000
DTSTAMP:20260422T070700
CREATED:20240201T172230Z
LAST-MODIFIED:20240201T172230Z
UID:10010779-1748628000-1748635200@gridphilly.com
SUMMARY:Sewing for Beginners! Sewing Machine Basics.
DESCRIPTION:No supplies necessary! This hands on\, one on one class will teach you how to work a sewing machine like a pro. & Leave with a handmade tote!
URL:https://gridphilly.com/event/sewing-for-beginners-sewing-machine-basics-10/
LOCATION:319 N 11th St\, 319 North 11th Street\, Philadelphia\, PA\, 19107\, United States
ATTACH;FMTTYPE=image/jpeg:https://gridphilly.com/wp-content/uploads/2023/09/6e89a2d6b5559a11af2934578605bb5d.jpg
END:VEVENT
BEGIN:VEVENT
DTSTART;TZID=America/New_York:20240327T190000
DTEND;TZID=America/New_York:20240327T210000
DTSTAMP:20260422T070700
CREATED:20240201T172230Z
LAST-MODIFIED:20240201T172230Z
UID:10010778-1711566000-1711573200@gridphilly.com
SUMMARY:Sewing for Beginners! Sewing Machine Basics.
DESCRIPTION:No supplies necessary! This hands on\, one on one class will teach you how to work a sewing machine like a pro. & Leave with a handmade tote!
URL:https://gridphilly.com/event/sewing-for-beginners-sewing-machine-basics-9/
LOCATION:319 N 11th St\, 319 North 11th Street\, Philadelphia\, PA\, 19107\, United States
ATTACH;FMTTYPE=image/jpeg:https://gridphilly.com/wp-content/uploads/2023/09/6e89a2d6b5559a11af2934578605bb5d.jpg
END:VEVENT
BEGIN:VEVENT
DTSTART;TZID=America/New_York:20240321T190000
DTEND;TZID=America/New_York:20240321T210000
DTSTAMP:20260422T070700
CREATED:20240201T172230Z
LAST-MODIFIED:20240201T172230Z
UID:10010777-1711047600-1711054800@gridphilly.com
SUMMARY:Sewing for Beginners! Sewing Machine Basics.
DESCRIPTION:No supplies necessary! This hands on\, one on one class will teach you how to work a sewing machine like a pro. & Leave with a handmade tote!
URL:https://gridphilly.com/event/sewing-for-beginners-sewing-machine-basics-8/
LOCATION:319 N 11th St\, 319 North 11th Street\, Philadelphia\, PA\, 19107\, United States
ATTACH;FMTTYPE=image/jpeg:https://gridphilly.com/wp-content/uploads/2023/09/6e89a2d6b5559a11af2934578605bb5d.jpg
END:VEVENT
BEGIN:VEVENT
DTSTART;TZID=America/New_York:20240313T190000
DTEND;TZID=America/New_York:20240313T210000
DTSTAMP:20260422T070700
CREATED:20240201T172229Z
LAST-MODIFIED:20240201T172229Z
UID:10010776-1710356400-1710363600@gridphilly.com
SUMMARY:Sewing for Beginners! Sewing Machine Basics.
DESCRIPTION:No supplies necessary! This hands on\, one on one class will teach you how to work a sewing machine like a pro. & Leave with a handmade tote!
URL:https://gridphilly.com/event/sewing-for-beginners-sewing-machine-basics-7/
LOCATION:319 N 11th St\, 319 North 11th Street\, Philadelphia\, PA\, 19107\, United States
ATTACH;FMTTYPE=image/jpeg:https://gridphilly.com/wp-content/uploads/2023/09/6e89a2d6b5559a11af2934578605bb5d.jpg
END:VEVENT
BEGIN:VEVENT
DTSTART;TZID=America/New_York:20240304T190000
DTEND;TZID=America/New_York:20240304T210000
DTSTAMP:20260422T070700
CREATED:20240201T172229Z
LAST-MODIFIED:20240201T172229Z
UID:10010775-1709578800-1709586000@gridphilly.com
SUMMARY:Sewing for Beginners! Sewing Machine Basics.
DESCRIPTION:No supplies necessary! This hands on\, one on one class will teach you how to work a sewing machine like a pro. & Leave with a handmade tote!
URL:https://gridphilly.com/event/sewing-for-beginners-sewing-machine-basics-6/
LOCATION:319 N 11th St\, 319 North 11th Street\, Philadelphia\, PA\, 19107\, United States
ATTACH;FMTTYPE=image/jpeg:https://gridphilly.com/wp-content/uploads/2023/09/6e89a2d6b5559a11af2934578605bb5d.jpg
END:VEVENT
BEGIN:VEVENT
DTSTART;TZID=America/New_York:20240221T190000
DTEND;TZID=America/New_York:20240221T210000
DTSTAMP:20260422T070700
CREATED:20240201T172229Z
LAST-MODIFIED:20240201T172229Z
UID:10010774-1708542000-1708549200@gridphilly.com
SUMMARY:Sewing for Beginners! Sewing Machine Basics.
DESCRIPTION:No supplies necessary! This hands on\, one on one class will teach you how to work a sewing machine like a pro. & Leave with a handmade tote!
URL:https://gridphilly.com/event/sewing-for-beginners-sewing-machine-basics-5/
LOCATION:319 N 11th St\, 319 North 11th Street\, Philadelphia\, PA\, 19107\, United States
ATTACH;FMTTYPE=image/jpeg:https://gridphilly.com/wp-content/uploads/2023/09/6e89a2d6b5559a11af2934578605bb5d.jpg
END:VEVENT
BEGIN:VEVENT
DTSTART;TZID=America/New_York:20240209T190000
DTEND;TZID=America/New_York:20240209T210000
DTSTAMP:20260422T070700
CREATED:20240201T172229Z
LAST-MODIFIED:20240201T172229Z
UID:10010773-1707505200-1707512400@gridphilly.com
SUMMARY:Sewing for Beginners! Sewing Machine Basics.
DESCRIPTION:No supplies necessary! This hands on\, one on one class will teach you how to work a sewing machine like a pro. & Leave with a handmade tote!
URL:https://gridphilly.com/event/sewing-for-beginners-sewing-machine-basics-4/
LOCATION:319 N 11th St\, 319 North 11th Street\, Philadelphia\, PA\, 19107\, United States
ATTACH;FMTTYPE=image/jpeg:https://gridphilly.com/wp-content/uploads/2023/09/6e89a2d6b5559a11af2934578605bb5d.jpg
END:VEVENT
BEGIN:VEVENT
DTSTART;TZID=America/New_York:20240205T190000
DTEND;TZID=America/New_York:20240205T210000
DTSTAMP:20260422T070700
CREATED:20240201T172229Z
LAST-MODIFIED:20240201T172229Z
UID:10010772-1707159600-1707166800@gridphilly.com
SUMMARY:Sewing for Beginners! Sewing Machine Basics.
DESCRIPTION:No supplies necessary! This hands on\, one on one class will teach you how to work a sewing machine like a pro. & Leave with a handmade tote!
URL:https://gridphilly.com/event/sewing-for-beginners-sewing-machine-basics-3/
LOCATION:319 N 11th St\, 319 North 11th Street\, Philadelphia\, PA\, 19107\, United States
ATTACH;FMTTYPE=image/jpeg:https://gridphilly.com/wp-content/uploads/2023/09/6e89a2d6b5559a11af2934578605bb5d.jpg
END:VEVENT
BEGIN:VEVENT
DTSTART;TZID=America/New_York:20240201T190000
DTEND;TZID=America/New_York:20240201T210000
DTSTAMP:20260422T070700
CREATED:20240201T172228Z
LAST-MODIFIED:20240201T172228Z
UID:10010771-1706814000-1706821200@gridphilly.com
SUMMARY:Sewing for Beginners! Sewing Machine Basics.
DESCRIPTION:No supplies necessary! This hands on\, one on one class will teach you how to work a sewing machine like a pro. & Leave with a handmade tote!
URL:https://gridphilly.com/event/sewing-for-beginners-sewing-machine-basics-2/
LOCATION:319 N 11th St\, 319 North 11th Street\, Philadelphia\, PA\, 19107\, United States
ATTACH;FMTTYPE=image/jpeg:https://gridphilly.com/wp-content/uploads/2023/09/6e89a2d6b5559a11af2934578605bb5d.jpg
END:VEVENT
BEGIN:VEVENT
DTSTART;TZID=America/New_York:20230911T180000
DTEND;TZID=America/New_York:20230911T200000
DTSTAMP:20260422T070700
CREATED:20230905T193647Z
LAST-MODIFIED:20230905T193647Z
UID:10006738-1694455200-1694462400@gridphilly.com
SUMMARY:Sewing for Beginners! Sewing Machine Basics.
DESCRIPTION:No supplies necessary! This hands on\, one on one class will teach you how to work a sewing machine like a pro. & Leave with a handmade tote!\n\n\nSewing for Beginners! Sewing Machine Basics\nAre you interested in learning how to sew\, but don’t know where to start? Join us for Sewing for Beginners! Sewing Machine Basics. \nDuring this 2.5 hour workshop\, you will learn the basics of using a sewing machine\, including how to thread the machine\, wind a bobbin\, and sew basic stitches. We will also cover some essential sewing techniques and how to make your own tote bag! \nThis workshop is perfect for anyone who has never used a sewing machine before or who wants to refresh their skills. We’ll provide all the materials you need\, so just bring yourself and your enthusiasm for learning! \nDon’t miss out on this exciting opportunity to learn a new skill and meet other sewing enthusiasts. Register now to secure your spot! \nThis in-person workshop will take place  at 319 North 11th Street\, Philadelphia\, PA 19107.  \nIMPORTANT: Classes are held on the 3rd Floor. You will receive an email from the instructor about how to enter the building prior to your session  (there is a code).
URL:https://gridphilly.com/event/sewing-for-beginners-sewing-machine-basics/
LOCATION:319 N 11th St\, 319 North 11th Street\, Philadelphia\, PA\, 19107\, United States
ATTACH;FMTTYPE=image/jpeg:https://gridphilly.com/wp-content/uploads/2023/09/6e89a2d6b5559a11af2934578605bb5d.jpg
END:VEVENT
END:VCALENDAR