BEGIN:VCALENDAR
VERSION:2.0
PRODID:-//Grid Magazine - ECPv6.15.20//NONSGML v1.0//EN
CALSCALE:GREGORIAN
METHOD:PUBLISH
X-ORIGINAL-URL:https://gridphilly.com
X-WR-CALDESC:Events for Grid Magazine
REFRESH-INTERVAL;VALUE=DURATION:PT1H
X-Robots-Tag:noindex
X-PUBLISHED-TTL:PT1H
BEGIN:VTIMEZONE
TZID:America/New_York
BEGIN:DAYLIGHT
TZOFFSETFROM:-0500
TZOFFSETTO:-0400
TZNAME:EDT
DTSTART:20240310T070000
END:DAYLIGHT
BEGIN:STANDARD
TZOFFSETFROM:-0400
TZOFFSETTO:-0500
TZNAME:EST
DTSTART:20241103T060000
END:STANDARD
BEGIN:DAYLIGHT
TZOFFSETFROM:-0500
TZOFFSETTO:-0400
TZNAME:EDT
DTSTART:20250309T070000
END:DAYLIGHT
BEGIN:STANDARD
TZOFFSETFROM:-0400
TZOFFSETTO:-0500
TZNAME:EST
DTSTART:20251102T060000
END:STANDARD
BEGIN:DAYLIGHT
TZOFFSETFROM:-0500
TZOFFSETTO:-0400
TZNAME:EDT
DTSTART:20260308T070000
END:DAYLIGHT
BEGIN:STANDARD
TZOFFSETFROM:-0400
TZOFFSETTO:-0500
TZNAME:EST
DTSTART:20261101T060000
END:STANDARD
END:VTIMEZONE
BEGIN:VEVENT
DTSTART;TZID=America/New_York:20251220T200000
DTEND;TZID=America/New_York:20251220T233000
DTSTAMP:20260424T223712
CREATED:20251212T014334Z
LAST-MODIFIED:20251212T014334Z
UID:10027341-1766260800-1766273400@gridphilly.com
SUMMARY:A Very Thunderbird X-mas
DESCRIPTION:For the first time ever\, Thunderbird Salvage is hosting a quirky holiday party at their up and coming event space\, Thunderbird Hall. It will feature a little bit of everything that has made the funny little venue what it is today including live music\, pro-wrestling courtesy of labor of love\, karaoke\, crafting\, and of course\, a fabulous Photo Booth all night long. \nArrive early to get your take-home pictures with sleazy Kensington Santa (pets welcome!) plus a free cigarette for the road. Dress to impress as there will be an award for worst holiday attire and of course\, ugliest sweater. Plus if you bring a sweet treat to share you will receive $5 off admission! There will be plenty of other food and drinks\, and most importantly\, great company in all the freaks we’ve collected along the way. So join us in a new tradition and make this holiday season one that you won’t soon forget. \n_____________________________________ \nThunderbird Salvage Presents: A Very Thunderbird Xmas \nSaturday\, 12/20 \n8pm-midnight \n2856 Frankford Ave \n$15 | 21+
URL:https://gridphilly.com/event/a-very-thunderbird-x-mas/
LOCATION:Thunderbird Hall\, 2856 Frankford Ave\, Philadelphia\, 19134\, United States
CATEGORIES:21+,LGBTQIA+,Social
ATTACH;FMTTYPE=image/jpeg:https://gridphilly.com/wp-content/uploads/2025/12/POSTER2-scaled.jpeg
END:VEVENT
BEGIN:VEVENT
DTSTART;TZID=America/New_York:20251018T170000
DTEND;TZID=America/New_York:20251018T220000
DTSTAMP:20260424T223712
CREATED:20251008T170617Z
LAST-MODIFIED:20251008T170617Z
UID:10022951-1760806800-1760824800@gridphilly.com
SUMMARY:Labor of Love x Thunderbird Hall Present Mischief Night Mayhem 4: Grave Consequences
DESCRIPTION:Get ready for a spooky night you’ll never forget from the crossover collab you didn’t know you needed. Thunderbird Salvage x Labor of Love present Mischief Night Mayhem 4: Grave Consequences. Held at up-and-coming event space Thunderbird Hall\, festivities begin as the sun sets with a nighttime market featuring local vendors\, plenty of food\, and drinks to keep spirits high all night long. Bring your outdoor voices for the main event\, pro wrestling! Watch your local hero’s battle out long time rivalries\, and witness moves you’ve never seen before by new faces from all around the world. If that’s not enough\, there will also be a live music performance by The Ergs\, a costume contest with $100 cash prize\, and much more. Consider your Halloween plans solidified. This event sells out every year so get your tickets here while you can!
URL:https://gridphilly.com/event/labor-of-love-x-thunderbird-hall-present-mischief-night-mayhem-4-grave-consequences/
LOCATION:Thunderbird Hall\, 2856 Frankford Ave\, Philadelphia\, 19134\, United States
CATEGORIES:Arts & Performance,Block Party,Community Events,Concert,Events,Festival,Food & Drink,LGBTQIA+,Outdoor Event
ATTACH;FMTTYPE=image/png:https://gridphilly.com/wp-content/uploads/2025/10/wrestling-banner.png
END:VEVENT
END:VCALENDAR