BEGIN:VCALENDAR
VERSION:2.0
PRODID:-//Grid Magazine - ECPv6.15.20//NONSGML v1.0//EN
CALSCALE:GREGORIAN
METHOD:PUBLISH
X-ORIGINAL-URL:https://gridphilly.com
X-WR-CALDESC:Events for Grid Magazine
REFRESH-INTERVAL;VALUE=DURATION:PT1H
X-Robots-Tag:noindex
X-PUBLISHED-TTL:PT1H
BEGIN:VTIMEZONE
TZID:America/New_York
BEGIN:DAYLIGHT
TZOFFSETFROM:-0500
TZOFFSETTO:-0400
TZNAME:EDT
DTSTART:20230312T070000
END:DAYLIGHT
BEGIN:STANDARD
TZOFFSETFROM:-0400
TZOFFSETTO:-0500
TZNAME:EST
DTSTART:20231105T060000
END:STANDARD
BEGIN:DAYLIGHT
TZOFFSETFROM:-0500
TZOFFSETTO:-0400
TZNAME:EDT
DTSTART:20240310T070000
END:DAYLIGHT
BEGIN:STANDARD
TZOFFSETFROM:-0400
TZOFFSETTO:-0500
TZNAME:EST
DTSTART:20241103T060000
END:STANDARD
BEGIN:DAYLIGHT
TZOFFSETFROM:-0500
TZOFFSETTO:-0400
TZNAME:EDT
DTSTART:20250309T070000
END:DAYLIGHT
BEGIN:STANDARD
TZOFFSETFROM:-0400
TZOFFSETTO:-0500
TZNAME:EST
DTSTART:20251102T060000
END:STANDARD
END:VTIMEZONE
BEGIN:VEVENT
DTSTART;TZID=America/New_York:20241212T083000
DTEND;TZID=America/New_York:20241212T103000
DTSTAMP:20260421T092216
CREATED:20241206T204051Z
LAST-MODIFIED:20241206T204051Z
UID:10015989-1733992200-1733999400@gridphilly.com
SUMMARY:Philly Waldorf Admissions Classroom Observation
DESCRIPTION:Come see our classes in action! We’ll take you on a journey through our programming from pre-k to eighth grade. We’ll talk about the Waldorf philosophy\, our unique curriculum\, and anything else that you may be curious about. \nObservation Mornings are adults only – thank you for understanding.
URL:https://gridphilly.com/event/philly-waldorf-admissions-classroom-observation/
LOCATION:The Waldorf School of Philadelphia\, 6000 Wayne Avenue\, Philadelphia\, PA\, 19144\, United States
ATTACH;FMTTYPE=image/png:https://gridphilly.com/wp-content/uploads/2024/12/Screen-Shot-2024-12-06-at-3.39.07-PM.png
END:VEVENT
BEGIN:VEVENT
DTSTART;TZID=America/New_York:20241210T190000
DTEND;TZID=America/New_York:20241210T200000
DTSTAMP:20260421T092216
CREATED:20241206T203727Z
LAST-MODIFIED:20241206T203727Z
UID:10015988-1733857200-1733860800@gridphilly.com
SUMMARY:Philly Waldorf Alumni Panel
DESCRIPTION:Bring your questions and join us for a conversation with our graduates about their Waldorf experiences. We’ll be exploring how the Waldorf curriculum\, community and environment impacted our talented alumni\, and helped to shape their lives beyond Philly Waldorf. \nAt the Waldorf School of Philadelphia\, we provide the right learning experiences at the right time. We are a Preschool through Eighth Grade school\, located in the historic Germantown neighborhood of Philadelphia.
URL:https://gridphilly.com/event/philly-waldorf-alumni-panel/
LOCATION:Online
ATTACH;FMTTYPE=image/png:https://gridphilly.com/wp-content/uploads/2024/12/PhillyWaldorf.png
END:VEVENT
END:VCALENDAR