BEGIN:VCALENDAR
VERSION:2.0
PRODID:-//Grid Magazine - ECPv6.15.20//NONSGML v1.0//EN
CALSCALE:GREGORIAN
METHOD:PUBLISH
X-ORIGINAL-URL:https://gridphilly.com
X-WR-CALDESC:Events for Grid Magazine
REFRESH-INTERVAL;VALUE=DURATION:PT1H
X-Robots-Tag:noindex
X-PUBLISHED-TTL:PT1H
BEGIN:VTIMEZONE
TZID:America/New_York
BEGIN:DAYLIGHT
TZOFFSETFROM:-0500
TZOFFSETTO:-0400
TZNAME:EDT
DTSTART:20230312T070000
END:DAYLIGHT
BEGIN:STANDARD
TZOFFSETFROM:-0400
TZOFFSETTO:-0500
TZNAME:EST
DTSTART:20231105T060000
END:STANDARD
BEGIN:DAYLIGHT
TZOFFSETFROM:-0500
TZOFFSETTO:-0400
TZNAME:EDT
DTSTART:20240310T070000
END:DAYLIGHT
BEGIN:STANDARD
TZOFFSETFROM:-0400
TZOFFSETTO:-0500
TZNAME:EST
DTSTART:20241103T060000
END:STANDARD
BEGIN:DAYLIGHT
TZOFFSETFROM:-0500
TZOFFSETTO:-0400
TZNAME:EDT
DTSTART:20250309T070000
END:DAYLIGHT
BEGIN:STANDARD
TZOFFSETFROM:-0400
TZOFFSETTO:-0500
TZNAME:EST
DTSTART:20251102T060000
END:STANDARD
END:VTIMEZONE
BEGIN:VEVENT
DTSTART;TZID=America/New_York:20241013T160000
DTEND;TZID=America/New_York:20241013T180000
DTSTAMP:20260421T141339
CREATED:20240930T161126Z
LAST-MODIFIED:20240930T161126Z
UID:10014849-1728835200-1728842400@gridphilly.com
SUMMARY:Nature Walk
DESCRIPTION:Join us at Great Marsh Institute on Sunday\, October 13th at 4pm for a Nature Walk with PA Master Naturalist\, Diana Cormack.\, We will explore the woods\, meadows\, and wetlands of the Great Marsh This will be a late afternoon walk. We can see if we can find rabbits or evidence of other animals in the marsh. RSVP to lori@greatmarshinstitute.org to attend.
URL:https://gridphilly.com/event/nature-walk/
LOCATION:Great Marsh Institute\, 34 Moores Road\,\,\, Elverson\, 19520\, United States
ATTACH;FMTTYPE=image/jpeg:https://gridphilly.com/wp-content/uploads/2024/09/IMG_0551-scaled.jpg
ORGANIZER;CN="The Great Marsh Institute":MAILTO:info@greatmarshinstitute.org
END:VEVENT
END:VCALENDAR