BEGIN:VCALENDAR
VERSION:2.0
PRODID:-//Grid Magazine - ECPv6.15.20//NONSGML v1.0//EN
CALSCALE:GREGORIAN
METHOD:PUBLISH
X-ORIGINAL-URL:https://gridphilly.com
X-WR-CALDESC:Events for Grid Magazine
REFRESH-INTERVAL;VALUE=DURATION:PT1H
X-Robots-Tag:noindex
X-PUBLISHED-TTL:PT1H
BEGIN:VTIMEZONE
TZID:America/New_York
BEGIN:DAYLIGHT
TZOFFSETFROM:-0500
TZOFFSETTO:-0400
TZNAME:EDT
DTSTART:20240310T070000
END:DAYLIGHT
BEGIN:STANDARD
TZOFFSETFROM:-0400
TZOFFSETTO:-0500
TZNAME:EST
DTSTART:20241103T060000
END:STANDARD
BEGIN:DAYLIGHT
TZOFFSETFROM:-0500
TZOFFSETTO:-0400
TZNAME:EDT
DTSTART:20250309T070000
END:DAYLIGHT
BEGIN:STANDARD
TZOFFSETFROM:-0400
TZOFFSETTO:-0500
TZNAME:EST
DTSTART:20251102T060000
END:STANDARD
BEGIN:DAYLIGHT
TZOFFSETFROM:-0500
TZOFFSETTO:-0400
TZNAME:EDT
DTSTART:20260308T070000
END:DAYLIGHT
BEGIN:STANDARD
TZOFFSETFROM:-0400
TZOFFSETTO:-0500
TZNAME:EST
DTSTART:20261101T060000
END:STANDARD
END:VTIMEZONE
BEGIN:VEVENT
DTSTART;TZID=America/New_York:20251112T173000
DTEND;TZID=America/New_York:20251112T193000
DTSTAMP:20260421T045823
CREATED:20251021T184716Z
LAST-MODIFIED:20251021T184716Z
UID:10023573-1762968600-1762975800@gridphilly.com
SUMMARY:Toast to the Circuit Trails
DESCRIPTION:Join us at Cherry St. Pier for food\, drinks\, and group trail outings #OnTheCircuit\n\n\nCelebrating the Circuit Trails\nJoin us at Cherry St. Pier as we mark a monumental milestone for the Circuit Trails network! This isn’t just a celebration; it’s a chance to honor the communities\, stories\, and moments that make the Circuit Trails so special. \nEnjoy light bites\, mingle with fellow trail users\, and raise a toast to the trails with (2) complimentary drink tickets when you register. \nLeading up to and following the celebration\, join us #OnTheCircuit for group walks\, runs\, and rides on the Delaware River Trail. If you’d like to participate in one of those group trail outings\, when registering\, please select the free “add-on” activity. \nLet’s celebrate the trails\, the people who use them\, and the impact they create—stronger connections\, healthier communities\, safer transportation\, and economic growth. \nWe’re also reflecting on all the biking\, walking\, exploring\, connecting and celebrating that have fueled so many incredible moments #OnTheCircuit. We’re collecting 500 Moments\, and we want your voice to be part of it! Whether you’ve enjoyed a sunny walk\, a long ride\, a peaceful moment or a community event\, we’d love to hear it. Share your moment >> https://forms.gle/uBSsjYhbRL29dgRK6 \nHosted by the Circuit Trails Coalition with Rails to Trails Conservancy and PEC \nGetting to Cherry St. Pier\nSee travel details including public transportation routes here: https://www.cherrystreetpier.com/getting-here/. \nCherry Street Pier accommodates bike parking\, with bike racks located adjacent to the Pier. The multi-modal Delaware River Trail makes it easier for riders\, walkers\, and joggers to access the Pier. \nWe will have a bike valet option for the event for riders to safely secure their bikes while they enjoy the event. \nThe parking fee for DRWC-owned lots (Market and Lombard Street) is a flat rate of $20 per day. Parking lots accept cash or credit cards. Please note that parking rates are subject to change.
URL:https://gridphilly.com/event/toast-to-the-circuit-trails/
LOCATION:Cherry Street Pier\, 121 North Christopher Columbus Boulevard\, Philadelphia\, PA\, 19106\, United States
ATTACH;FMTTYPE=image/jpeg:https://gridphilly.com/wp-content/uploads/2025/10/6aefc83f4896c8a5aaddd853826435c8.jpg
END:VEVENT
END:VCALENDAR