BEGIN:VCALENDAR
VERSION:2.0
PRODID:-//Grid Magazine - ECPv6.15.20//NONSGML v1.0//EN
CALSCALE:GREGORIAN
METHOD:PUBLISH
X-WR-CALNAME:Grid Magazine
X-ORIGINAL-URL:https://gridphilly.com
X-WR-CALDESC:Events for Grid Magazine
REFRESH-INTERVAL;VALUE=DURATION:PT1H
X-Robots-Tag:noindex
X-PUBLISHED-TTL:PT1H
BEGIN:VTIMEZONE
TZID:America/New_York
BEGIN:DAYLIGHT
TZOFFSETFROM:-0500
TZOFFSETTO:-0400
TZNAME:EDT
DTSTART:20250309T070000
END:DAYLIGHT
BEGIN:STANDARD
TZOFFSETFROM:-0400
TZOFFSETTO:-0500
TZNAME:EST
DTSTART:20251102T060000
END:STANDARD
BEGIN:DAYLIGHT
TZOFFSETFROM:-0500
TZOFFSETTO:-0400
TZNAME:EDT
DTSTART:20260308T070000
END:DAYLIGHT
BEGIN:STANDARD
TZOFFSETFROM:-0400
TZOFFSETTO:-0500
TZNAME:EST
DTSTART:20261101T060000
END:STANDARD
BEGIN:DAYLIGHT
TZOFFSETFROM:-0500
TZOFFSETTO:-0400
TZNAME:EDT
DTSTART:20270314T070000
END:DAYLIGHT
BEGIN:STANDARD
TZOFFSETFROM:-0400
TZOFFSETTO:-0500
TZNAME:EST
DTSTART:20271107T060000
END:STANDARD
END:VTIMEZONE
BEGIN:VEVENT
DTSTART;TZID=America/New_York:20260226T160000
DTEND;TZID=America/New_York:20260226T190000
DTSTAMP:20260425T161034
CREATED:20260215T160154Z
LAST-MODIFIED:20260215T160547Z
UID:10029003-1772121600-1772132400@gridphilly.com
SUMMARY:Embrace the Legacy at the African American Museum in Philadelphia
DESCRIPTION:This is an exclusive opportunity to receive a guided tour of the exhibition.\nMembership to the Museum is included in the ticket price\n\n\nCelebrate Black History Month with a reception and an exclusive opportunity to take a guided tour through the African American Museum in Philadelphia’s fascinating exhibition Ruth E. Carter: Afrofuturism in Costume Design. Read More. \nTo support the Museum’s efforts to preserve our legacy\, each ticket purchase includes a 1-year Dual Membership. (Unlimited visits for 2 guests. Discounted tickets for 2 guests.)
URL:https://gridphilly.com/event/embrace-the-legacy-at-the-african-american-museum-in-philadelphia/
LOCATION:African American Museum in Philadelphia\, 701 Arch Street\, Philadelphia\, PA\, 19106\, United States
ATTACH;FMTTYPE=image/jpeg:https://gridphilly.com/wp-content/uploads/2026/02/bca04973999f8a265af405395cab58ed.jpg
END:VEVENT
END:VCALENDAR