BEGIN:VCALENDAR
VERSION:2.0
PRODID:-//Grid Magazine - ECPv6.15.20//NONSGML v1.0//EN
CALSCALE:GREGORIAN
METHOD:PUBLISH
X-ORIGINAL-URL:https://gridphilly.com
X-WR-CALDESC:Events for Grid Magazine
REFRESH-INTERVAL;VALUE=DURATION:PT1H
X-Robots-Tag:noindex
X-PUBLISHED-TTL:PT1H
BEGIN:VTIMEZONE
TZID:America/New_York
BEGIN:DAYLIGHT
TZOFFSETFROM:-0500
TZOFFSETTO:-0400
TZNAME:EDT
DTSTART:20250309T070000
END:DAYLIGHT
BEGIN:STANDARD
TZOFFSETFROM:-0400
TZOFFSETTO:-0500
TZNAME:EST
DTSTART:20251102T060000
END:STANDARD
BEGIN:DAYLIGHT
TZOFFSETFROM:-0500
TZOFFSETTO:-0400
TZNAME:EDT
DTSTART:20260308T070000
END:DAYLIGHT
BEGIN:STANDARD
TZOFFSETFROM:-0400
TZOFFSETTO:-0500
TZNAME:EST
DTSTART:20261101T060000
END:STANDARD
BEGIN:DAYLIGHT
TZOFFSETFROM:-0500
TZOFFSETTO:-0400
TZNAME:EDT
DTSTART:20270314T070000
END:DAYLIGHT
BEGIN:STANDARD
TZOFFSETFROM:-0400
TZOFFSETTO:-0500
TZNAME:EST
DTSTART:20271107T060000
END:STANDARD
END:VTIMEZONE
BEGIN:VEVENT
DTSTART;TZID=America/New_York:20260421T180000
DTEND;TZID=America/New_York:20260421T200000
DTSTAMP:20260419T160604
CREATED:20260419T023644Z
LAST-MODIFIED:20260419T023644Z
UID:10032422-1776794400-1776801600@gridphilly.com
SUMMARY:Community Celebrity Teacher
DESCRIPTION:Join us for the Community Celebrity Teacher event—where local stars share fun lessons face-to-face!\n\n\nCommunity Celebrity Teacher\nJoin us for an  in-person event where Local Community Stars Step into the classroom!  \nWho Will be Next? \nIt’s all about fun\, learning\, and getting to know your favorite celebs as they share their skills and stories. Don’t miss out on this unique chance to connect and be inspired in a super chill environment. Whether you’re a fan or just curious\, come hang out and enjoy a day filled with energy and good vibes!
URL:https://gridphilly.com/event/community-celebrity-teacher/
LOCATION:Tacony LAB Community Arts Center\, 6918 Torresdale Avenue\, Philadelphia\, PA\, 19135\, United States
ATTACH;FMTTYPE=image/jpeg:https://gridphilly.com/wp-content/uploads/2026/04/fb2f384a28a17d4ef19a4df36364d94d.jpg
END:VEVENT
END:VCALENDAR