BEGIN:VCALENDAR
VERSION:2.0
PRODID:-//Grid Magazine - ECPv6.15.20//NONSGML v1.0//EN
CALSCALE:GREGORIAN
METHOD:PUBLISH
X-WR-CALNAME:Grid Magazine
X-ORIGINAL-URL:https://gridphilly.com
X-WR-CALDESC:Events for Grid Magazine
REFRESH-INTERVAL;VALUE=DURATION:PT1H
X-Robots-Tag:noindex
X-PUBLISHED-TTL:PT1H
BEGIN:VTIMEZONE
TZID:America/New_York
BEGIN:DAYLIGHT
TZOFFSETFROM:-0500
TZOFFSETTO:-0400
TZNAME:EDT
DTSTART:20250309T070000
END:DAYLIGHT
BEGIN:STANDARD
TZOFFSETFROM:-0400
TZOFFSETTO:-0500
TZNAME:EST
DTSTART:20251102T060000
END:STANDARD
BEGIN:DAYLIGHT
TZOFFSETFROM:-0500
TZOFFSETTO:-0400
TZNAME:EDT
DTSTART:20260308T070000
END:DAYLIGHT
BEGIN:STANDARD
TZOFFSETFROM:-0400
TZOFFSETTO:-0500
TZNAME:EST
DTSTART:20261101T060000
END:STANDARD
BEGIN:DAYLIGHT
TZOFFSETFROM:-0500
TZOFFSETTO:-0400
TZNAME:EDT
DTSTART:20270314T070000
END:DAYLIGHT
BEGIN:STANDARD
TZOFFSETFROM:-0400
TZOFFSETTO:-0500
TZNAME:EST
DTSTART:20271107T060000
END:STANDARD
END:VTIMEZONE
BEGIN:VEVENT
DTSTART;TZID=America/New_York:20260328T193000
DTEND;TZID=America/New_York:20260328T210000
DTSTAMP:20260425T211002
CREATED:20260325T214914Z
LAST-MODIFIED:20260325T214914Z
UID:10030406-1774726200-1774731600@gridphilly.com
SUMMARY:Anandibai: A Night of Music for a Philadelphia Icon
DESCRIPTION:An evening of new music inspired by Anandibai Joshee\, a Philadelphia icon and the first South Asian woman physician! \nJoin us for a powerful evening of music and storytelling inspired by Anandibai Joshee—a trailblazing Philadelphia icon and the first South Asian woman to become a physician. \nFeaturing new music and performances by Devi Majeske\, Pan V\, Maya Keren\, Anju\, and Dwight Dunston aka Duns. \nIn 1883\, at a time when it was rare for women to learn to read and write\, much less attend university\, Anandibai traveled from India to Philadelphia by herself at the age of 18 to study at the Woman’s Medical College of Pennsylvania. \nAnandibai’s extraordinary life\, resilience\, defiance of societal limitations\, and commitment to serving others make her a true Philadelphia icon. \nCelebrate America 250 with a story you won’t hear anywhere else!
URL:https://gridphilly.com/event/anandibai-a-night-of-music-for-a-philadelphia-icon/
LOCATION:Christ Church Neighborhood House Theatre\, 20 N American Street\, Philadelphia\, PA\, 19106\, United States
ATTACH;FMTTYPE=image/png:https://gridphilly.com/wp-content/uploads/2026/03/anandbhai.png
END:VEVENT
END:VCALENDAR