BEGIN:VCALENDAR
VERSION:2.0
PRODID:-//Grid Magazine - ECPv6.15.20//NONSGML v1.0//EN
CALSCALE:GREGORIAN
METHOD:PUBLISH
X-WR-CALNAME:Grid Magazine
X-ORIGINAL-URL:https://gridphilly.com
X-WR-CALDESC:Events for Grid Magazine
REFRESH-INTERVAL;VALUE=DURATION:PT1H
X-Robots-Tag:noindex
X-PUBLISHED-TTL:PT1H
BEGIN:VTIMEZONE
TZID:America/New_York
BEGIN:DAYLIGHT
TZOFFSETFROM:-0500
TZOFFSETTO:-0400
TZNAME:EDT
DTSTART:20240310T070000
END:DAYLIGHT
BEGIN:STANDARD
TZOFFSETFROM:-0400
TZOFFSETTO:-0500
TZNAME:EST
DTSTART:20241103T060000
END:STANDARD
BEGIN:DAYLIGHT
TZOFFSETFROM:-0500
TZOFFSETTO:-0400
TZNAME:EDT
DTSTART:20250309T070000
END:DAYLIGHT
BEGIN:STANDARD
TZOFFSETFROM:-0400
TZOFFSETTO:-0500
TZNAME:EST
DTSTART:20251102T060000
END:STANDARD
BEGIN:DAYLIGHT
TZOFFSETFROM:-0500
TZOFFSETTO:-0400
TZNAME:EDT
DTSTART:20260308T070000
END:DAYLIGHT
BEGIN:STANDARD
TZOFFSETFROM:-0400
TZOFFSETTO:-0500
TZNAME:EST
DTSTART:20261101T060000
END:STANDARD
END:VTIMEZONE
BEGIN:VEVENT
DTSTART;TZID=America/New_York:20251018T160000
DTEND;TZID=America/New_York:20251018T210000
DTSTAMP:20260424T224303
CREATED:20250818T142125Z
LAST-MODIFIED:20251008T173302Z
UID:10020578-1760803200-1760821200@gridphilly.com
SUMMARY:Annual Harvest Dinner @ Reinhard Street
DESCRIPTION:Join Reinhard Street Community Farm & Kitchen for our annual harvest dinner block party!\n\n\nWelcome to Reinhard Street Community Farm & Kitchen’s Annual Harvest Dinner! Join us for a delightful evening filled with delicious dishes prepared by community members and a short documentary screening featuring farm stewards and neighbors. \nArrive early to explore our plots\, see what we are growing\, and learn how to get involved in our work to increase access to nutritious food in Southwest Philadelphia. Enjoy music performed by musician Black Buttafly\,  while experiencing an array of cuisines cooked by our community members who use ingredients grown right here at the farm. \nStay for an important land justice conversation led by a panel of local community members and growers in Southwest Philadelphia. \nAfter sunset\, we will have a fine-cut screening of The Seeds We Carry\, a short documentary directed by our media artist-in-residence\, Gabrielle Patterson. The film depicts intimate portraits of some of our community farm stewards who find home\, belonging\, and cross-cultural connections as they grow\, cook\, and share food here in Southwest Philadelphia. \nBring your family\, friends\, and neighbors for a night you don’t want to miss. We’ll see you there! \n——— \nIf you are interested in vending or sponsoring this event\, please contact us at info@reinhardstreet.org. \n——— \nThis is a FREE event! But donations are appreciated. \nThis Eventbrite will be updated closer to the event date\, so look out for updates. \nPhotos by Peach Plum Pear Photo and Jose Mazariegos.
URL:https://gridphilly.com/event/annual-harvest-dinner-reinhard-street/
LOCATION:Reinhard Street Community Farm\, 6171 Reinhard Street\, Philadelphia\, PA\, 19142\, United States
ATTACH;FMTTYPE=image/jpeg:https://gridphilly.com/wp-content/uploads/2025/08/e0cfadea51a69f5092f4e223447ec948.jpg
END:VEVENT
END:VCALENDAR