BEGIN:VCALENDAR
VERSION:2.0
PRODID:-//Grid Magazine - ECPv6.15.20//NONSGML v1.0//EN
CALSCALE:GREGORIAN
METHOD:PUBLISH
X-WR-CALNAME:Grid Magazine
X-ORIGINAL-URL:https://gridphilly.com
X-WR-CALDESC:Events for Grid Magazine
REFRESH-INTERVAL;VALUE=DURATION:PT1H
X-Robots-Tag:noindex
X-PUBLISHED-TTL:PT1H
BEGIN:VTIMEZONE
TZID:America/New_York
BEGIN:DAYLIGHT
TZOFFSETFROM:-0500
TZOFFSETTO:-0400
TZNAME:EDT
DTSTART:20250309T070000
END:DAYLIGHT
BEGIN:STANDARD
TZOFFSETFROM:-0400
TZOFFSETTO:-0500
TZNAME:EST
DTSTART:20251102T060000
END:STANDARD
BEGIN:DAYLIGHT
TZOFFSETFROM:-0500
TZOFFSETTO:-0400
TZNAME:EDT
DTSTART:20260308T070000
END:DAYLIGHT
BEGIN:STANDARD
TZOFFSETFROM:-0400
TZOFFSETTO:-0500
TZNAME:EST
DTSTART:20261101T060000
END:STANDARD
BEGIN:DAYLIGHT
TZOFFSETFROM:-0500
TZOFFSETTO:-0400
TZNAME:EDT
DTSTART:20270314T070000
END:DAYLIGHT
BEGIN:STANDARD
TZOFFSETFROM:-0400
TZOFFSETTO:-0500
TZNAME:EST
DTSTART:20271107T060000
END:STANDARD
END:VTIMEZONE
BEGIN:VEVENT
DTSTART;TZID=America/New_York:20260426T083000
DTEND;TZID=America/New_York:20260426T133000
DTSTAMP:20260419T160024
CREATED:20260419T022332Z
LAST-MODIFIED:20260419T022332Z
UID:10032414-1777192200-1777210200@gridphilly.com
SUMMARY:Embrace Your Power
DESCRIPTION:Get ready to unlock your inner strength and shine bright at Embrace Your Power—let’s do this together!\n\n\nEmbrace Your Power\nThis immersive\, trauma-informed healing experience is designed to support survivors of sexual violence and community members through gentle movement\, creative expression\, grounding activities\, and shared nourishment. The event emphasizes nervous system regulation\, choice\, emotional safety\, and connection in an intimate\, home-like setting. \nThis is not a traditional workshop — it is a guided wellness environment.
URL:https://gridphilly.com/event/embrace-your-power/
LOCATION:The Colored Girls Museum\, 4613 Newhall Street\, Philadelphia\, PA\, 19144\, United States
ATTACH;FMTTYPE=image/jpeg:https://gridphilly.com/wp-content/uploads/2026/04/7d47e1e90c61fd4104363c3b809f64c3.jpg
END:VEVENT
END:VCALENDAR