BEGIN:VCALENDAR
VERSION:2.0
PRODID:-//Grid Magazine - ECPv6.15.20//NONSGML v1.0//EN
CALSCALE:GREGORIAN
METHOD:PUBLISH
X-ORIGINAL-URL:https://gridphilly.com
X-WR-CALDESC:Events for Grid Magazine
REFRESH-INTERVAL;VALUE=DURATION:PT1H
X-Robots-Tag:noindex
X-PUBLISHED-TTL:PT1H
BEGIN:VTIMEZONE
TZID:America/New_York
BEGIN:DAYLIGHT
TZOFFSETFROM:-0500
TZOFFSETTO:-0400
TZNAME:EDT
DTSTART:20240310T070000
END:DAYLIGHT
BEGIN:STANDARD
TZOFFSETFROM:-0400
TZOFFSETTO:-0500
TZNAME:EST
DTSTART:20241103T060000
END:STANDARD
BEGIN:DAYLIGHT
TZOFFSETFROM:-0500
TZOFFSETTO:-0400
TZNAME:EDT
DTSTART:20250309T070000
END:DAYLIGHT
BEGIN:STANDARD
TZOFFSETFROM:-0400
TZOFFSETTO:-0500
TZNAME:EST
DTSTART:20251102T060000
END:STANDARD
BEGIN:DAYLIGHT
TZOFFSETFROM:-0500
TZOFFSETTO:-0400
TZNAME:EDT
DTSTART:20260308T070000
END:DAYLIGHT
BEGIN:STANDARD
TZOFFSETFROM:-0400
TZOFFSETTO:-0500
TZNAME:EST
DTSTART:20261101T060000
END:STANDARD
BEGIN:DAYLIGHT
TZOFFSETFROM:-0500
TZOFFSETTO:-0400
TZNAME:EDT
DTSTART:20270314T070000
END:DAYLIGHT
BEGIN:STANDARD
TZOFFSETFROM:-0400
TZOFFSETTO:-0500
TZNAME:EST
DTSTART:20271107T060000
END:STANDARD
END:VTIMEZONE
BEGIN:VEVENT
DTSTART;TZID=America/New_York:20260221T140000
DTEND;TZID=America/New_York:20260221T150000
DTSTAMP:20260424T182014
CREATED:20260211T233104Z
LAST-MODIFIED:20260211T233200Z
UID:10028942-1771682400-1771686000@gridphilly.com
SUMMARY:Seed Starting Lecture
DESCRIPTION:Gain confidence in your seed starting skills and set the foundation for a successful garden. Join us for an engaging & informative session.\n\n\nThis event will take place in our barn.
URL:https://gridphilly.com/event/seed-starting-lecture/
LOCATION:Primex Garden Center\, 435 West Glenside Avenue\, Glenside\, PA\, 19038\, United States
ATTACH;FMTTYPE=image/jpeg:https://gridphilly.com/wp-content/uploads/2026/02/484257587808b55c3685ac6eabefd610.jpg
GEO:40.103645;-75.160326
X-APPLE-STRUCTURED-LOCATION;VALUE=URI;X-ADDRESS=Primex Garden Center 435 West Glenside Avenue Glenside PA 19038 United States;X-APPLE-RADIUS=500;X-TITLE=435 West Glenside Avenue:geo:-75.160326,40.103645
END:VEVENT
BEGIN:VEVENT
DTSTART;TZID=America/New_York:20260221T110000
DTEND;TZID=America/New_York:20260221T120000
DTSTAMP:20260424T182014
CREATED:20260211T233137Z
LAST-MODIFIED:20260211T233202Z
UID:10028943-1771671600-1771675200@gridphilly.com
SUMMARY:Fruit Trees Lecture
DESCRIPTION:Join Mikhail to learn how to care for your home orchard including planting\, pruning\, pest & disease control.\n\n\nThis lecture will take place in our barn & nursery.
URL:https://gridphilly.com/event/fruit-trees-lecture-2/
LOCATION:Primex Garden Center\, 435 West Glenside Avenue\, Glenside\, PA\, 19038\, United States
ATTACH;FMTTYPE=image/jpeg:https://gridphilly.com/wp-content/uploads/2026/02/c9f8ab099c06bc76108dcfb6c5ba6d6a.jpg
GEO:40.103645;-75.160326
X-APPLE-STRUCTURED-LOCATION;VALUE=URI;X-ADDRESS=Primex Garden Center 435 West Glenside Avenue Glenside PA 19038 United States;X-APPLE-RADIUS=500;X-TITLE=435 West Glenside Avenue:geo:-75.160326,40.103645
END:VEVENT
BEGIN:VEVENT
DTSTART;TZID=America/New_York:20260117T110000
DTEND;TZID=America/New_York:20260117T120000
DTSTAMP:20260424T182014
CREATED:20260104T233443Z
LAST-MODIFIED:20260104T233443Z
UID:10028026-1768647600-1768651200@gridphilly.com
SUMMARY:DIY Ikebana
DESCRIPTION:Join us for a serene & creative journey into the art of Ikebana\, the traditional Japanese practice of flower arranging. BYO dish & scissors.\n\n\nThis workshop will take place in our barn.
URL:https://gridphilly.com/event/diy-ikebana/
LOCATION:Primex Garden Center\, 435 West Glenside Avenue\, Glenside\, PA\, 19038\, United States
ATTACH;FMTTYPE=image/jpeg:https://gridphilly.com/wp-content/uploads/2026/01/aca395625e8b8c3a970a5caeddc82d74.jpg
GEO:40.103645;-75.160326
X-APPLE-STRUCTURED-LOCATION;VALUE=URI;X-ADDRESS=Primex Garden Center 435 West Glenside Avenue Glenside PA 19038 United States;X-APPLE-RADIUS=500;X-TITLE=435 West Glenside Avenue:geo:-75.160326,40.103645
END:VEVENT
BEGIN:VEVENT
DTSTART;TZID=America/New_York:20260110T110000
DTEND;TZID=America/New_York:20260110T120000
DTSTAMP:20260424T182014
CREATED:20251226T135342Z
LAST-MODIFIED:20251226T140138Z
UID:10027739-1768042800-1768046400@gridphilly.com
SUMMARY:DIY Kokedama
DESCRIPTION:Join Primex staff and learn the art of Japanese hanging-string gardens. These moss-covered plant spheres make wonderful home decor!\n\n\nThis event will take place in our barn.
URL:https://gridphilly.com/event/diy-kokedama/
LOCATION:Primex Garden Center\, 435 West Glenside Avenue\, Glenside\, PA\, 19038\, United States
ATTACH;FMTTYPE=image/jpeg:https://gridphilly.com/wp-content/uploads/2025/12/9a2705d1b65c33c8a50e355c37fded4b.jpg
GEO:40.103645;-75.160326
X-APPLE-STRUCTURED-LOCATION;VALUE=URI;X-ADDRESS=Primex Garden Center 435 West Glenside Avenue Glenside PA 19038 United States;X-APPLE-RADIUS=500;X-TITLE=435 West Glenside Avenue:geo:-75.160326,40.103645
END:VEVENT
BEGIN:VEVENT
DTSTART;TZID=America/New_York:20251221T140000
DTEND;TZID=America/New_York:20251221T150000
DTSTAMP:20260424T182014
CREATED:20251218T141319Z
LAST-MODIFIED:20251218T141319Z
UID:10027513-1766325600-1766329200@gridphilly.com
SUMMARY:Holiday Centerpiece
DESCRIPTION:We will guide you in the basics of floral design and share tips for creating natural arrangements with holiday greens\, flowers\, and berries.\n\n\nThis workshop will take place in the barn.
URL:https://gridphilly.com/event/holiday-centerpiece-2/
LOCATION:Primex Garden Center\, 435 West Glenside Avenue\, Glenside\, PA\, 19038\, United States
ATTACH;FMTTYPE=image/jpeg:https://gridphilly.com/wp-content/uploads/2025/12/805378d65f60b8ba2630c240251f0992.jpg
GEO:40.103645;-75.160326
X-APPLE-STRUCTURED-LOCATION;VALUE=URI;X-ADDRESS=Primex Garden Center 435 West Glenside Avenue Glenside PA 19038 United States;X-APPLE-RADIUS=500;X-TITLE=435 West Glenside Avenue:geo:-75.160326,40.103645
END:VEVENT
BEGIN:VEVENT
DTSTART;TZID=America/New_York:20251221T110000
DTEND;TZID=America/New_York:20251221T120000
DTSTAMP:20260424T182014
CREATED:20251215T193809Z
LAST-MODIFIED:20251215T193809Z
UID:10027378-1766314800-1766318400@gridphilly.com
SUMMARY:Holiday Centerpiece
DESCRIPTION:We will guide you in the basics of floral design and share tips for creating natural arrangements with holiday greens\, flowers\, and berries.\n\n\nThis workshop will take place in the barn.
URL:https://gridphilly.com/event/holiday-centerpiece/
LOCATION:Primex Garden Center\, 435 West Glenside Avenue\, Glenside\, PA\, 19038\, United States
ATTACH;FMTTYPE=image/jpeg:https://gridphilly.com/wp-content/uploads/2025/12/805378d65f60b8ba2630c240251f0992.jpg
GEO:40.103645;-75.160326
X-APPLE-STRUCTURED-LOCATION;VALUE=URI;X-ADDRESS=Primex Garden Center 435 West Glenside Avenue Glenside PA 19038 United States;X-APPLE-RADIUS=500;X-TITLE=435 West Glenside Avenue:geo:-75.160326,40.103645
END:VEVENT
BEGIN:VEVENT
DTSTART;TZID=America/New_York:20251214T110000
DTEND;TZID=America/New_York:20251214T120000
DTSTAMP:20260424T182014
CREATED:20251208T015010Z
LAST-MODIFIED:20251208T015010Z
UID:10025419-1765710000-1765713600@gridphilly.com
SUMMARY:Spruce & Spark
DESCRIPTION:You’ll learn how to transform dried\, seasonal plant materials into elegant table adornments that capture the essence of the season.\n\n\nThis event will take place in the barn.
URL:https://gridphilly.com/event/spruce-spark/
LOCATION:Primex Garden Center\, 435 West Glenside Avenue\, Glenside\, PA\, 19038\, United States
ATTACH;FMTTYPE=image/jpeg:https://gridphilly.com/wp-content/uploads/2025/12/960f550f25f696aef73352c066c6204d.jpg
GEO:40.103645;-75.160326
X-APPLE-STRUCTURED-LOCATION;VALUE=URI;X-ADDRESS=Primex Garden Center 435 West Glenside Avenue Glenside PA 19038 United States;X-APPLE-RADIUS=500;X-TITLE=435 West Glenside Avenue:geo:-75.160326,40.103645
END:VEVENT
BEGIN:VEVENT
DTSTART;TZID=America/New_York:20251207T110000
DTEND;TZID=America/New_York:20251207T120000
DTSTAMP:20260424T182014
CREATED:20251124T142040Z
LAST-MODIFIED:20251124T142040Z
UID:10025132-1765105200-1765108800@gridphilly.com
SUMMARY:Wreath Decorating
DESCRIPTION:Create your own wreath to enjoy throughout the holidays! Each participant will receive a full\, evergreen wreath to decorate.
URL:https://gridphilly.com/event/wreath-decorating-2/
LOCATION:Primex Garden Center\, 435 West Glenside Avenue\, Glenside\, PA\, 19038\, United States
ATTACH;FMTTYPE=image/jpeg:https://gridphilly.com/wp-content/uploads/2025/11/86fb02745b6d48b3055da62e29eeb925.jpg
GEO:40.103645;-75.160326
X-APPLE-STRUCTURED-LOCATION;VALUE=URI;X-ADDRESS=Primex Garden Center 435 West Glenside Avenue Glenside PA 19038 United States;X-APPLE-RADIUS=500;X-TITLE=435 West Glenside Avenue:geo:-75.160326,40.103645
END:VEVENT
BEGIN:VEVENT
DTSTART;TZID=America/New_York:20251206T110000
DTEND;TZID=America/New_York:20251206T120000
DTSTAMP:20260424T182014
CREATED:20251124T141358Z
LAST-MODIFIED:20251124T141358Z
UID:10025123-1765018800-1765022400@gridphilly.com
SUMMARY:Wreath Decorating
DESCRIPTION:Create your own wreath to enjoy throughout the holidays! Each participant will receive a full\, evergreen wreath to decorate.
URL:https://gridphilly.com/event/wreath-decorating/
LOCATION:Primex Garden Center\, 435 West Glenside Avenue\, Glenside\, PA\, 19038\, United States
ATTACH;FMTTYPE=image/jpeg:https://gridphilly.com/wp-content/uploads/2025/11/86fb02745b6d48b3055da62e29eeb925.jpg
GEO:40.103645;-75.160326
X-APPLE-STRUCTURED-LOCATION;VALUE=URI;X-ADDRESS=Primex Garden Center 435 West Glenside Avenue Glenside PA 19038 United States;X-APPLE-RADIUS=500;X-TITLE=435 West Glenside Avenue:geo:-75.160326,40.103645
END:VEVENT
BEGIN:VEVENT
DTSTART;TZID=America/New_York:20251109T110000
DTEND;TZID=America/New_York:20251109T120000
DTSTAMP:20260424T182014
CREATED:20251105T194655Z
LAST-MODIFIED:20251105T194655Z
UID:10024274-1762686000-1762689600@gridphilly.com
SUMMARY:Houseplant Repotting Demo
DESCRIPTION:Join us to learn the basics of houseplant care such as lighting\, watering techniques\, repotting\, and fertilizing.\n\n\nThis event will take place in our barn.
URL:https://gridphilly.com/event/houseplant-repotting-demo/
LOCATION:Primex Garden Center\, 435 West Glenside Avenue\, Glenside\, PA\, 19038\, United States
ATTACH;FMTTYPE=image/jpeg:https://gridphilly.com/wp-content/uploads/2025/11/1638963c2459a70165f07d99e886a583.jpg
GEO:40.103645;-75.160326
X-APPLE-STRUCTURED-LOCATION;VALUE=URI;X-ADDRESS=Primex Garden Center 435 West Glenside Avenue Glenside PA 19038 United States;X-APPLE-RADIUS=500;X-TITLE=435 West Glenside Avenue:geo:-75.160326,40.103645
END:VEVENT
BEGIN:VEVENT
DTSTART;TZID=America/New_York:20251108T110000
DTEND;TZID=America/New_York:20251108T120000
DTSTAMP:20260424T182014
CREATED:20251105T194142Z
LAST-MODIFIED:20251105T194400Z
UID:10024266-1762599600-1762603200@gridphilly.com
SUMMARY:Native Trees & Shrubs
DESCRIPTION:This session will provide an in-depth look at the unique characteristics\, benefits\, and ecological roles of these native plants.\n\n\nThis event will take place in our barn.
URL:https://gridphilly.com/event/native-trees-shrubs/
LOCATION:Primex Garden Center\, 435 West Glenside Avenue\, Glenside\, PA\, 19038\, United States
ATTACH;FMTTYPE=image/jpeg:https://gridphilly.com/wp-content/uploads/2025/11/f4d5583fced5f60a12a4c3462aefb531.jpg
GEO:40.103645;-75.160326
X-APPLE-STRUCTURED-LOCATION;VALUE=URI;X-ADDRESS=Primex Garden Center 435 West Glenside Avenue Glenside PA 19038 United States;X-APPLE-RADIUS=500;X-TITLE=435 West Glenside Avenue:geo:-75.160326,40.103645
END:VEVENT
BEGIN:VEVENT
DTSTART;TZID=America/New_York:20251102T110000
DTEND;TZID=America/New_York:20251102T120000
DTSTAMP:20260424T182014
CREATED:20251027T135237Z
LAST-MODIFIED:20251027T135237Z
UID:10023731-1762081200-1762084800@gridphilly.com
SUMMARY:Bulb Lasagna
DESCRIPTION:Spend a Sunday with Susan and create a ‘bulb lasagna’ planter for a succession of spring color—no garden needed!\n\n\nThis event will take place in our barn. We’ll layer multiple varieties of bulbs and pansies to brighten up your porch or yard\, giving you early spring color post winter before your perennials emerge.
URL:https://gridphilly.com/event/bulb-lasagna/
LOCATION:Primex Garden Center\, 435 West Glenside Avenue\, Glenside\, PA\, 19038\, United States
ATTACH;FMTTYPE=image/jpeg:https://gridphilly.com/wp-content/uploads/2025/10/ef64a68384f4d22b8829317794e521b2.jpg
GEO:40.103645;-75.160326
X-APPLE-STRUCTURED-LOCATION;VALUE=URI;X-ADDRESS=Primex Garden Center 435 West Glenside Avenue Glenside PA 19038 United States;X-APPLE-RADIUS=500;X-TITLE=435 West Glenside Avenue:geo:-75.160326,40.103645
END:VEVENT
BEGIN:VEVENT
DTSTART;TZID=America/New_York:20251101T110000
DTEND;TZID=America/New_York:20251101T120000
DTSTAMP:20260424T182014
CREATED:20251027T133325Z
LAST-MODIFIED:20251027T205529Z
UID:10023717-1761994800-1761998400@gridphilly.com
SUMMARY:Down & Dirty: Soil Seminar
DESCRIPTION:This session will cover the fundamentals of soil composition\, the importance of proper drainage\, and techniques to enhance soil fertility.\n\n\nThis event will take place in our barn in the nursery.
URL:https://gridphilly.com/event/down-dirty-soil-seminar/
LOCATION:Primex Garden Center\, 435 West Glenside Avenue\, Glenside\, PA\, 19038\, United States
ATTACH;FMTTYPE=image/jpeg:https://gridphilly.com/wp-content/uploads/2025/10/3be26c494792695cf76ac482dece1664.jpg
GEO:40.103645;-75.160326
X-APPLE-STRUCTURED-LOCATION;VALUE=URI;X-ADDRESS=Primex Garden Center 435 West Glenside Avenue Glenside PA 19038 United States;X-APPLE-RADIUS=500;X-TITLE=435 West Glenside Avenue:geo:-75.160326,40.103645
END:VEVENT
BEGIN:VEVENT
DTSTART;TZID=America/New_York:20251018T130000
DTEND;TZID=America/New_York:20251018T140000
DTSTAMP:20260424T182014
CREATED:20251008T173209Z
LAST-MODIFIED:20251008T173209Z
UID:10023065-1760792400-1760796000@gridphilly.com
SUMMARY:DIY Tropical Terrarium
DESCRIPTION:Over the course of one hour\, learn the ins and outs of creating and taking care of your own terrarium.\n\n\nThis event will take place in our barn in the nursery.
URL:https://gridphilly.com/event/diy-tropical-terrarium/
LOCATION:Primex Garden Center\, 435 West Glenside Avenue\, Glenside\, PA\, 19038\, United States
ATTACH;FMTTYPE=image/jpeg:https://gridphilly.com/wp-content/uploads/2025/10/9753e62eb97502103938999b99f120fe.jpg
GEO:40.103645;-75.160326
X-APPLE-STRUCTURED-LOCATION;VALUE=URI;X-ADDRESS=Primex Garden Center 435 West Glenside Avenue Glenside PA 19038 United States;X-APPLE-RADIUS=500;X-TITLE=435 West Glenside Avenue:geo:-75.160326,40.103645
END:VEVENT
BEGIN:VEVENT
DTSTART;TZID=America/New_York:20251005T110000
DTEND;TZID=America/New_York:20251005T140000
DTSTAMP:20260424T182014
CREATED:20250822T161720Z
LAST-MODIFIED:20250822T161720Z
UID:10020670-1759662000-1759672800@gridphilly.com
SUMMARY:Fall Fest 2025
DESCRIPTION:There will be a wide variety of activities for children of all ages\, including a goat phot-op curtesy of Philly Goat Project!\n\n\nThis event will take place in the nursery.
URL:https://gridphilly.com/event/fall-fest-2025/
LOCATION:Primex Garden Center\, 435 West Glenside Avenue\, Glenside\, PA\, 19038\, United States
ATTACH;FMTTYPE=image/jpeg:https://gridphilly.com/wp-content/uploads/2025/08/63704b6049288226ed1bafc43097cd96.jpg
GEO:40.103645;-75.160326
X-APPLE-STRUCTURED-LOCATION;VALUE=URI;X-ADDRESS=Primex Garden Center 435 West Glenside Avenue Glenside PA 19038 United States;X-APPLE-RADIUS=500;X-TITLE=435 West Glenside Avenue:geo:-75.160326,40.103645
END:VEVENT
BEGIN:VEVENT
DTSTART;TZID=America/New_York:20250921T110000
DTEND;TZID=America/New_York:20250921T120000
DTSTAMP:20260424T182014
CREATED:20250918T190954Z
LAST-MODIFIED:20250918T192256Z
UID:10022074-1758452400-1758456000@gridphilly.com
SUMMARY:Bonsai Make & Take
DESCRIPTION:Learn basic bonsai potting\, training\, pruning and care. Attendees will receive a coupon for 20% off bonsai trees or supplies.
URL:https://gridphilly.com/event/bonsai-make-take/
LOCATION:Primex Garden Center\, 435 West Glenside Avenue\, Glenside\, PA\, 19038\, United States
ATTACH;FMTTYPE=image/jpeg:https://gridphilly.com/wp-content/uploads/2025/09/d2ecbd828fe021b76c88c0b5ca7f6e7a.jpg
GEO:40.103645;-75.160326
X-APPLE-STRUCTURED-LOCATION;VALUE=URI;X-ADDRESS=Primex Garden Center 435 West Glenside Avenue Glenside PA 19038 United States;X-APPLE-RADIUS=500;X-TITLE=435 West Glenside Avenue:geo:-75.160326,40.103645
END:VEVENT
BEGIN:VEVENT
DTSTART;TZID=America/New_York:20250920T110000
DTEND;TZID=America/New_York:20250920T120000
DTSTAMP:20260424T182014
CREATED:20250913T195939Z
LAST-MODIFIED:20250913T195939Z
UID:10021892-1758366000-1758369600@gridphilly.com
SUMMARY:Natural Wreath
DESCRIPTION:Create a beautiful and unique wreath using an array of materials such as dried flowers\, moss\, and grasses on a 12″ grapevine frame.\n\n\nThis event will take place in our barn in the nursery.
URL:https://gridphilly.com/event/natural-wreath/
LOCATION:Primex Garden Center\, 435 West Glenside Avenue\, Glenside\, PA\, 19038\, United States
ATTACH;FMTTYPE=image/jpeg:https://gridphilly.com/wp-content/uploads/2025/09/9e25a90532fc04dc3e24ca80fadc9f7d.jpg
GEO:40.103645;-75.160326
X-APPLE-STRUCTURED-LOCATION;VALUE=URI;X-ADDRESS=Primex Garden Center 435 West Glenside Avenue Glenside PA 19038 United States;X-APPLE-RADIUS=500;X-TITLE=435 West Glenside Avenue:geo:-75.160326,40.103645
END:VEVENT
BEGIN:VEVENT
DTSTART;TZID=America/New_York:20250914T100000
DTEND;TZID=America/New_York:20250914T110000
DTSTAMP:20260424T182014
CREATED:20250905T150929Z
LAST-MODIFIED:20250905T150929Z
UID:10021423-1757844000-1757847600@gridphilly.com
SUMMARY:Pollinator Pathways
DESCRIPTION:Want a yard that supports bees\, butterflies\, and birds — without breaking a sweat? Join us for ‘The Mediocre Gardener’s Workshop!\n\n\nThis event will take place in our perennials department and barn.
URL:https://gridphilly.com/event/pollinator-pathways/
LOCATION:Primex Garden Center\, 435 West Glenside Avenue\, Glenside\, PA\, 19038\, United States
ATTACH;FMTTYPE=image/jpeg:https://gridphilly.com/wp-content/uploads/2025/09/5ca2b8ee2082c25b2d0f6639d9136c64.jpg
GEO:40.103645;-75.160326
X-APPLE-STRUCTURED-LOCATION;VALUE=URI;X-ADDRESS=Primex Garden Center 435 West Glenside Avenue Glenside PA 19038 United States;X-APPLE-RADIUS=500;X-TITLE=435 West Glenside Avenue:geo:-75.160326,40.103645
END:VEVENT
BEGIN:VEVENT
DTSTART;TZID=America/New_York:20250913T110000
DTEND;TZID=America/New_York:20250913T120000
DTSTAMP:20260424T182014
CREATED:20250905T150711Z
LAST-MODIFIED:20250905T150711Z
UID:10021418-1757761200-1757764800@gridphilly.com
SUMMARY:DIY Floral Essence & Hydrosol by Buddha Belly Wellness
DESCRIPTION:In this class we will explore the benefits of these vibrational remedies\, show you how to make hydrosols\, and take one home with you!\n\n\nThis event will take place in our barn in the nursery.
URL:https://gridphilly.com/event/diy-floral-essence-hydrosol-by-buddha-belly-wellness/
LOCATION:Primex Garden Center\, 435 West Glenside Avenue\, Glenside\, PA\, 19038\, United States
ATTACH;FMTTYPE=image/jpeg:https://gridphilly.com/wp-content/uploads/2025/09/891ff51d7336a064c268ca064f54220f.jpg
GEO:40.103645;-75.160326
X-APPLE-STRUCTURED-LOCATION;VALUE=URI;X-ADDRESS=Primex Garden Center 435 West Glenside Avenue Glenside PA 19038 United States;X-APPLE-RADIUS=500;X-TITLE=435 West Glenside Avenue:geo:-75.160326,40.103645
END:VEVENT
BEGIN:VEVENT
DTSTART;TZID=America/New_York:20250906T110000
DTEND;TZID=America/New_York:20250906T120000
DTSTAMP:20260424T182014
CREATED:20250827T195730Z
LAST-MODIFIED:20250827T195730Z
UID:10020717-1757156400-1757160000@gridphilly.com
SUMMARY:Decoupage Candle Jar
DESCRIPTION:Tina will guide you through the process of selecting\, arranging\, and adhering dried flowers to glass jars.\n\n\nThis event will take place in our barn in the nursery.
URL:https://gridphilly.com/event/decoupage-candle-jar/
LOCATION:Primex Garden Center\, 435 West Glenside Avenue\, Glenside\, PA\, 19038\, United States
ATTACH;FMTTYPE=image/jpeg:https://gridphilly.com/wp-content/uploads/2025/08/671f6f6bf500ef405a2f226dde203c67.jpg
GEO:40.103645;-75.160326
X-APPLE-STRUCTURED-LOCATION;VALUE=URI;X-ADDRESS=Primex Garden Center 435 West Glenside Avenue Glenside PA 19038 United States;X-APPLE-RADIUS=500;X-TITLE=435 West Glenside Avenue:geo:-75.160326,40.103645
END:VEVENT
BEGIN:VEVENT
DTSTART;TZID=America/New_York:20250215T110000
DTEND;TZID=America/New_York:20250215T120000
DTSTAMP:20260424T182014
CREATED:20250212T184717Z
LAST-MODIFIED:20250212T184717Z
UID:10017081-1739617200-1739620800@gridphilly.com
SUMMARY:Fruit Trees Lecture
DESCRIPTION:Come learn all about fruit trees at our fun and informative lecture!\n\n\nClueless about how to grow and care for fruit trees? Join Mikhail\, with years of experience tending to his garden\, and learn how to care for your home orchard including planting\, pruning\, pest and disease controls. Dress warmly for a hands-on pruning demonstration in our nursery. Feel free to bring photos of your backyard fruit trees\, and Mikhail will help you to decide what should be pruned out for better fruit production. \n \nMust register and pay in advance.  \nNon-refundable.
URL:https://gridphilly.com/event/fruit-trees-lecture/
LOCATION:Primex Garden Center\, 435 West Glenside Avenue\, Glenside\, PA\, 19038\, United States
ATTACH;FMTTYPE=image/jpeg:https://gridphilly.com/wp-content/uploads/2025/02/473db567e1c388959043c5873c28a81b.jpg
GEO:40.103645;-75.160326
X-APPLE-STRUCTURED-LOCATION;VALUE=URI;X-ADDRESS=Primex Garden Center 435 West Glenside Avenue Glenside PA 19038 United States;X-APPLE-RADIUS=500;X-TITLE=435 West Glenside Avenue:geo:-75.160326,40.103645
END:VEVENT
END:VCALENDAR