BEGIN:VCALENDAR
VERSION:2.0
PRODID:-//Grid Magazine - ECPv6.15.20//NONSGML v1.0//EN
CALSCALE:GREGORIAN
METHOD:PUBLISH
X-WR-CALNAME:Grid Magazine
X-ORIGINAL-URL:https://gridphilly.com
X-WR-CALDESC:Events for Grid Magazine
REFRESH-INTERVAL;VALUE=DURATION:PT1H
X-Robots-Tag:noindex
X-PUBLISHED-TTL:PT1H
BEGIN:VTIMEZONE
TZID:America/New_York
BEGIN:DAYLIGHT
TZOFFSETFROM:-0500
TZOFFSETTO:-0400
TZNAME:EDT
DTSTART:20250309T070000
END:DAYLIGHT
BEGIN:STANDARD
TZOFFSETFROM:-0400
TZOFFSETTO:-0500
TZNAME:EST
DTSTART:20251102T060000
END:STANDARD
BEGIN:DAYLIGHT
TZOFFSETFROM:-0500
TZOFFSETTO:-0400
TZNAME:EDT
DTSTART:20260308T070000
END:DAYLIGHT
BEGIN:STANDARD
TZOFFSETFROM:-0400
TZOFFSETTO:-0500
TZNAME:EST
DTSTART:20261101T060000
END:STANDARD
BEGIN:DAYLIGHT
TZOFFSETFROM:-0500
TZOFFSETTO:-0400
TZNAME:EDT
DTSTART:20270314T070000
END:DAYLIGHT
BEGIN:STANDARD
TZOFFSETFROM:-0400
TZOFFSETTO:-0500
TZNAME:EST
DTSTART:20271107T060000
END:STANDARD
END:VTIMEZONE
BEGIN:VEVENT
DTSTART;TZID=America/New_York:20260509T110000
DTEND;TZID=America/New_York:20260509T150000
DTSTAMP:20260421T035956
CREATED:20260421T012100Z
LAST-MODIFIED:20260421T012100Z
UID:10032423-1778324400-1778338800@gridphilly.com
SUMMARY:Philly Foodworks Open House
DESCRIPTION:Philly Foodworks invites you to celebrate Spring in style at our 4th annual Open House. We’re excited to invite you into our space and celebrate our customers & vendors! We have a full lineup of activities: \nbuild your own bouquets (with locally grown flowers)\npopup vendor fair (sampling and products for purchase)\nmusic\nkids games\nwarehouse tours\nbuild your own salad station (made from all PFW items!)\nCome celebrate the season with us and meet some of our fantastic vendors and staff in person! We hope to see you there!
URL:https://gridphilly.com/event/philly-foodworks-open-house/
LOCATION:1978 W Hunting Park Ave\, 1978 West Hunting Park Avenue\, Philadelphia\, PA\, 19140\, United States
CATEGORIES:Local Food
ATTACH;FMTTYPE=image/png:https://gridphilly.com/wp-content/uploads/2026/04/32dec75b-9446-477e-a50d-14ec13147092.png
END:VEVENT
END:VCALENDAR