BEGIN:VCALENDAR
VERSION:2.0
PRODID:-//Grid Magazine - ECPv6.15.20//NONSGML v1.0//EN
CALSCALE:GREGORIAN
METHOD:PUBLISH
X-WR-CALNAME:Grid Magazine
X-ORIGINAL-URL:https://gridphilly.com
X-WR-CALDESC:Events for Grid Magazine
REFRESH-INTERVAL;VALUE=DURATION:PT1H
X-Robots-Tag:noindex
X-PUBLISHED-TTL:PT1H
BEGIN:VTIMEZONE
TZID:America/New_York
BEGIN:DAYLIGHT
TZOFFSETFROM:-0500
TZOFFSETTO:-0400
TZNAME:EDT
DTSTART:20220313T070000
END:DAYLIGHT
BEGIN:STANDARD
TZOFFSETFROM:-0400
TZOFFSETTO:-0500
TZNAME:EST
DTSTART:20221106T060000
END:STANDARD
BEGIN:DAYLIGHT
TZOFFSETFROM:-0500
TZOFFSETTO:-0400
TZNAME:EDT
DTSTART:20230312T070000
END:DAYLIGHT
BEGIN:STANDARD
TZOFFSETFROM:-0400
TZOFFSETTO:-0500
TZNAME:EST
DTSTART:20231105T060000
END:STANDARD
BEGIN:DAYLIGHT
TZOFFSETFROM:-0500
TZOFFSETTO:-0400
TZNAME:EDT
DTSTART:20240310T070000
END:DAYLIGHT
BEGIN:STANDARD
TZOFFSETFROM:-0400
TZOFFSETTO:-0500
TZNAME:EST
DTSTART:20241103T060000
END:STANDARD
END:VTIMEZONE
BEGIN:VEVENT
DTSTART;VALUE=DATE:20231110
DTEND;VALUE=DATE:20231113
DTSTAMP:20260424T081235
CREATED:20231027T203538Z
LAST-MODIFIED:20231027T203538Z
UID:10007997-1699574400-1699833599@gridphilly.com
SUMMARY:Love Your Park Fall Weekend 2023
DESCRIPTION:This fall\, show your favorite neighborhood park some love! In partnership with Philadelphia Parks & Recreation and Fairmount Park Conservancy\, Park Friends Groups across the city will be hosting volunteer events the weekend of November 10th – 12th for Love Your Park Fall Weekend 2023. Over 90 Philly parks need help planting trees and flower bulbs\, collecting leaves for compost\, and cleaning up after a busy summer season.
URL:https://gridphilly.com/event/love-your-park-fall-weekend-2023/
LOCATION:Philadelphia Parks
CATEGORIES:Clean-ups,Community Events,Events,Family,Family and Kids,Free,Gardening,Neighborhood,Outdoor Event,Stewardship,Volunteer,Volunteer Opportunities,Volunteering
ATTACH;FMTTYPE=image/jpeg:https://gridphilly.com/wp-content/uploads/2023/10/LYPF23_square_weekend.jpg
END:VEVENT
END:VCALENDAR