BEGIN:VCALENDAR
VERSION:2.0
PRODID:-//Grid Magazine - ECPv6.15.20//NONSGML v1.0//EN
CALSCALE:GREGORIAN
METHOD:PUBLISH
X-WR-CALNAME:Grid Magazine
X-ORIGINAL-URL:https://gridphilly.com
X-WR-CALDESC:Events for Grid Magazine
REFRESH-INTERVAL;VALUE=DURATION:PT1H
X-Robots-Tag:noindex
X-PUBLISHED-TTL:PT1H
BEGIN:VTIMEZONE
TZID:America/New_York
BEGIN:DAYLIGHT
TZOFFSETFROM:-0500
TZOFFSETTO:-0400
TZNAME:EDT
DTSTART:20220313T070000
END:DAYLIGHT
BEGIN:STANDARD
TZOFFSETFROM:-0400
TZOFFSETTO:-0500
TZNAME:EST
DTSTART:20221106T060000
END:STANDARD
BEGIN:DAYLIGHT
TZOFFSETFROM:-0500
TZOFFSETTO:-0400
TZNAME:EDT
DTSTART:20230312T070000
END:DAYLIGHT
BEGIN:STANDARD
TZOFFSETFROM:-0400
TZOFFSETTO:-0500
TZNAME:EST
DTSTART:20231105T060000
END:STANDARD
BEGIN:DAYLIGHT
TZOFFSETFROM:-0500
TZOFFSETTO:-0400
TZNAME:EDT
DTSTART:20240310T070000
END:DAYLIGHT
BEGIN:STANDARD
TZOFFSETFROM:-0400
TZOFFSETTO:-0500
TZNAME:EST
DTSTART:20241103T060000
END:STANDARD
BEGIN:DAYLIGHT
TZOFFSETFROM:-0500
TZOFFSETTO:-0400
TZNAME:EDT
DTSTART:20250309T070000
END:DAYLIGHT
BEGIN:STANDARD
TZOFFSETFROM:-0400
TZOFFSETTO:-0500
TZNAME:EST
DTSTART:20251102T060000
END:STANDARD
BEGIN:DAYLIGHT
TZOFFSETFROM:-0500
TZOFFSETTO:-0400
TZNAME:EDT
DTSTART:20260308T070000
END:DAYLIGHT
BEGIN:STANDARD
TZOFFSETFROM:-0400
TZOFFSETTO:-0500
TZNAME:EST
DTSTART:20261101T060000
END:STANDARD
END:VTIMEZONE
BEGIN:VEVENT
DTSTART;TZID=America/New_York:20251018T140000
DTEND;TZID=America/New_York:20251018T170000
DTSTAMP:20260421T075710
CREATED:20250822T164220Z
LAST-MODIFIED:20250822T164220Z
UID:10020674-1760796000-1760806800@gridphilly.com
SUMMARY:Goatoberfest 2025 with Philly Goat Project
DESCRIPTION:Sat\, Oct 18 \nLaurel Hill West Cemetery \n\n\nThe most fun(d) you will ever have helping to support Philly’s best non profit!! Hosted by the Fabulous Queen Dominique Lee!! Lots of free things with your ticket purchase! Mature guests\, ages 14 and over! (and hand held babies!) \nAbout the event\n\n\n\nThe best shenanigans in town are happening on Saturday\, October 18th at the Conservatory at Laurel Hill West Cemetery. This event will take place indoors in the event of rain. Have a great time while making an even greater impact…with goats for Philadelphia! Come on time so you don’t miss the events that include goat art raffle\, cemetery tour\, costume contest! \nTicket sales support the many free programs that Philly Goat Project provides year round including eduction\, job training\, community wellness and so much more. This year’s GOAToberFest will have 13 goats\, awards for best Halloween or OktoberFest costumes\, free snacks and drinks\, goodie bags\, a chance to win one of a kind goat art\, fire pits with s’mores\, a tour of historic Laurel Hill cemetery and a great time with host Dominique Lee. Mature friends ages 14 and over are invited to attend ….14-17 year olds must be accompanied by a ticketed parent or guardian. 
URL:https://gridphilly.com/event/goatoberfest-2025-with-philly-goat-project/
LOCATION:Laurel Hill Cemetery West\, 225 Belmont Ave\, Bala Cynwyd\, PA\, 19004
ATTACH;FMTTYPE=image/png:https://gridphilly.com/wp-content/uploads/2025/08/Screen-Shot-2025-08-22-at-12.41.36-PM.png
END:VEVENT
BEGIN:VEVENT
DTSTART;TZID=America/New_York:20250426T123000
DTEND;TZID=America/New_York:20250426T140000
DTSTAMP:20260421T075710
CREATED:20250422T183000Z
LAST-MODIFIED:20250422T183000Z
UID:10018557-1745670600-1745676000@gridphilly.com
SUMMARY:Historic Fair Hill's Reading Festival with Philly Goat Project
DESCRIPTION:Celebrate the joy and power of literacy! Special Guests include: Imagine More Story Adventures\, Papermaking\, Philly Goat Project\, Tree House Books\, Reach Out & Read! Rain date is May 10th.
URL:https://gridphilly.com/event/historic-fair-hills-reading-festival-with-philly-goat-project/
LOCATION:Historic Fair Hill\, 2901 Germantown Avenue\, Philadelphia\, PA\, 19133\, United States
ATTACH;FMTTYPE=image/webp:https://gridphilly.com/wp-content/uploads/2025/04/FairHillReading.webp
END:VEVENT
BEGIN:VEVENT
DTSTART;TZID=America/New_York:20250215T150000
DTEND;TZID=America/New_York:20250215T170000
DTSTAMP:20260421T075710
CREATED:20250211T204021Z
LAST-MODIFIED:20250211T204021Z
UID:10017046-1739631600-1739638800@gridphilly.com
SUMMARY:Philly Goat Project Valentine's Happy Hour
DESCRIPTION:Share the LOVE with our amazing goats. Tickets are $35 and attendees must be at least 14 years old. B.Y.O.B. and we provide all the rest\, including complimentary s’mores and a cozy fire pit! Together\, it’s a-doe-able!!
URL:https://gridphilly.com/event/philly-goat-project-valentines-happy-hour/
LOCATION:The Farm at Awbury Arboretum\, 6336 Ardleigh Street\, Philadelphia\, PA\, 19138\, United States
ATTACH;FMTTYPE=image/png:https://gridphilly.com/wp-content/uploads/2025/02/Screen-Shot-2025-02-11-at-3.38.15-PM.png
END:VEVENT
BEGIN:VEVENT
DTSTART;TZID=America/New_York:20240824T130000
DTEND;TZID=America/New_York:20240824T150000
DTSTAMP:20260421T075710
CREATED:20240617T155543Z
LAST-MODIFIED:20240617T155543Z
UID:10013373-1724504400-1724511600@gridphilly.com
SUMMARY:Watershed Goat Walk
DESCRIPTION:Learn about Water Systems and Walk the Goats! Free! \n\n\nat Project\, 6336 Ardleigh St\, Philadelphia\, PA 19138\, USA \n\n\n\nAbout the event\n\n\nJoin us on Saturday\, August 24 to walk the goats and learn about water systems and ecology! \nWe start at the goat barn promptly at 1:00.  We walk and learn at the same time. \nNo reservations necessary!  Free! \nPlease check website and social media for weather related changes. \nRain date is Sunday\, August 25th at 1:00.
URL:https://gridphilly.com/event/watershed-goat-walk/
LOCATION:The Farm at Awbury Arboretum\, 6336 Ardleigh Street\, Philadelphia\, PA\, 19138\, United States
CATEGORIES:Classes and Workshops,Community Events,Water,Watershed
END:VEVENT
BEGIN:VEVENT
DTSTART;TZID=America/New_York:20240622T110000
DTEND;TZID=America/New_York:20240622T120000
DTSTAMP:20260421T075710
CREATED:20240617T155153Z
LAST-MODIFIED:20240617T155153Z
UID:10013372-1719054000-1719057600@gridphilly.com
SUMMARY:Neighborhood Family Garden Meet and Greet
DESCRIPTION:PGP’s Neighborhood Family Garden is a place for everyone from the surrounding neighborhood to come learn to grow\, harvest\, and cook their own produce as well as participate in shared wellness activities. \nJun 22\, 2024\, 11:00 AM – 12:00 PM \nThe Farm at Awbury\, 6336 Ardleigh St\, Philadelphia\, PA 19138\, USA \nAbout the event\n\n\nAre you a neighborhood community member looking to learn to grow or to connect to a group of healthy neighbors to enjoy wellness outdoors together? Participation is free however a minimum of 6 hours of help is required before taking home your part of the harvest. We are located across from the Chicken Coop at the Farm at Awbury.  Cancelled in moderate to heavy rain. Contact Raquel at planthood@phillygoatproject.org to join us or fill out the form here! \nInquiries from groups or agencies please see our Education and Therapy tabs.
URL:https://gridphilly.com/event/neighborhood-family-garden-meet-and-greet/
LOCATION:The Farm at Awbury Arboretum\, 6336 Ardleigh Street\, Philadelphia\, PA\, 19138\, United States
CATEGORIES:Community Events,Community Meetup,Family-friendly,Food,Free Community Events,Gardening,Health & Wellness,Neighborhood,Outdoor Event,Urban Farming
END:VEVENT
BEGIN:VEVENT
DTSTART;TZID=America/New_York:20240224T130000
DTEND;TZID=America/New_York:20240224T150000
DTSTAMP:20260421T075710
CREATED:20240125T175520Z
LAST-MODIFIED:20240125T175520Z
UID:10010672-1708779600-1708786800@gridphilly.com
SUMMARY:Celebrating Black History with Millicent Sparks at the Cope House
DESCRIPTION:Enjoy cuddles with the Philly Goats and participate in a FREE interactive performance about the life and mission of Harriet Tubman . Tickets are FREE! \n\n\nFeb 24\, 2024\, 1:00 PM – 3:00 PM \nCope House at Awbury Arboretum\, 1 Awbury Rd\, Philadelphia\, PA 19138\, USA \n\n\n\nAbout the event\n\n\nEnjoy a free interactive experience about the life and mission of Harriet Tubman with performer and reenacter\, Millicent Sparks at the Awbury Arboretum Cope House presented with the support of the Philly Goat Project. No reservations needed\, some registration is needed at the venue.
URL:https://gridphilly.com/event/celebrating-black-history-with-millicent-sparks-at-the-cope-house/
LOCATION:Cope House at Awbury Arboretum\, 1 Awbury Road\, Philadelphia\, PA\, 19138\, United States
CATEGORIES:Black History,Community Events,Family Activities,Family and Kids,Family Fun,Family-friendly
ATTACH;FMTTYPE=image/webp:https://gridphilly.com/wp-content/uploads/2024/01/BlackHistoryGoatProject.webp
END:VEVENT
BEGIN:VEVENT
DTSTART;TZID=America/New_York:20240210T153000
DTEND;TZID=America/New_York:20240210T173000
DTSTAMP:20260421T075710
CREATED:20240125T175254Z
LAST-MODIFIED:20240125T175254Z
UID:10010671-1707579000-1707586200@gridphilly.com
SUMMARY:Valentine's Day B.Y.O.B. Happy Hour with The Philly Goats
DESCRIPTION:Visit and cuddle with goats\, enjoy s’mores and stay warm around the PGP fire pit. Win original hoof-made Goat Art! Take the goats for their bedtime walk and then tuck them into their cozy barn. All while supporting our free programming – Win/Win!! Kids ages 14 and up with their guardians. \nTime & Location\n\n\nFeb 10\, 2024\, 3:30 PM – 5:30 PM EST \nPhilly Goat Project @ The Farm at Awbury\, 6336 Ardleigh St\, Philadelphia\, PA 19138\, USA \n\n\n\n\nAbout the event\n\n\nValentine’s Day Happy Hour with GOATS!! PGP’s  February FUNdraiser!  \nBring your favorite people & a beverage and come spend the  evening with Philly’s adorable goats. It’s going to be LIT (and so will the fire pit!) \n***This event is BYOB *** \n*** Original Goat Art available only at this venue via raffle!***($5 each\, we take Venmo/CashApp!) \n*** Art Raffle starts promptly at 4:00\, Goat Walk at 4:30! Bedtime for goats is 5:00 but friends can linger by the fire. \n***Food and glass must stay outside of the paddock. There will be a table provided to store it.
URL:https://gridphilly.com/event/valentines-day-b-y-o-b-happy-hour-with-the-philly-goats/
LOCATION:The Farm at Awbury Arboretum\, 6336 Ardleigh Street\, Philadelphia\, PA\, 19138\, United States
CATEGORIES:Family Activities,Family and Kids,Family Fun,Family-friendly
ATTACH;FMTTYPE=image/webp:https://gridphilly.com/wp-content/uploads/2024/01/GoatValentine.webp
END:VEVENT
BEGIN:VEVENT
DTSTART;TZID=America/New_York:20240210T120000
DTEND;TZID=America/New_York:20240210T140000
DTSTAMP:20260421T075710
CREATED:20240125T175015Z
LAST-MODIFIED:20240125T175015Z
UID:10010670-1707566400-1707573600@gridphilly.com
SUMMARY:Philly Goat Project All Abilities Ramble
DESCRIPTION:Time & Location\n\n\nFeb 10\, 2024\, 12:00 PM – 2:00 PM \nThe Farm at Awbury\, 6336 Ardleigh St\, Philadelphia\, PA\, USA \n\n\n\n\nAbout the event\n\n\nThis event is FREE and open to the public\, however\, it is specifically geared towards people living with disablities.  \nVisit the farm\, hang out with the goats and chickens\, and enjoy the great outdoors\, roast marshmallows at the firepit and run around in Philly’s favorite backyard! \nADA accessible bathroom available. \nRSVP required to let us know how we can prepare for your visit. \nkelly@phillygoatproject.org or text: 215-703-8057
URL:https://gridphilly.com/event/philly-goat-project-all-abilities-ramble/
LOCATION:The Farm at Awbury Arboretum\, 6336 Ardleigh Street\, Philadelphia\, PA\, 19138\, United States
CATEGORIES:Accessible Event,Community Events,Family and Kids,Family-friendly,Free Community Events
ATTACH;FMTTYPE=image/webp:https://gridphilly.com/wp-content/uploads/2024/01/AllAbilitiesRamble.webp
END:VEVENT
BEGIN:VEVENT
DTSTART;TZID=America/New_York:20231014T160000
DTEND;TZID=America/New_York:20231014T180000
DTSTAMP:20260421T075710
CREATED:20230829T194511Z
LAST-MODIFIED:20230829T194511Z
UID:10006697-1697299200-1697306400@gridphilly.com
SUMMARY:GOAT'OberFest 2023
DESCRIPTION:Join Philly’s favorite goat squad for our 2023 GOAT’OberFest FUNdraiser at Laurel Hill West Cemetery! 13 Goats\, Signature Cocktail\, special swag n snack and all kinds of PGP Goat Shenanigans among the changing leaves and spirits of Laurel Hill West! 2024 PGP Goat Calendar Launch AND exclusive swag!
URL:https://gridphilly.com/event/goatoberfest-2023/
LOCATION:Laurel Hill Cemetery West\, 225 Belmont Ave\, Bala Cynwyd\, PA\, 19004
END:VEVENT
BEGIN:VEVENT
DTSTART;TZID=America/New_York:20230920T173000
DTEND;TZID=America/New_York:20230920T183000
DTSTAMP:20260421T075710
CREATED:20230911T191147Z
LAST-MODIFIED:20230911T191147Z
UID:10006827-1695231000-1695234600@gridphilly.com
SUMMARY:Free Goat Walk at Laurel Hill West
DESCRIPTION:Our free community goat walk series at Laurel Hill is back! \n\n\nWe have upcoming dates that we’d love to see you at:\n Wed\, Sept 20th at 5:30pm (  Laurel Hill West)\n Wed\, Oct 4th at 5:30pm (  Laurel Hill West)\n\n\n\n: The walks start promptly at the start times\n\n\n: Walks will be rescheduled for the next day (Thursday) in the event of heavy rain. Check our social media for weather related changes.\n\n\nMeet the Goats at the the parking lot on the North Side of the Funeral Home to walk with the goats and learn about sustainability and Green Burial!! We start right on time\, check this website and our social media for weather related changes. \nEnter on Belmont Avenue and park at the Funeral Home that is immediately on the left as you come in.. This event will be rescheduled for the next day\, (Thursday)  in the event of heavy rain. Same day inquiries please text 215-703-8057.\nFree !! No registration necessary\, we take turns walking the goats!
URL:https://gridphilly.com/event/free-goat-walk-at-laurel-hill-west/
LOCATION:Laurel Hill Cemetery West\, 225 Belmont Ave\, Bala Cynwyd\, PA\, 19004
CATEGORIES:Family and Kids,Family Fun,Family-friendly,Free Community Events,Outdoor Event,Tours and Explorations
ATTACH;FMTTYPE=image/jpeg:https://gridphilly.com/wp-content/uploads/2023/09/LaurelHillGoatWalk.jpeg
END:VEVENT
END:VCALENDAR