BEGIN:VCALENDAR
VERSION:2.0
PRODID:-//Grid Magazine - ECPv6.15.20//NONSGML v1.0//EN
CALSCALE:GREGORIAN
METHOD:PUBLISH
X-ORIGINAL-URL:https://gridphilly.com
X-WR-CALDESC:Events for Grid Magazine
REFRESH-INTERVAL;VALUE=DURATION:PT1H
X-Robots-Tag:noindex
X-PUBLISHED-TTL:PT1H
BEGIN:VTIMEZONE
TZID:America/New_York
BEGIN:DAYLIGHT
TZOFFSETFROM:-0500
TZOFFSETTO:-0400
TZNAME:EDT
DTSTART:20250309T070000
END:DAYLIGHT
BEGIN:STANDARD
TZOFFSETFROM:-0400
TZOFFSETTO:-0500
TZNAME:EST
DTSTART:20251102T060000
END:STANDARD
BEGIN:DAYLIGHT
TZOFFSETFROM:-0500
TZOFFSETTO:-0400
TZNAME:EDT
DTSTART:20260308T070000
END:DAYLIGHT
BEGIN:STANDARD
TZOFFSETFROM:-0400
TZOFFSETTO:-0500
TZNAME:EST
DTSTART:20261101T060000
END:STANDARD
BEGIN:DAYLIGHT
TZOFFSETFROM:-0500
TZOFFSETTO:-0400
TZNAME:EDT
DTSTART:20270314T070000
END:DAYLIGHT
BEGIN:STANDARD
TZOFFSETFROM:-0400
TZOFFSETTO:-0500
TZNAME:EST
DTSTART:20271107T060000
END:STANDARD
END:VTIMEZONE
BEGIN:VEVENT
DTSTART;TZID=America/New_York:20260213T190000
DTEND;TZID=America/New_York:20260213T203000
DTSTAMP:20260421T081102
CREATED:20260205T020725Z
LAST-MODIFIED:20260205T020725Z
UID:10028804-1771009200-1771014600@gridphilly.com
SUMMARY:Amour et Mémoire: A Salon of French Philadelphia
DESCRIPTION:AMOUR ET MÉMOIRE:\nA Salon of French Philadelphia\nFriday\, Feb 13th at 7pm\nHill-Physick House • 321 S 4th St\, Phila PA 19106\nTickets: $25 \nPhiladelphia has always been alight with French influence. Indeed\, 18th century Philadelphia was lavish with French culture: French language\, dance\, food\, clothing\, boarding houses and names. After the French Revolution and the Slave Rebellion in the French colony of St. Domingue\, Philadelphia became a landing place for a large number of French refugees. Join us for a concert that explores love and memory – modeled as a salon of an 18th c French home in Philadelphia. Music of Rameau\, Barriere\, Corrette and others.\n​\nWith: Eve Miller\, cello; John Walthausen\, harpsichord; Alissa Macgee\, voice
URL:https://gridphilly.com/event/amour-et-memoire-a-salon-of-french-philadelphia/
LOCATION:Hill-Physick House\, 321 South 4th Street\, Philadelphia\, PA\, 19106\, United States
CATEGORIES:Concert
ATTACH;FMTTYPE=image/jpeg:https://gridphilly.com/wp-content/uploads/2026/02/1977.10-scaled.jpg
ORGANIZER;CN="Phila-Landmarks":MAILTO:mwarren@philalandmarks.org
END:VEVENT
END:VCALENDAR