BEGIN:VCALENDAR
VERSION:2.0
PRODID:-//Grid Magazine - ECPv6.15.20//NONSGML v1.0//EN
CALSCALE:GREGORIAN
METHOD:PUBLISH
X-ORIGINAL-URL:https://gridphilly.com
X-WR-CALDESC:Events for Grid Magazine
REFRESH-INTERVAL;VALUE=DURATION:PT1H
X-Robots-Tag:noindex
X-PUBLISHED-TTL:PT1H
BEGIN:VTIMEZONE
TZID:America/New_York
BEGIN:DAYLIGHT
TZOFFSETFROM:-0500
TZOFFSETTO:-0400
TZNAME:EDT
DTSTART:20240310T070000
END:DAYLIGHT
BEGIN:STANDARD
TZOFFSETFROM:-0400
TZOFFSETTO:-0500
TZNAME:EST
DTSTART:20241103T060000
END:STANDARD
BEGIN:DAYLIGHT
TZOFFSETFROM:-0500
TZOFFSETTO:-0400
TZNAME:EDT
DTSTART:20250309T070000
END:DAYLIGHT
BEGIN:STANDARD
TZOFFSETFROM:-0400
TZOFFSETTO:-0500
TZNAME:EST
DTSTART:20251102T060000
END:STANDARD
BEGIN:DAYLIGHT
TZOFFSETFROM:-0500
TZOFFSETTO:-0400
TZNAME:EDT
DTSTART:20260308T070000
END:DAYLIGHT
BEGIN:STANDARD
TZOFFSETFROM:-0400
TZOFFSETTO:-0500
TZNAME:EST
DTSTART:20261101T060000
END:STANDARD
END:VTIMEZONE
BEGIN:VEVENT
DTSTART;TZID=America/New_York:20251213T180000
DTEND;TZID=America/New_York:20251213T200000
DTSTAMP:20260420T014358
CREATED:20251212T015513Z
LAST-MODIFIED:20251212T015513Z
UID:10027343-1765648800-1765656000@gridphilly.com
SUMMARY:OPENING RECEPTION: Nature on the Rocks by Guy de Potesta
DESCRIPTION:Join Morton Contemporary for the opening reception of Nature on the Rocks by Guy de Potesta\, on Saturday\, December 13th from 6:00 – 8:00pm.\n\n\nDe Potesta’s surreal\, dream-like canvases reveal the unsettling realities of a world undergoing rapid environmental degradation. Known for pairing wildlife with human-made objects in humorous\, improbable ways\, de Potesta uses absurdity not as escape but as a sharp lens on a natural world increasingly strained by human materialism. \nLong fascinated by the fragile relationship between nature and human consumption\, de Potesta constructs a world through painting where scale and habitats distort. His animals—majestic\, vulnerable\, dignified— inhabit drinking glasses\, spirit bottles\, and other unnatural vessels of indulgence. De Potesta invites viewers to lean into these uncanny pairings: to laugh\, to question\, and to confront the surrealism of climate reality—where melting glaciers\, displaced species\, and extreme weather events feel less and less like scenes from an impossible dream. \nGuy de Potesta: Nature On The Rocks offers a fresh\, imaginative approach to environmental art—one that is bold\, visually seductive\, and urgently aligned with our time. The exhibition challenges us to see the climate crisis not just as data\, but as an unfolding surreal experience we are actually living in. \n“I merge two worlds—natural and man-made—not to decorate wildlife but to show how we transform it\, compress it\, consume it\, and sometimes endanger it without meaning to\,” – Guy De Potesta
URL:https://gridphilly.com/event/opening-reception-nature-on-the-rocks-by-guy-de-potesta/
LOCATION:Morton Contemporary Gallery\, 115 South 13th Street\, Philadelphia\, PA\, 19107\, United States
ATTACH;FMTTYPE=image/jpeg:https://gridphilly.com/wp-content/uploads/2025/12/5204599d21f744d3b51a97de5c0a2a6d.jpg
END:VEVENT
END:VCALENDAR