BEGIN:VCALENDAR
VERSION:2.0
PRODID:-//Grid Magazine - ECPv6.15.20//NONSGML v1.0//EN
CALSCALE:GREGORIAN
METHOD:PUBLISH
X-ORIGINAL-URL:https://gridphilly.com
X-WR-CALDESC:Events for Grid Magazine
REFRESH-INTERVAL;VALUE=DURATION:PT1H
X-Robots-Tag:noindex
X-PUBLISHED-TTL:PT1H
BEGIN:VTIMEZONE
TZID:America/New_York
BEGIN:DAYLIGHT
TZOFFSETFROM:-0500
TZOFFSETTO:-0400
TZNAME:EDT
DTSTART:20220313T070000
END:DAYLIGHT
BEGIN:STANDARD
TZOFFSETFROM:-0400
TZOFFSETTO:-0500
TZNAME:EST
DTSTART:20221106T060000
END:STANDARD
BEGIN:DAYLIGHT
TZOFFSETFROM:-0500
TZOFFSETTO:-0400
TZNAME:EDT
DTSTART:20230312T070000
END:DAYLIGHT
BEGIN:STANDARD
TZOFFSETFROM:-0400
TZOFFSETTO:-0500
TZNAME:EST
DTSTART:20231105T060000
END:STANDARD
BEGIN:DAYLIGHT
TZOFFSETFROM:-0500
TZOFFSETTO:-0400
TZNAME:EDT
DTSTART:20240310T070000
END:DAYLIGHT
BEGIN:STANDARD
TZOFFSETFROM:-0400
TZOFFSETTO:-0500
TZNAME:EST
DTSTART:20241103T060000
END:STANDARD
BEGIN:DAYLIGHT
TZOFFSETFROM:-0500
TZOFFSETTO:-0400
TZNAME:EDT
DTSTART:20250309T070000
END:DAYLIGHT
BEGIN:STANDARD
TZOFFSETFROM:-0400
TZOFFSETTO:-0500
TZNAME:EST
DTSTART:20251102T060000
END:STANDARD
END:VTIMEZONE
BEGIN:VEVENT
DTSTART;TZID=America/New_York:20241030T173000
DTEND;TZID=America/New_York:20241030T200000
DTSTAMP:20260419T232306
CREATED:20240912T174708Z
LAST-MODIFIED:20240912T175148Z
UID:10014455-1730309400-1730318400@gridphilly.com
SUMMARY:Mischief Night Portrait Party in the Rose Garden
DESCRIPTION:Pose in costume in the Rose Garden with your friends\, then after sunset come back to the Welcome Center to paint small portraits of each other to take home! For adults only.
URL:https://gridphilly.com/event/delaware-river-festival-2/
LOCATION:Morris Arboretum & Gardens\, 100 E Northwestern Ave\, Philadelphia\, 19118\, United States
CATEGORIES:Boating,Classes and Workshops,Community Events,Family and Kids,Hike,Native Plants,Nature & Community Science,Nature Walks,Outdoor Event
ATTACH;FMTTYPE=image/jpeg:https://gridphilly.com/wp-content/uploads/2024/09/RoseGarden-scaled.jpeg
ORGANIZER;CN="Morris Arboretum":MAILTO:education@morrisarboretum.org
END:VEVENT
BEGIN:VEVENT
DTSTART;TZID=America/New_York:20240210T110000
DTEND;TZID=America/New_York:20240210T120000
DTSTAMP:20260419T232306
CREATED:20240201T170253Z
LAST-MODIFIED:20240201T170253Z
UID:10010729-1707562800-1707566400@gridphilly.com
SUMMARY:Morris Arboretum & Gardens Bare Naked Trees Tour
DESCRIPTION:Join an experienced guide to explore the beauty of “bare naked trees” in winter. Without their leaves\, deciduous trees reveal a variety of shapes and sculptures to admire. The tour features weeping\, round\, pyramidal\, and vase-shaped trees\, and highlights the many colors and textures of tree bark. This tour provides a unique perspective of trees as we enjoy the beauty of the winter garden. Meet at the Welcome Center. Free with general admission ($0 to $12). Weather permitting. Enjoy discounted winter admission through February 29!
URL:https://gridphilly.com/event/morris-arboretum-gardens-bare-naked-trees-tour/
LOCATION:Morris Arboretum & Gardens\, 100 E Northwestern Ave\, Philadelphia\, 19118\, United States
CATEGORIES:Family Activities,Family and Kids,Gardening,Outdoor Event,Special Tour
ATTACH;FMTTYPE=image/jpeg:https://gridphilly.com/wp-content/uploads/2024/01/acer-griseum.jpg
ORGANIZER;CN="Morris Arboretum":MAILTO:education@morrisarboretum.org
END:VEVENT
BEGIN:VEVENT
DTSTART;TZID=America/New_York:20231028T103000
DTEND;TZID=America/New_York:20231028T123000
DTSTAMP:20260419T232306
CREATED:20231024T160538Z
LAST-MODIFIED:20231024T160538Z
UID:10007962-1698489000-1698496200@gridphilly.com
SUMMARY:Pumpkin Carving Party
DESCRIPTION:Come along to our workshop and learn how to carve amazing pumpkins! We will supply the pumpkin along with all the specialized equipment you need for carving\, as well as patterns and ideas to help you make a spectacular pumpkin. This program is for adults and children (8+) as we’ll be using sharp tools. Wear clothes that can get messy!
URL:https://gridphilly.com/event/pumpkin-carving-party/
LOCATION:Morris Arboretum & Gardens\, 100 E Northwestern Ave\, Philadelphia\, 19118\, United States
CATEGORIES:Classes & Workshops,Event,Family,Family and Kids,Gardening & DIY
ATTACH;FMTTYPE=image/jpeg:https://gridphilly.com/wp-content/uploads/2023/10/2022_Pumpkin-carving_MArmstrong-pics-150-scaled.jpg
ORGANIZER;CN="Morris Arboretum":MAILTO:education@morrisarboretum.org
END:VEVENT
BEGIN:VEVENT
DTSTART;TZID=America/New_York:20231024T183000
DTEND;TZID=America/New_York:20231024T203000
DTSTAMP:20260419T232306
CREATED:20230918T144002Z
LAST-MODIFIED:20230918T144002Z
UID:10006928-1698172200-1698179400@gridphilly.com
SUMMARY:Botanical Illustration: Creating a Botanical Sketchbook
DESCRIPTION:Taught by Margaret Saylor\, Artist; Member\, American Society of Botanical Artists (ASBA) and the Philadelphia Society of Botanical Illustrators \nThe wonderful natural elements that make up our autumn outdoor world are perfect botanical subjects! We’ll draw or paint new family of specimens each week. You’ll create a sketchbook page based on the week’s topic. Not only will we learn about that week’s botanical theme\, but we’ll see how these subjects fit into the broader realm of contemporary botanical art. Themes will include: flowers\, fungi\, moss\, lichens\, leaves\, seed pods\, gourds\, and fir trees. \nMargaret Saylor is the editor/designer of ASBA’s The Botanical Artist journal. She earned a certificate in botanical art and illustration\, with distinction\, from the NYBG. \nAll levels welcome; some drawing experience helpful but not necessary. We will work in graphite\, Micron pen\, and/or watercolor. A Zoom link and a recommended materials list will be emailed to all participants.
URL:https://gridphilly.com/event/botanical-illustration-creating-a-botanical-sketchbook/2023-10-24/
LOCATION:Online
CATEGORIES:Artists' Workshop Series,Arts & Culture,Classes & Workshops,Environmental Art,Workshop
ATTACH;FMTTYPE=image/jpeg:https://gridphilly.com/wp-content/uploads/2023/09/1687671142795.jpg
ORGANIZER;CN="Morris Arboretum":MAILTO:education@morrisarboretum.org
END:VEVENT
BEGIN:VEVENT
DTSTART;TZID=America/New_York:20231017T183000
DTEND;TZID=America/New_York:20231017T203000
DTSTAMP:20260419T232306
CREATED:20230918T144002Z
LAST-MODIFIED:20230918T144002Z
UID:10006927-1697567400-1697574600@gridphilly.com
SUMMARY:Botanical Illustration: Creating a Botanical Sketchbook
DESCRIPTION:Taught by Margaret Saylor\, Artist; Member\, American Society of Botanical Artists (ASBA) and the Philadelphia Society of Botanical Illustrators \nThe wonderful natural elements that make up our autumn outdoor world are perfect botanical subjects! We’ll draw or paint new family of specimens each week. You’ll create a sketchbook page based on the week’s topic. Not only will we learn about that week’s botanical theme\, but we’ll see how these subjects fit into the broader realm of contemporary botanical art. Themes will include: flowers\, fungi\, moss\, lichens\, leaves\, seed pods\, gourds\, and fir trees. \nMargaret Saylor is the editor/designer of ASBA’s The Botanical Artist journal. She earned a certificate in botanical art and illustration\, with distinction\, from the NYBG. \nAll levels welcome; some drawing experience helpful but not necessary. We will work in graphite\, Micron pen\, and/or watercolor. A Zoom link and a recommended materials list will be emailed to all participants.
URL:https://gridphilly.com/event/botanical-illustration-creating-a-botanical-sketchbook/2023-10-17/
LOCATION:Online
CATEGORIES:Artists' Workshop Series,Arts & Culture,Classes & Workshops,Environmental Art,Workshop
ATTACH;FMTTYPE=image/jpeg:https://gridphilly.com/wp-content/uploads/2023/09/1687671142795.jpg
ORGANIZER;CN="Morris Arboretum":MAILTO:education@morrisarboretum.org
END:VEVENT
BEGIN:VEVENT
DTSTART;TZID=America/New_York:20231010T183000
DTEND;TZID=America/New_York:20231010T203000
DTSTAMP:20260419T232306
CREATED:20230918T144002Z
LAST-MODIFIED:20230918T144002Z
UID:10006926-1696962600-1696969800@gridphilly.com
SUMMARY:Botanical Illustration: Creating a Botanical Sketchbook
DESCRIPTION:Taught by Margaret Saylor\, Artist; Member\, American Society of Botanical Artists (ASBA) and the Philadelphia Society of Botanical Illustrators \nThe wonderful natural elements that make up our autumn outdoor world are perfect botanical subjects! We’ll draw or paint new family of specimens each week. You’ll create a sketchbook page based on the week’s topic. Not only will we learn about that week’s botanical theme\, but we’ll see how these subjects fit into the broader realm of contemporary botanical art. Themes will include: flowers\, fungi\, moss\, lichens\, leaves\, seed pods\, gourds\, and fir trees. \nMargaret Saylor is the editor/designer of ASBA’s The Botanical Artist journal. She earned a certificate in botanical art and illustration\, with distinction\, from the NYBG. \nAll levels welcome; some drawing experience helpful but not necessary. We will work in graphite\, Micron pen\, and/or watercolor. A Zoom link and a recommended materials list will be emailed to all participants.
URL:https://gridphilly.com/event/botanical-illustration-creating-a-botanical-sketchbook/2023-10-10/
LOCATION:Online
CATEGORIES:Artists' Workshop Series,Arts & Culture,Classes & Workshops,Environmental Art,Workshop
ATTACH;FMTTYPE=image/jpeg:https://gridphilly.com/wp-content/uploads/2023/09/1687671142795.jpg
ORGANIZER;CN="Morris Arboretum":MAILTO:education@morrisarboretum.org
END:VEVENT
BEGIN:VEVENT
DTSTART;TZID=America/New_York:20231003T183000
DTEND;TZID=America/New_York:20231003T203000
DTSTAMP:20260419T232306
CREATED:20230918T144002Z
LAST-MODIFIED:20230918T144002Z
UID:10006925-1696357800-1696365000@gridphilly.com
SUMMARY:Botanical Illustration: Creating a Botanical Sketchbook
DESCRIPTION:Taught by Margaret Saylor\, Artist; Member\, American Society of Botanical Artists (ASBA) and the Philadelphia Society of Botanical Illustrators \nThe wonderful natural elements that make up our autumn outdoor world are perfect botanical subjects! We’ll draw or paint new family of specimens each week. You’ll create a sketchbook page based on the week’s topic. Not only will we learn about that week’s botanical theme\, but we’ll see how these subjects fit into the broader realm of contemporary botanical art. Themes will include: flowers\, fungi\, moss\, lichens\, leaves\, seed pods\, gourds\, and fir trees. \nMargaret Saylor is the editor/designer of ASBA’s The Botanical Artist journal. She earned a certificate in botanical art and illustration\, with distinction\, from the NYBG. \nAll levels welcome; some drawing experience helpful but not necessary. We will work in graphite\, Micron pen\, and/or watercolor. A Zoom link and a recommended materials list will be emailed to all participants.
URL:https://gridphilly.com/event/botanical-illustration-creating-a-botanical-sketchbook/2023-10-03/
LOCATION:Online
CATEGORIES:Artists' Workshop Series,Arts & Culture,Classes & Workshops,Environmental Art,Workshop
ATTACH;FMTTYPE=image/jpeg:https://gridphilly.com/wp-content/uploads/2023/09/1687671142795.jpg
ORGANIZER;CN="Morris Arboretum":MAILTO:education@morrisarboretum.org
END:VEVENT
BEGIN:VEVENT
DTSTART;TZID=America/New_York:20230930T090000
DTEND;TZID=America/New_York:20230930T143000
DTSTAMP:20260419T232306
CREATED:20230921T185105Z
LAST-MODIFIED:20230921T185105Z
UID:10007058-1696064400-1696084200@gridphilly.com
SUMMARY:Ferns & Foliage- Learning Photography Together
DESCRIPTION:Taught by Laura Ducceschi\, Award-winning Fine Art Photographer \nHave you been frustrated trying to photograph beautiful plants & natural settings? Even though plants sit still\, capturing the beauty they display in person through a camera is a challenge! Special strategies are needed to fully capture the range of colors and textures that plants captivate us with in their natural settings. Luckily\, the warm colors of autumnal foliage at Morris provide the perfect opportunity to learn and practice these strategies\, even providing challenging environments like the steamy interior of the Fernery. \nThe first session on Saturday will include a classroom presentation and instruction\, and we will move outdoors on Sunday for session two to practice what we learned\, shooting in the fernery and gardens. Bring your own camera that you have some familiarity with—mirrorless and DSLR cameras are recommended\, as are tripods.
URL:https://gridphilly.com/event/ferns-foliage-learning-photography-together/2023-09-30/
LOCATION:Morris Arboretum & Gardens\, 100 E Northwestern Ave\, Philadelphia\, 19118\, United States
CATEGORIES:Classes & Workshops,Environmental Art,Outdoor Event
ATTACH;FMTTYPE=image/jpeg:https://gridphilly.com/wp-content/uploads/2023/09/Laura-Ducceschi-Fern-Photo.jpg
ORGANIZER;CN="Morris Arboretum":MAILTO:education@morrisarboretum.org
END:VEVENT
BEGIN:VEVENT
DTSTART;TZID=America/New_York:20230928T180000
DTEND;TZID=America/New_York:20230928T193000
DTSTAMP:20260419T232306
CREATED:20230921T183944Z
LAST-MODIFIED:20230921T183944Z
UID:10007053-1695924000-1695929400@gridphilly.com
SUMMARY:Moonlight Mindfulness
DESCRIPTION:Led by Sara Trohaugh\, Longtime Yoga Instructor\, Therapeutic Massage Practitioner\, and Tree Hugger \nMindfulness meditation is a form of meditation designed to develop the skills of deep listening to our inner and outer experiences with acceptance\, patience\, and compassion. Join us for a unique opportunity to practice walking mindfulness meditation in the light of September’s Harvest Moon. \nIn the beautiful setting of the Morris\, this class will guide us to use mindfulness meditation practices to enjoy our moonlit surroundings and be fully present with ourselves while we stroll through as the sun sets\, the moon rises\, and the day turns to dusk and then to night. Please wear comfortable walking shoes and dress for the weather. Bring a flashlight!
URL:https://gridphilly.com/event/moonlight-mindfulness/
LOCATION:Morris Arboretum & Gardens\, 100 E Northwestern Ave\, Philadelphia\, 19118\, United States
CATEGORIES:Classes & Workshops,Health & Wellness,Outdoor Event,Yoga & Meditation
ATTACH;FMTTYPE=image/jpeg:https://gridphilly.com/wp-content/uploads/2023/09/OutdoorEvening_Walking_1580-scaled.jpg
ORGANIZER;CN="Morris Arboretum":MAILTO:education@morrisarboretum.org
END:VEVENT
BEGIN:VEVENT
DTSTART;TZID=America/New_York:20230926T183000
DTEND;TZID=America/New_York:20230926T203000
DTSTAMP:20260419T232306
CREATED:20230918T144002Z
LAST-MODIFIED:20230918T144002Z
UID:10006924-1695753000-1695760200@gridphilly.com
SUMMARY:Botanical Illustration: Creating a Botanical Sketchbook
DESCRIPTION:Taught by Margaret Saylor\, Artist; Member\, American Society of Botanical Artists (ASBA) and the Philadelphia Society of Botanical Illustrators \nThe wonderful natural elements that make up our autumn outdoor world are perfect botanical subjects! We’ll draw or paint new family of specimens each week. You’ll create a sketchbook page based on the week’s topic. Not only will we learn about that week’s botanical theme\, but we’ll see how these subjects fit into the broader realm of contemporary botanical art. Themes will include: flowers\, fungi\, moss\, lichens\, leaves\, seed pods\, gourds\, and fir trees. \nMargaret Saylor is the editor/designer of ASBA’s The Botanical Artist journal. She earned a certificate in botanical art and illustration\, with distinction\, from the NYBG. \nAll levels welcome; some drawing experience helpful but not necessary. We will work in graphite\, Micron pen\, and/or watercolor. A Zoom link and a recommended materials list will be emailed to all participants.
URL:https://gridphilly.com/event/botanical-illustration-creating-a-botanical-sketchbook/2023-09-26/
LOCATION:Online
CATEGORIES:Artists' Workshop Series,Arts & Culture,Classes & Workshops,Environmental Art,Workshop
ATTACH;FMTTYPE=image/jpeg:https://gridphilly.com/wp-content/uploads/2023/09/1687671142795.jpg
ORGANIZER;CN="Morris Arboretum":MAILTO:education@morrisarboretum.org
END:VEVENT
BEGIN:VEVENT
DTSTART;TZID=America/New_York:20230919T183000
DTEND;TZID=America/New_York:20230919T203000
DTSTAMP:20260419T232306
CREATED:20230918T144002Z
LAST-MODIFIED:20230918T144002Z
UID:10006923-1695148200-1695155400@gridphilly.com
SUMMARY:Botanical Illustration: Creating a Botanical Sketchbook
DESCRIPTION:Taught by Margaret Saylor\, Artist; Member\, American Society of Botanical Artists (ASBA) and the Philadelphia Society of Botanical Illustrators \nThe wonderful natural elements that make up our autumn outdoor world are perfect botanical subjects! We’ll draw or paint new family of specimens each week. You’ll create a sketchbook page based on the week’s topic. Not only will we learn about that week’s botanical theme\, but we’ll see how these subjects fit into the broader realm of contemporary botanical art. Themes will include: flowers\, fungi\, moss\, lichens\, leaves\, seed pods\, gourds\, and fir trees. \nMargaret Saylor is the editor/designer of ASBA’s The Botanical Artist journal. She earned a certificate in botanical art and illustration\, with distinction\, from the NYBG. \nAll levels welcome; some drawing experience helpful but not necessary. We will work in graphite\, Micron pen\, and/or watercolor. A Zoom link and a recommended materials list will be emailed to all participants.
URL:https://gridphilly.com/event/botanical-illustration-creating-a-botanical-sketchbook/2023-09-19/
LOCATION:Online
CATEGORIES:Artists' Workshop Series,Arts & Culture,Classes & Workshops,Environmental Art,Workshop
ATTACH;FMTTYPE=image/jpeg:https://gridphilly.com/wp-content/uploads/2023/09/1687671142795.jpg
ORGANIZER;CN="Morris Arboretum":MAILTO:education@morrisarboretum.org
END:VEVENT
BEGIN:VEVENT
DTSTART;TZID=America/New_York:20230916T103000
DTEND;TZID=America/New_York:20230916T120000
DTSTAMP:20260419T232306
CREATED:20230914T190846Z
LAST-MODIFIED:20230914T190846Z
UID:10006835-1694860200-1694865600@gridphilly.com
SUMMARY:Composting for a Sustainable Future
DESCRIPTION:Taught by Heather Guidice\, Founder of Kona Compost Company. \nFood and yard waste are an inevitable part of life\, but they can also be a highly valuable resource. Composting is an environmentally friendly way to handle your organic refuse. Heather Guidice\, owner of the local composting business Kona Compost Co.\, will guide you on the various ways to transform your waste into a nutrient-dense soil amendment that your plants\, garden\, and soil will love. Learn about the benefits of compost\, the dos and don’ts of composting\, and the variety of composting options available as you begin your journey or further refine your composting skills.
URL:https://gridphilly.com/event/composting-for-a-sustainable-future-2/
LOCATION:Morris Arboretum & Gardens\, 100 E Northwestern Ave\, Philadelphia\, 19118\, United States
CATEGORIES:Classes & Workshops,Food,Gardening & DIY
ATTACH;FMTTYPE=image/jpeg:https://gridphilly.com/wp-content/uploads/2023/09/Kona-Compost-Co-scaled.jpg
ORGANIZER;CN="Morris Arboretum":MAILTO:education@morrisarboretum.org
END:VEVENT
END:VCALENDAR