BEGIN:VCALENDAR
VERSION:2.0
PRODID:-//Grid Magazine - ECPv6.15.20//NONSGML v1.0//EN
CALSCALE:GREGORIAN
METHOD:PUBLISH
X-ORIGINAL-URL:https://gridphilly.com
X-WR-CALDESC:Events for Grid Magazine
REFRESH-INTERVAL;VALUE=DURATION:PT1H
X-Robots-Tag:noindex
X-PUBLISHED-TTL:PT1H
BEGIN:VTIMEZONE
TZID:America/New_York
BEGIN:DAYLIGHT
TZOFFSETFROM:-0500
TZOFFSETTO:-0400
TZNAME:EDT
DTSTART:20250309T070000
END:DAYLIGHT
BEGIN:STANDARD
TZOFFSETFROM:-0400
TZOFFSETTO:-0500
TZNAME:EST
DTSTART:20251102T060000
END:STANDARD
BEGIN:DAYLIGHT
TZOFFSETFROM:-0500
TZOFFSETTO:-0400
TZNAME:EDT
DTSTART:20260308T070000
END:DAYLIGHT
BEGIN:STANDARD
TZOFFSETFROM:-0400
TZOFFSETTO:-0500
TZNAME:EST
DTSTART:20261101T060000
END:STANDARD
BEGIN:DAYLIGHT
TZOFFSETFROM:-0500
TZOFFSETTO:-0400
TZNAME:EDT
DTSTART:20270314T070000
END:DAYLIGHT
BEGIN:STANDARD
TZOFFSETFROM:-0400
TZOFFSETTO:-0500
TZNAME:EST
DTSTART:20271107T060000
END:STANDARD
END:VTIMEZONE
BEGIN:VEVENT
DTSTART;TZID=America/New_York:20260520T170000
DTEND;TZID=America/New_York:20260520T193000
DTSTAMP:20260419T162418
CREATED:20260419T022750Z
LAST-MODIFIED:20260419T022750Z
UID:10032415-1779296400-1779305400@gridphilly.com
SUMMARY:From Keepers to Catalysts: Museums as Engines of Equitable Tourism
DESCRIPTION:Today\, museums are leveraging their authority to actively re-engineer tourism as an equitable\, local community benefiting force.\n\n\nFrom Venice to New Orleans\, museums sit at the center of heritage tourism economies where stark racial income disparities and chronic underinvestment in cultural infrastructure persist. Today\, museums are leveraging their authority to actively re-engineer tourism as an equitable\, local community benefiting force. \nJoin us during AAM 2026 in Philadelphia\, for a conversation with international museum leaders and cultural visionaries\, including confirmed speakers: \n\nJoy Bailey-Bryant — President & Managing Partner\, Lord Cultural Resources\nDaniel Hammer — ICOM Board member\, President & CEO\, The Historic New Orleans Collection\nArthur Affleck — Co-Chair\, ICOM-US; President & CEO\, Association of Children’s Museums\nKate Quinn — Co-Chair\, ICOM-US\nValerie Gay — Chief Cultural Officer\, City of Philadelphia\nLauren Swartz — President & CEO World Affairs Council of Philadelphia\nAngela Val — President & CEO of Visit Philadelphia\n\n \nAttendees will explore how museums can expand public value and act as engines of equitable heritage tourism\, particularly at the neighborhood and city scale. \nAttendees will leave with strategies to: \n\nAdvance equitable\, sustainable models of heritage tourism\nIncentivize public and private investment in museums as social infrastructure\nReimagine museums as co-creators of healthy\, inclusive\, and resilient communities\n\nHosted at the Fabric Workshop & Museum\, an institution internationally recognized for artist-led experimentation and collaborative making\, the setting reflects the conversation itself — museums as active spaces for innovation\, dialogue\, and public value.
URL:https://gridphilly.com/event/from-keepers-to-catalysts-museums-as-engines-of-equitable-tourism/
LOCATION:The Fabric Workshop and Museum\, 1214 Arch Street\, Philadelphia\, PA\, 19107\, United States
ATTACH;FMTTYPE=image/jpeg:https://gridphilly.com/wp-content/uploads/2026/04/a4fbd0b61b77bc90f507ac83a2c55ef8.jpg
END:VEVENT
END:VCALENDAR