BEGIN:VCALENDAR
VERSION:2.0
PRODID:-//Grid Magazine - ECPv6.15.20//NONSGML v1.0//EN
CALSCALE:GREGORIAN
METHOD:PUBLISH
X-WR-CALNAME:Grid Magazine
X-ORIGINAL-URL:https://gridphilly.com
X-WR-CALDESC:Events for Grid Magazine
REFRESH-INTERVAL;VALUE=DURATION:PT1H
X-Robots-Tag:noindex
X-PUBLISHED-TTL:PT1H
BEGIN:VTIMEZONE
TZID:America/New_York
BEGIN:DAYLIGHT
TZOFFSETFROM:-0500
TZOFFSETTO:-0400
TZNAME:EDT
DTSTART:20240310T070000
END:DAYLIGHT
BEGIN:STANDARD
TZOFFSETFROM:-0400
TZOFFSETTO:-0500
TZNAME:EST
DTSTART:20241103T060000
END:STANDARD
BEGIN:DAYLIGHT
TZOFFSETFROM:-0500
TZOFFSETTO:-0400
TZNAME:EDT
DTSTART:20250309T070000
END:DAYLIGHT
BEGIN:STANDARD
TZOFFSETFROM:-0400
TZOFFSETTO:-0500
TZNAME:EST
DTSTART:20251102T060000
END:STANDARD
BEGIN:DAYLIGHT
TZOFFSETFROM:-0500
TZOFFSETTO:-0400
TZNAME:EDT
DTSTART:20260308T070000
END:DAYLIGHT
BEGIN:STANDARD
TZOFFSETFROM:-0400
TZOFFSETTO:-0500
TZNAME:EST
DTSTART:20261101T060000
END:STANDARD
END:VTIMEZONE
BEGIN:VEVENT
DTSTART;TZID=America/New_York:20250219T170000
DTEND;TZID=America/New_York:20250219T210000
DTSTAMP:20260421T063738
CREATED:20250211T210739Z
LAST-MODIFIED:20250211T210739Z
UID:10017065-1739984400-1739998800@gridphilly.com
SUMMARY:Making Black America Great Again!
DESCRIPTION:Let’s come together to celebrate and uplift the achievements\, culture\, and resilience of Black America!\n\n\nWelcome to Making Black America Great Again! \nCome join us at The Rotunda for a powerful event celebrating the strength and resilience of the Black community. This in-person gathering will feature inspiring speakers\, thought-provoking discussions\, and opportunities to connect with like-minded individuals. \nIt will also include a storytelling production celebrating black history that includes Acting\, Comedy\, Poetry\, Singing\, Hip-Hop\, fashion\, and literature. \nLet’s unite to uplift\, empower\, and support each other as we work towards a brighter future. Don’t miss out on this incredible opportunity to be part of a movement for positive change. See you there!
URL:https://gridphilly.com/event/making-black-america-great-again/
LOCATION:The Rotunda\, 4014 Walnut Street\, Philadelphia\, PA\, 19104\, United States
ATTACH;FMTTYPE=image/jpeg:https://gridphilly.com/wp-content/uploads/2025/02/b819904e30a18da75baf74089c272f05.jpg
END:VEVENT
END:VCALENDAR