BEGIN:VCALENDAR
VERSION:2.0
PRODID:-//Grid Magazine - ECPv6.15.20//NONSGML v1.0//EN
CALSCALE:GREGORIAN
METHOD:PUBLISH
X-WR-CALNAME:Grid Magazine
X-ORIGINAL-URL:https://gridphilly.com
X-WR-CALDESC:Events for Grid Magazine
REFRESH-INTERVAL;VALUE=DURATION:PT1H
X-Robots-Tag:noindex
X-PUBLISHED-TTL:PT1H
BEGIN:VTIMEZONE
TZID:America/New_York
BEGIN:DAYLIGHT
TZOFFSETFROM:-0500
TZOFFSETTO:-0400
TZNAME:EDT
DTSTART:20230312T070000
END:DAYLIGHT
BEGIN:STANDARD
TZOFFSETFROM:-0400
TZOFFSETTO:-0500
TZNAME:EST
DTSTART:20231105T060000
END:STANDARD
BEGIN:DAYLIGHT
TZOFFSETFROM:-0500
TZOFFSETTO:-0400
TZNAME:EDT
DTSTART:20240310T070000
END:DAYLIGHT
BEGIN:STANDARD
TZOFFSETFROM:-0400
TZOFFSETTO:-0500
TZNAME:EST
DTSTART:20241103T060000
END:STANDARD
BEGIN:DAYLIGHT
TZOFFSETFROM:-0500
TZOFFSETTO:-0400
TZNAME:EDT
DTSTART:20250309T070000
END:DAYLIGHT
BEGIN:STANDARD
TZOFFSETFROM:-0400
TZOFFSETTO:-0500
TZNAME:EST
DTSTART:20251102T060000
END:STANDARD
BEGIN:DAYLIGHT
TZOFFSETFROM:-0500
TZOFFSETTO:-0400
TZNAME:EDT
DTSTART:20260308T070000
END:DAYLIGHT
BEGIN:STANDARD
TZOFFSETFROM:-0400
TZOFFSETTO:-0500
TZNAME:EST
DTSTART:20261101T060000
END:STANDARD
BEGIN:DAYLIGHT
TZOFFSETFROM:-0500
TZOFFSETTO:-0400
TZNAME:EDT
DTSTART:20270314T070000
END:DAYLIGHT
BEGIN:STANDARD
TZOFFSETFROM:-0400
TZOFFSETTO:-0500
TZNAME:EST
DTSTART:20271107T060000
END:STANDARD
END:VTIMEZONE
BEGIN:VEVENT
DTSTART;TZID=America/New_York:20260411T140000
DTEND;TZID=America/New_York:20260411T153000
DTSTAMP:20260421T053818
CREATED:20260329T231325Z
LAST-MODIFIED:20260329T231808Z
UID:10030601-1775916000-1775921400@gridphilly.com
SUMMARY:Counter-Revolutionary Lives - Prisoners of Congress
DESCRIPTION:A Conversation with Norman E. Donoghue II\, historian and author\, facilitated by\nauthor Mark Bowden
URL:https://gridphilly.com/event/counter-revolutionary-lives-prisoners-of-congress/
LOCATION:Kennett Library\, 320 East State Street\, Kennett Square\, PA\, 19348\, United States
ATTACH;FMTTYPE=image/jpeg:https://gridphilly.com/wp-content/uploads/2026/03/9a53610b3f631bd221370da1494059a9.jpg
END:VEVENT
BEGIN:VEVENT
DTSTART;TZID=America/New_York:20251206T150000
DTEND;TZID=America/New_York:20251206T160000
DTSTAMP:20260421T053818
CREATED:20251124T141557Z
LAST-MODIFIED:20251124T141557Z
UID:10025125-1765033200-1765036800@gridphilly.com
SUMMARY:Speaking of History
DESCRIPTION:Author and journalist Mark Bowden will explore with local author Bruce Mowday the\ninspiration behind his long list of books on local history\n\n\nWhat do Andrew Wyeth\, a murderous family\, the Brandywine River\, General Lafayette\, and the recent international fascination with escaped criminal Danilo Cavalcante all have in common? They have been topics of Bruce’s writing\, interest\, and portrayal of Chester County’s history. \nSaturday\, December 6\, 2025  at KENNETT FRIENDS MEETING HOUSE
URL:https://gridphilly.com/event/speaking-of-history/
LOCATION:Kennett Friends Meeting\, 125 West Sickle Street\, Kennett Square\, PA\, 19348\, United States
ATTACH;FMTTYPE=image/jpeg:https://gridphilly.com/wp-content/uploads/2025/11/5e8448d66dd2428feda8128e9dbfd6cd.jpg
END:VEVENT
BEGIN:VEVENT
DTSTART;TZID=America/New_York:20250920T150000
DTEND;TZID=America/New_York:20250920T160000
DTSTAMP:20260421T053818
CREATED:20250913T195812Z
LAST-MODIFIED:20250913T195812Z
UID:10021889-1758380400-1758384000@gridphilly.com
SUMMARY:ALONG the RED CLAY: The Surprising History of Anson B. Nixon Park
DESCRIPTION:Speaker: Clarke Green\, local author and visual artist\n\n\nClarke Green will take you on an armchair tour through the rich\, surprising history of the park’s woods\, waterways\, and meadows. The land now managed by the Kennett Area Park Authority has been the site of events in both the War of the Revolution and the War of 1812\, the Industrial Revolution\, and home to some remarkable people. \n\n\nThis free series of talks focused on local history is presented by the Kennett Heritage Center and Kennett Township Historical Commission\, made possible by a grant from Hadley. \n \nSEATING IS LIMITED- If you reserve a seat but find you are unable to attend\, please cancel your ticket.
URL:https://gridphilly.com/event/along-the-red-clay-the-surprising-history-of-anson-b-nixon-park/
LOCATION:Kennett Library\, 320 East State Street\, Kennett Square\, PA\, 19348\, United States
ATTACH;FMTTYPE=image/jpeg:https://gridphilly.com/wp-content/uploads/2025/09/622f3881418ff7652fde865626cd4b68.jpg
END:VEVENT
BEGIN:VEVENT
DTSTART;TZID=America/New_York:20250426T150000
DTEND;TZID=America/New_York:20250426T160000
DTSTAMP:20260421T053818
CREATED:20250418T172410Z
LAST-MODIFIED:20250418T172410Z
UID:10018456-1745679600-1745683200@gridphilly.com
SUMMARY:Speaking of History - Hamorton Village -250 Years of History
DESCRIPTION:Hamorton Village – Skirmishes\, Abolition\, and Longwood Gardens\n\n\nSpeaker: Tina Bennett\, Kennett Township Historical Commissioner \nLocated at the intersection of Route 1 and Route 52 Hamorton Village is one of the first employee housing developments in the nation. Beyond its current “drive-by” status lies a rich history\, including a major skirmish of the Battle of Brandywine\, a “Free Produce Store”\, the residence of a distinguished doctor and conductor on the Underground Railroad\, and a school open to students regardless of color. Explore this National Register village and the depth of the story contained behind its walls. \n\n\nSeating is limited so be sure to reserve a seat with a free ticket. If you are unable to attend\, please cancel your ticket.  You do not need to print your ticket.
URL:https://gridphilly.com/event/speaking-of-history-hamorton-village-250-years-of-history/
LOCATION:Kennett Friends meetinghouse\, 125 West Sickle Street\, Kennett Square\, PA\, 19348\, United States
ATTACH;FMTTYPE=image/jpeg:https://gridphilly.com/wp-content/uploads/2025/04/1edd58eed3c7c065bf2c714d5f62ddcd.jpg
END:VEVENT
BEGIN:VEVENT
DTSTART;TZID=America/New_York:20240915T130000
DTEND;TZID=America/New_York:20240915T140000
DTSTAMP:20260421T053818
CREATED:20240909T140944Z
LAST-MODIFIED:20240909T144603Z
UID:10014501-1726405200-1726408800@gridphilly.com
SUMMARY:Speaking of History - "They Suffered So"
DESCRIPTION:Learn about the impact that 15\,000 soldiers had on Kennett citizens on September 10\,1777.\n\n\nFeatured Speaker: Cliff Parker\, Director\, Chester County Archives \nIn September 1777\, British and American soldiers marched across Chester County’s landscape\, causing considerable damage to those in their path. On September 10\, 15\,000 British Crown Force soldiers and camp followers descended on Kennett Township and the tiny settlement of Kennett Village. Mr. Parker will share his research and stories of the “ordinary people” and how this event altered the course of many lives. Facilitated by author and journalist Mark Bowden
URL:https://gridphilly.com/event/speaking-of-history-they-suffered-so/
LOCATION:Kennett Library\, 320 East State Street\, Kennett Square\, PA\, 19348\, United States
ATTACH;FMTTYPE=image/jpeg:https://gridphilly.com/wp-content/uploads/2024/09/f91bbd65b58de8165d33d2b792a31d20.jpg
END:VEVENT
BEGIN:VEVENT
DTSTART;TZID=America/New_York:20240622T110000
DTEND;TZID=America/New_York:20240622T140000
DTSTAMP:20260421T053818
CREATED:20240620T164003Z
LAST-MODIFIED:20240620T164003Z
UID:10013374-1719054000-1719064800@gridphilly.com
SUMMARY:Speaking of History - Juneteenth
DESCRIPTION:June 22nd the Kennett Heritage Center will present a 3-part historical program as part of Kennett Square’s month-long Juneteenth Celebration
URL:https://gridphilly.com/event/speaking-of-history-juneteenth/
LOCATION:Kennett Library\, 320 East State Street\, Kennett Square\, PA\, 19348\, United States
ATTACH;FMTTYPE=image/jpeg:https://gridphilly.com/wp-content/uploads/2024/06/e95769abb0f5a749b7b20e0fd5f3206c.jpg
END:VEVENT
END:VCALENDAR