BEGIN:VCALENDAR
VERSION:2.0
PRODID:-//Grid Magazine - ECPv6.15.20//NONSGML v1.0//EN
CALSCALE:GREGORIAN
METHOD:PUBLISH
X-ORIGINAL-URL:https://gridphilly.com
X-WR-CALDESC:Events for Grid Magazine
REFRESH-INTERVAL;VALUE=DURATION:PT1H
X-Robots-Tag:noindex
X-PUBLISHED-TTL:PT1H
BEGIN:VTIMEZONE
TZID:America/New_York
BEGIN:DAYLIGHT
TZOFFSETFROM:-0500
TZOFFSETTO:-0400
TZNAME:EDT
DTSTART:20240310T070000
END:DAYLIGHT
BEGIN:STANDARD
TZOFFSETFROM:-0400
TZOFFSETTO:-0500
TZNAME:EST
DTSTART:20241103T060000
END:STANDARD
BEGIN:DAYLIGHT
TZOFFSETFROM:-0500
TZOFFSETTO:-0400
TZNAME:EDT
DTSTART:20250309T070000
END:DAYLIGHT
BEGIN:STANDARD
TZOFFSETFROM:-0400
TZOFFSETTO:-0500
TZNAME:EST
DTSTART:20251102T060000
END:STANDARD
BEGIN:DAYLIGHT
TZOFFSETFROM:-0500
TZOFFSETTO:-0400
TZNAME:EDT
DTSTART:20260308T070000
END:DAYLIGHT
BEGIN:STANDARD
TZOFFSETFROM:-0400
TZOFFSETTO:-0500
TZNAME:EST
DTSTART:20261101T060000
END:STANDARD
BEGIN:DAYLIGHT
TZOFFSETFROM:-0500
TZOFFSETTO:-0400
TZNAME:EDT
DTSTART:20270314T070000
END:DAYLIGHT
BEGIN:STANDARD
TZOFFSETFROM:-0400
TZOFFSETTO:-0500
TZNAME:EST
DTSTART:20271107T060000
END:STANDARD
END:VTIMEZONE
BEGIN:VEVENT
DTSTART;TZID=America/New_York:20260414T193000
DTEND;TZID=America/New_York:20260414T203000
DTSTAMP:20260424T133722
CREATED:20260406T203041Z
LAST-MODIFIED:20260406T203041Z
UID:10032102-1776195000-1776198600@gridphilly.com
SUMMARY:Historical Society of Frankford April Meeting  and Lecture
DESCRIPTION:The Historical Society of Frankford (HSF) today invites the public to hear Roger Turner\, curator of instruments and artifacts at the Science History Institute of Philadelphia\, speak at its monthly meeting on April 14\, 2026 at 7:30 PM. The doors open at 7:00 PM. His topic will be “Weird\, Wonderful\, Playful and Profound: Treasures of the Science History Institute”. The venue is the HSF library/museum\, located at 1507 Orthodox St\, Philadelphia. The event is free and open to the public\, and parking is available across Orthodox Street at the Frankford Friends School. Light refreshments will be served.
URL:https://gridphilly.com/event/historical-society-of-frankford-april-meeting-and-lecture-2/
LOCATION:Frankford Historical Society\, 1507 Orthodox St\, Philadelphia\, 19124\, United States
CATEGORIES:Education/Lecture,family and kid friendly,History
ATTACH;FMTTYPE=image/png:https://gridphilly.com/wp-content/uploads/2026/04/Screenshot-2026-04-06-at-4.27.43-PM.png
ORGANIZER;CN="Historical Society of Frankford":MAILTO:mike@thsof.org
END:VEVENT
BEGIN:VEVENT
DTSTART;TZID=America/New_York:20260310T190000
DTEND;TZID=America/New_York:20260310T203000
DTSTAMP:20260424T133722
CREATED:20260219T181142Z
LAST-MODIFIED:20260219T181142Z
UID:10029035-1773169200-1773174600@gridphilly.com
SUMMARY:Historical Society of Frankford March Meeting and Lecture
DESCRIPTION:The Historical Society of Frankford is pleased to host Kimberly Washington\, Esq.\, Executive Director of the Frankford Community Development Corporation (FCDC)\, as its speaker on Tuesday\, March 10 at the Society’s Library/Museum at 1507 Orthodox St\, Philadelphia\, PA . Ms. Washington will discuss the history\, impact and future of FCDC as it leads the preservation and re-development of this historic neighborhood. The event is free and open to the public\, and light refreshments will be served. Doors open at 7:00 PM and the lecture begins at 7:30 PM. Offstreet parking will be available at the Frankford Friends School\, directly across Orthodox St from HSF. Additional information is available at mike@thsof.org\, or by phonne at 216-650-3929.
URL:https://gridphilly.com/event/historical-society-of-frankford-march-meeting-and-lecture/
LOCATION:Frankford Historical Society\, 1507 Orthodox St\, Philadelphia\, 19124\, United States
CATEGORIES:Announcements,Community Events,Education/Lecture,Free Community Events,History
ATTACH;FMTTYPE=image/png:https://gridphilly.com/wp-content/uploads/2026/02/Screenshot-2026-02-19-at-1.10.42-PM.png
ORGANIZER;CN="Historical Society of Frankford":MAILTO:mike@thsof.org
END:VEVENT
BEGIN:VEVENT
DTSTART;TZID=America/New_York:20251111T193000
DTEND;TZID=America/New_York:20251111T203000
DTSTAMP:20260424T133722
CREATED:20251028T190407Z
LAST-MODIFIED:20251028T190407Z
UID:10023670-1762889400-1762893000@gridphilly.com
SUMMARY:Historical Society of Frankford November Meeting and Lecture
DESCRIPTION:Philadelphia author Joe Lex will speak about his newly published book All Bones Considered: 52 Laurel Women at the HSF library/museum. Not all “hidden Figures” are mathematicians or engineers. Some are political figures. Others chose medicine\, while still others went into the arts. This book tells the amazing stories of more than 50 women whose final resting place is two cemeteries in Philadelphia\, gathered by Dr. Joe Lex\, who volunteers as a docent at the Laurel Hill cemeteries. Copies of the book will be available for purchase. This event is free and open to the public. Light refreshments will be served. The lecture will also livestream in the Historical Society’s Facebook page.215
URL:https://gridphilly.com/event/historical-society-of-frankford-november-meeting-and-lecture/
LOCATION:Historical Society of Frankford\, 1507 Orthodox St\, Philadelphia\,\, PA\, 19124\, United States
CATEGORIES:History
ATTACH;FMTTYPE=image/png:https://gridphilly.com/wp-content/uploads/2025/10/Screen-Shot-2025-10-28-at-3.03.04-PM.png
ORGANIZER;CN="Historical Society of Frankford":MAILTO:mike@thsof.org
END:VEVENT
END:VCALENDAR