BEGIN:VCALENDAR
VERSION:2.0
PRODID:-//Grid Magazine - ECPv6.15.20//NONSGML v1.0//EN
CALSCALE:GREGORIAN
METHOD:PUBLISH
X-ORIGINAL-URL:https://gridphilly.com
X-WR-CALDESC:Events for Grid Magazine
REFRESH-INTERVAL;VALUE=DURATION:PT1H
X-Robots-Tag:noindex
X-PUBLISHED-TTL:PT1H
BEGIN:VTIMEZONE
TZID:America/New_York
BEGIN:DAYLIGHT
TZOFFSETFROM:-0500
TZOFFSETTO:-0400
TZNAME:EDT
DTSTART:20240310T070000
END:DAYLIGHT
BEGIN:STANDARD
TZOFFSETFROM:-0400
TZOFFSETTO:-0500
TZNAME:EST
DTSTART:20241103T060000
END:STANDARD
BEGIN:DAYLIGHT
TZOFFSETFROM:-0500
TZOFFSETTO:-0400
TZNAME:EDT
DTSTART:20250309T070000
END:DAYLIGHT
BEGIN:STANDARD
TZOFFSETFROM:-0400
TZOFFSETTO:-0500
TZNAME:EST
DTSTART:20251102T060000
END:STANDARD
BEGIN:DAYLIGHT
TZOFFSETFROM:-0500
TZOFFSETTO:-0400
TZNAME:EDT
DTSTART:20260308T070000
END:DAYLIGHT
BEGIN:STANDARD
TZOFFSETFROM:-0400
TZOFFSETTO:-0500
TZNAME:EST
DTSTART:20261101T060000
END:STANDARD
END:VTIMEZONE
BEGIN:VEVENT
DTSTART;TZID=America/New_York:20250425T183000
DTEND;TZID=America/New_York:20250425T193000
DTSTAMP:20260420T111820
CREATED:20250422T164024Z
LAST-MODIFIED:20250422T164024Z
UID:10018553-1745605800-1745609400@gridphilly.com
SUMMARY:An Evening with Yepoka Yeebo & Bradford Pearson
DESCRIPTION:Please join us on Friday\, April 25th at 6:30 PM for an evening with Yepoka Yeebo\, celebrating the paperback release of Anansi’s Gold: The Man Who Swindled the Word\, in conversation with Bradford Pearson\, editor of Philadelphia Magazine \nThis is a ticketed event. Please purchase your event voucher below.* \n\n\n\n \nThe New York Times Book Review – 100 Notable Books of 2023 Pick\nOne of the Philadelphia Inquirer’s “10 New Books to Read in August” \nANANSI’S GOLD is the astounding\, never-before-told story of how an audacious Ghanaian con artist pulled off one of the 20th century’s longest-running and most spectacular frauds. After winning independence in 1957\, Ghana instantly became a target for home-grown opportunists and rapacious Western interests determined to snatch any assets that British colonialism hadn’t already stripped. A CIA-funded military junta ousted the inspiring president\, Kwame Nkrumah\, then falsely accused him of hiding the country’s gold overseas. \nInto this big lie stepped one of history’s most charismatic scammers\, a con man to rival the trickster god Anansi. Born into poverty in Ghana and trained in the United States\, John Ackah Blay-Miezah declared himself custodian of an alleged Nkrumah trust fund worth billions. You\, too\, could claim a piece–if only you would “invest” in Blay-Miezah’s fictitious efforts to release the equally fictitious fund. Over the 1970s and ’80s\, he and his accomplices-including Ghanaian state officials and Nixon’s former attorney general–scammed hundreds of millions of dollars out of thousands of believers around the world. American prosecutors called his scam “one of the most fascinating–and lucrative–in modern history.” \nIn Anansi’s Gold\, Yepoka Yeebo chases Blay-Miezah’s wild trail and discovers\, at long last\, what really happened to Ghana’s missing wealth. She unfolds a riveting account of Cold War entanglements\, international finance\, and postcolonial betrayal\, revealing how what we call “history” writes itself into being\, one lie at a time. \n \n Yepoka Yeebo’s work has appeared in the Guardian\, Huffington Post\, the Atlantic\, Bloomberg Businessweek and Quartz\, among other publications. A graduate of Queen Mary\, University of London and of Columbia University’s School of Journalism\, she divides her time between Accra\, London and New York. Anansi’s Gold is her first book. \n \nBradford Pearson is a National Magazine Award-winning journalist and author whose work examines everything from magicians to Japanese American incarceration to his own kidnapping. He’s written for The New York Times\, and Esquire\, Time\, and Men’s Health magazines\, among many other publications. He is currently the editor of Philadelphia magazine and a contributing writer for the New York Times’ Special Projects team. His 2021 book The Eagles of Heart Mountain was the basis for the NFL documentary 9066: Fear\, Football\, and the Theft of Freedom. \nHe is a recipient of the German Marshall Fund of the United States’ Marshall Memorial Fellowship\, which took him to Europe to study media on the continent. He grew up in Hyde Park\, New York\, and now lives in Philadelphia with his wife and two children. \n*Event vouchers secure your spot for the event\, and can be used towards the purchase of any book at Head House Books on the evening of the event.  \n\n\n\n\nEvent date:\n\nFriday\, April 25\, 2025 – 6:30pm\n\n\n\nEvent address:\n\n\n\nHead House Books\n619 South 2nd Street\n\nPhiladelphia\, PA 19147
URL:https://gridphilly.com/event/an-evening-with-yepoka-yeebo-bradford-pearson/
LOCATION:Head House Books\, 619 South 2nd Street\, Philadelphia\, 19147\, United States
ATTACH;FMTTYPE=image/jpeg:https://gridphilly.com/wp-content/uploads/2025/04/HeadhouseEvent.jpeg
END:VEVENT
END:VCALENDAR