BEGIN:VCALENDAR
VERSION:2.0
PRODID:-//Grid Magazine - ECPv6.15.20//NONSGML v1.0//EN
CALSCALE:GREGORIAN
METHOD:PUBLISH
X-WR-CALNAME:Grid Magazine
X-ORIGINAL-URL:https://gridphilly.com
X-WR-CALDESC:Events for Grid Magazine
REFRESH-INTERVAL;VALUE=DURATION:PT1H
X-Robots-Tag:noindex
X-PUBLISHED-TTL:PT1H
BEGIN:VTIMEZONE
TZID:America/New_York
BEGIN:DAYLIGHT
TZOFFSETFROM:-0500
TZOFFSETTO:-0400
TZNAME:EDT
DTSTART:20230312T070000
END:DAYLIGHT
BEGIN:STANDARD
TZOFFSETFROM:-0400
TZOFFSETTO:-0500
TZNAME:EST
DTSTART:20231105T060000
END:STANDARD
BEGIN:DAYLIGHT
TZOFFSETFROM:-0500
TZOFFSETTO:-0400
TZNAME:EDT
DTSTART:20240310T070000
END:DAYLIGHT
BEGIN:STANDARD
TZOFFSETFROM:-0400
TZOFFSETTO:-0500
TZNAME:EST
DTSTART:20241103T060000
END:STANDARD
BEGIN:DAYLIGHT
TZOFFSETFROM:-0500
TZOFFSETTO:-0400
TZNAME:EDT
DTSTART:20250309T070000
END:DAYLIGHT
BEGIN:STANDARD
TZOFFSETFROM:-0400
TZOFFSETTO:-0500
TZNAME:EST
DTSTART:20251102T060000
END:STANDARD
END:VTIMEZONE
BEGIN:VEVENT
DTSTART;TZID=America/New_York:20241228T190000
DTEND;TZID=America/New_York:20241228T210000
DTSTAMP:20260421T133451
CREATED:20241217T010858Z
LAST-MODIFIED:20241217T010858Z
UID:10016073-1735412400-1735419600@gridphilly.com
SUMMARY:An Evening of Speculative Community Building with CARBON
DESCRIPTION:How do we inspire our community to imagine beyond what exists today? Join us for an immersive evening of poetry and community co-creation.\n\n\nCARBON is not just any event ; it is the element of our infinite potential to co-create. \nThis unique event celebrates and honors the Afrocentric Imagination. \nTogether\, we’ll explore bold and transformative narratives through interactive activities and collaboration in a sacred and imaginative space. \nHighlights of the Evening: \nVision Boards: Engage your creativity and visualize the future through personalized vision board creations. \nCusine: An assortment of cuisine that brings community together. \nLive Music & Art: Uplifting performances from local artists that set the tone for an atmosphere of community connection & awareness. \nGroup Activity – Prompt & Poem: Join in a collaborative writing experience\, where imagination and poetry converge to express our collective visions for the present and future. \nGroup Activity – Mbongi: Mbongi teaches us that it is through community that we solve our problems and also nourish our creative ideas\, suggestions and innovations. Participate in a memorable communal gathering to share ideas and foster deeper connections. \nFor us\, community is a house without rooms or walls\, without separation; it is a learning place. Register today to be a part of the journey!
URL:https://gridphilly.com/event/an-evening-of-speculative-community-building-with-carbon/
LOCATION:Harriett’s Bookshop\, 258 East Girard Avenue\, Philadelphia\, PA\, 19125\, United States
ATTACH;FMTTYPE=image/jpeg:https://gridphilly.com/wp-content/uploads/2024/12/0afc08a9d12c9b8fc831b7be264a0c08.jpg
END:VEVENT
END:VCALENDAR