BEGIN:VCALENDAR
VERSION:2.0
PRODID:-//Grid Magazine - ECPv6.15.20//NONSGML v1.0//EN
CALSCALE:GREGORIAN
METHOD:PUBLISH
X-ORIGINAL-URL:https://gridphilly.com
X-WR-CALDESC:Events for Grid Magazine
REFRESH-INTERVAL;VALUE=DURATION:PT1H
X-Robots-Tag:noindex
X-PUBLISHED-TTL:PT1H
BEGIN:VTIMEZONE
TZID:America/New_York
BEGIN:DAYLIGHT
TZOFFSETFROM:-0500
TZOFFSETTO:-0400
TZNAME:EDT
DTSTART:20250309T070000
END:DAYLIGHT
BEGIN:STANDARD
TZOFFSETFROM:-0400
TZOFFSETTO:-0500
TZNAME:EST
DTSTART:20251102T060000
END:STANDARD
BEGIN:DAYLIGHT
TZOFFSETFROM:-0500
TZOFFSETTO:-0400
TZNAME:EDT
DTSTART:20260308T070000
END:DAYLIGHT
BEGIN:STANDARD
TZOFFSETFROM:-0400
TZOFFSETTO:-0500
TZNAME:EST
DTSTART:20261101T060000
END:STANDARD
BEGIN:DAYLIGHT
TZOFFSETFROM:-0500
TZOFFSETTO:-0400
TZNAME:EDT
DTSTART:20270314T070000
END:DAYLIGHT
BEGIN:STANDARD
TZOFFSETFROM:-0400
TZOFFSETTO:-0500
TZNAME:EST
DTSTART:20271107T060000
END:STANDARD
END:VTIMEZONE
BEGIN:VEVENT
DTSTART;TZID=America/New_York:20260516T080000
DTEND;TZID=America/New_York:20260516T170000
DTSTAMP:20260419T115938
CREATED:20260418T021405Z
LAST-MODIFIED:20260418T021405Z
UID:10032249-1778918400-1778950800@gridphilly.com
SUMMARY:Field of Radiance
DESCRIPTION:Studio 31 on the Chester County Studio Tour — The Field of Radiance is a two-day art exhibition and live Rumi concert at the historic Green Barn in East Fallowfield Township\, Chester County’s Brandywine Valley. May 16–17. \nSix contemporary artists transform a 19th-century barn into a gallery of painting\, photography\, mixed media\, and illuminated text — rooted in the natural world and the contemplative life. \nOn Sunday\, May 17 at 2pm\, the barn hosts a free Rumi poetry reading and live music concert. Suzzette Ortiz — whose collaborators include Bobby McFerrin — performs on harp and piano alongside Amira Dvorah on bansuri flute and guitar. Amira has performed behind Ravi Shankar. Michael Green\, co-creator of the bestselling The Illuminated Rumi alongside Coleman Barks\, reads from Rumi. Free. Light refreshments served.
URL:https://gridphilly.com/event/field-of-radiance/2026-05-16/1/
CATEGORIES:Art Exhibitions,Arts & Culture,Arts & Performance,Concert
ATTACH;FMTTYPE=image/jpeg:https://gridphilly.com/wp-content/uploads/2026/04/Field-of-Radiance-copy-1-scaled.jpeg
ORGANIZER;CN="Green Barn Studios":MAILTO:greenbarnstudios@gmail.com
END:VEVENT
BEGIN:VEVENT
DTSTART;TZID=America/New_York:20260516T100000
DTEND;TZID=America/New_York:20260516T180000
DTSTAMP:20260419T115938
CREATED:20260418T021405Z
LAST-MODIFIED:20260418T021405Z
UID:10032250-1778925600-1778954400@gridphilly.com
SUMMARY:Field of Radiance
DESCRIPTION:Studio 31 on the Chester County Studio Tour — The Field of Radiance is a two-day art exhibition and live Rumi concert at the historic Green Barn in East Fallowfield Township\, Chester County’s Brandywine Valley. May 16–17. \nSix contemporary artists transform a 19th-century barn into a gallery of painting\, photography\, mixed media\, and illuminated text — rooted in the natural world and the contemplative life. \nOn Sunday\, May 17 at 2pm\, the barn hosts a free Rumi poetry reading and live music concert. Suzzette Ortiz — whose collaborators include Bobby McFerrin — performs on harp and piano alongside Amira Dvorah on bansuri flute and guitar. Amira has performed behind Ravi Shankar. Michael Green\, co-creator of the bestselling The Illuminated Rumi alongside Coleman Barks\, reads from Rumi. Free. Light refreshments served.
URL:https://gridphilly.com/event/field-of-radiance/2026-05-16/2/
CATEGORIES:Art Exhibitions,Arts & Culture,Arts & Performance,Concert
ATTACH;FMTTYPE=image/jpeg:https://gridphilly.com/wp-content/uploads/2026/04/Field-of-Radiance-copy-1-scaled.jpeg
ORGANIZER;CN="Green Barn Studios":MAILTO:greenbarnstudios@gmail.com
END:VEVENT
BEGIN:VEVENT
DTSTART;TZID=America/New_York:20260517T110000
DTEND;TZID=America/New_York:20260517T170000
DTSTAMP:20260419T115938
CREATED:20260418T021405Z
LAST-MODIFIED:20260418T021405Z
UID:10032251-1779015600-1779037200@gridphilly.com
SUMMARY:Field of Radiance
DESCRIPTION:Studio 31 on the Chester County Studio Tour — The Field of Radiance is a two-day art exhibition and live Rumi concert at the historic Green Barn in East Fallowfield Township\, Chester County’s Brandywine Valley. May 16–17. \nSix contemporary artists transform a 19th-century barn into a gallery of painting\, photography\, mixed media\, and illuminated text — rooted in the natural world and the contemplative life. \nOn Sunday\, May 17 at 2pm\, the barn hosts a free Rumi poetry reading and live music concert. Suzzette Ortiz — whose collaborators include Bobby McFerrin — performs on harp and piano alongside Amira Dvorah on bansuri flute and guitar. Amira has performed behind Ravi Shankar. Michael Green\, co-creator of the bestselling The Illuminated Rumi alongside Coleman Barks\, reads from Rumi. Free. Light refreshments served.
URL:https://gridphilly.com/event/field-of-radiance/2026-05-17/
CATEGORIES:Art Exhibitions,Arts & Culture,Arts & Performance,Concert
ATTACH;FMTTYPE=image/jpeg:https://gridphilly.com/wp-content/uploads/2026/04/Field-of-Radiance-copy-1-scaled.jpeg
ORGANIZER;CN="Green Barn Studios":MAILTO:greenbarnstudios@gmail.com
END:VEVENT
END:VCALENDAR