BEGIN:VCALENDAR
VERSION:2.0
PRODID:-//Grid Magazine - ECPv6.15.20//NONSGML v1.0//EN
CALSCALE:GREGORIAN
METHOD:PUBLISH
X-ORIGINAL-URL:https://gridphilly.com
X-WR-CALDESC:Events for Grid Magazine
REFRESH-INTERVAL;VALUE=DURATION:PT1H
X-Robots-Tag:noindex
X-PUBLISHED-TTL:PT1H
BEGIN:VTIMEZONE
TZID:America/New_York
BEGIN:DAYLIGHT
TZOFFSETFROM:-0500
TZOFFSETTO:-0400
TZNAME:EDT
DTSTART:20220313T070000
END:DAYLIGHT
BEGIN:STANDARD
TZOFFSETFROM:-0400
TZOFFSETTO:-0500
TZNAME:EST
DTSTART:20221106T060000
END:STANDARD
BEGIN:DAYLIGHT
TZOFFSETFROM:-0500
TZOFFSETTO:-0400
TZNAME:EDT
DTSTART:20230312T070000
END:DAYLIGHT
BEGIN:STANDARD
TZOFFSETFROM:-0400
TZOFFSETTO:-0500
TZNAME:EST
DTSTART:20231105T060000
END:STANDARD
BEGIN:DAYLIGHT
TZOFFSETFROM:-0500
TZOFFSETTO:-0400
TZNAME:EDT
DTSTART:20240310T070000
END:DAYLIGHT
BEGIN:STANDARD
TZOFFSETFROM:-0400
TZOFFSETTO:-0500
TZNAME:EST
DTSTART:20241103T060000
END:STANDARD
END:VTIMEZONE
BEGIN:VEVENT
DTSTART;TZID=America/New_York:20231020T120000
DTEND;TZID=America/New_York:20231021T170000
DTSTAMP:20260421T103912
CREATED:20231009T154953Z
LAST-MODIFIED:20231009T155509Z
UID:10007390-1697803200-1697907600@gridphilly.com
SUMMARY:Future Food Right Now
DESCRIPTION:FOR IMMEDIATE RELEASE\nMacrobiotic Global Institute\, The Agrarian Group\, and Student Farmers Corp. Presents \n“We have to make sure that organic products are more readily available to all Pennsylvanians\, not just some. We need to make sure that we’re sensitive to pricing and we need to make sure that folks understand this is not a niche market\, this is the​ market.” – Pennsylvania Governor Josh Shapiro speaking at Rodale Institute on July 21\, 2023.\nDevon\, Pennsylvania – Macrobiotic Global Institute (MGI)\, The Agrarian Group (TAG)\, and Student Farmers Corp. (SFC) are hosting the first annual FUTURE FOOD Right Now conference in Philadelphia\, PA on October 20-21\, 2023. Many prominent speakers and chefs will be featured\, such as T. Colin Campbell\, PhD (Author of The China Study and Whole)\, Neal D. Barnard\, MD\, FACC (President\, Physicians Committee for Responsible Medicine)\, Ocean Robbins (Co-Founder and CEO of the Food Revolution Network)\, FX Rouxel (CEO and Founder\, Gardyn)\, Chef AJ (TV and YouTube personality)\, experts from The Rodale Institute\, and other thought leaders in health\, wellness\, and organic farming techniques and innovations.\nDetails: The event is being held both virtually and in person at the CIRA building\, 2929 Arch Street\, Philadelphia\, PA on October 20-21\, 2023. Admission tickets are available for $225 (in person) and $125 (virtual)\, with discounts available for seniors and students. Visit https://futurefoodrightnow.com/ to purchase tickets and to learn more about the event and our national student ambassador program\, formed to inspire up-and-coming leaders in the sustainability movement.\nAbout the Organizations:\nMacrobiotic Global Institute (MGI) is a registered 501(c)(3) nonprofit corporation promoting living practices that drive personal and planetary wellbeing. MGI accomplished this mission by creating\, delivering\, and distributing relevant\, actionable and inclusive workshops\, conferences\, books\, TV and film documentaries. https://www.macrobioticglobalinstitute.com/\nThe Agrarian Group\, LLC (TAG) is an education company that focuses on next generation agriculture to address the growing water\, energy\, and food security nexus. TAG provides online and in-person curriculum and events as well as communications through media such as podcasts and videos. https://www.theagrariangroup.com/\nStudent Farms Corp. (SFC) is a registered 501(c)(3) nonprofit corporation whose mission is to increase knowledge about the advantages of eating more heathy and locally grown vegetables\, starting with fast-growing microgreens\, that can be easily and inexpensively grown indoors year-round on windowsills. SFC engages with high-school and college students as well as adult students who live independently or in retirement communities. https://studentfarmers.org/\nContact Sheri-Lynn DeMaris of MGI at teawithsheri@aol.com for more information or visit https://futurefoodrightnow.com/
URL:https://gridphilly.com/event/community-print-pop-up-featuring-scott-holford-of-golden-key-prints/
LOCATION:Cyto Cira Center\, 2929 Arch Street\, Philadelphia\, 19104\, United States
CATEGORIES:Adults,Announcements,Classes & Workshops,Event,Food & Drink,Health & Wellness,Local Food,Workshop
ATTACH;FMTTYPE=image/png:https://gridphilly.com/wp-content/uploads/2023/10/FUTURE-FOOD-Flyer-page-2.png
END:VEVENT
END:VCALENDAR