BEGIN:VCALENDAR
VERSION:2.0
PRODID:-//Grid Magazine - ECPv6.15.20//NONSGML v1.0//EN
CALSCALE:GREGORIAN
METHOD:PUBLISH
X-WR-CALNAME:Grid Magazine
X-ORIGINAL-URL:https://gridphilly.com
X-WR-CALDESC:Events for Grid Magazine
REFRESH-INTERVAL;VALUE=DURATION:PT1H
X-Robots-Tag:noindex
X-PUBLISHED-TTL:PT1H
BEGIN:VTIMEZONE
TZID:America/New_York
BEGIN:DAYLIGHT
TZOFFSETFROM:-0500
TZOFFSETTO:-0400
TZNAME:EDT
DTSTART:20220313T070000
END:DAYLIGHT
BEGIN:STANDARD
TZOFFSETFROM:-0400
TZOFFSETTO:-0500
TZNAME:EST
DTSTART:20221106T060000
END:STANDARD
BEGIN:DAYLIGHT
TZOFFSETFROM:-0500
TZOFFSETTO:-0400
TZNAME:EDT
DTSTART:20230312T070000
END:DAYLIGHT
BEGIN:STANDARD
TZOFFSETFROM:-0400
TZOFFSETTO:-0500
TZNAME:EST
DTSTART:20231105T060000
END:STANDARD
BEGIN:DAYLIGHT
TZOFFSETFROM:-0500
TZOFFSETTO:-0400
TZNAME:EDT
DTSTART:20240310T070000
END:DAYLIGHT
BEGIN:STANDARD
TZOFFSETFROM:-0400
TZOFFSETTO:-0500
TZNAME:EST
DTSTART:20241103T060000
END:STANDARD
BEGIN:DAYLIGHT
TZOFFSETFROM:-0500
TZOFFSETTO:-0400
TZNAME:EDT
DTSTART:20250309T070000
END:DAYLIGHT
BEGIN:STANDARD
TZOFFSETFROM:-0400
TZOFFSETTO:-0500
TZNAME:EST
DTSTART:20251102T060000
END:STANDARD
BEGIN:DAYLIGHT
TZOFFSETFROM:-0500
TZOFFSETTO:-0400
TZNAME:EDT
DTSTART:20260308T070000
END:DAYLIGHT
BEGIN:STANDARD
TZOFFSETFROM:-0400
TZOFFSETTO:-0500
TZNAME:EST
DTSTART:20261101T060000
END:STANDARD
END:VTIMEZONE
BEGIN:VEVENT
DTSTART;TZID=America/New_York:20251206T130000
DTEND;TZID=America/New_York:20251206T150000
DTSTAMP:20260421T055302
CREATED:20251121T193817Z
LAST-MODIFIED:20251121T193817Z
UID:10025056-1765026000-1765033200@gridphilly.com
SUMMARY:FarmerJawn Presents-Only Love Grows with Lizzie’s Love Cakes
DESCRIPTION:Join us for a heartfelt afternoon of storytelling\, cake-making\, and remembrance. In this hands-on workshop\, we’ll bake mini bundt pound cakes—“Lovelys”—Honoring the profound love of our ancestral mothers. Each guest receives baking tips\, a recipe card\, and a favor bag with sweet treats\, tea\, and more. \nAll supplies included. Limited seats available. \n\nSaturday\, December 6\, 2025\n1:00 PM 3:00 PM\n\n\nHagert & York\, 1999 East Boston Street\, Philadelphia\, PA\, 19125
URL:https://gridphilly.com/event/farmerjawn-presents-only-love-grows-with-lizzies-love-cakes-2/
LOCATION:Hagert & York\, 1999 East Boston Street\, Philadelphia\, 19125\, United States
ATTACH;FMTTYPE=image/png:https://gridphilly.com/wp-content/uploads/2025/11/Screen-Shot-2025-11-21-at-2.35.22-PM.png
END:VEVENT
BEGIN:VEVENT
DTSTART;TZID=America/New_York:20250813T170000
DTEND;TZID=America/New_York:20250813T183000
DTSTAMP:20260421T055302
CREATED:20250807T171534Z
LAST-MODIFIED:20250807T171534Z
UID:10020383-1755104400-1755109800@gridphilly.com
SUMMARY:Wine & Plant Social
DESCRIPTION:Sip\, sow\, and socialize! Join FarmerJawn and Hagert & York for a vibrant Wine & Plant Social\n\n\nGet your hands dirty and your glass full at our Wine & Plant Social with FarmerJawn and Hagert & York! This unique happy hour blends the joy of gardening with the pleasure of good wine and great company. Whether you’re a seasoned plant parent or just digging in for the first time\, you’ll pot up your own seedlings to take home while enjoying carefully selected wines and mingling with fellow green-thumbed neighbors. Expect music\, earthy vibes\, and a laid-back celebration of growth—in all its forms. Let’s raise a glass to plants\, people\, and new beginnings!
URL:https://gridphilly.com/event/wine-plant-social/
LOCATION:1999 E Boston St\, 1999 East Boston Street\, Philadelphia\, PA\, 19125\, United States
ATTACH;FMTTYPE=image/jpeg:https://gridphilly.com/wp-content/uploads/2025/08/8f6de64ef4ddda6d3de91cd0e8f44692.jpg
END:VEVENT
BEGIN:VEVENT
DTSTART;TZID=America/New_York:20250712T130000
DTEND;TZID=America/New_York:20250712T150000
DTSTAMP:20260421T055302
CREATED:20250707T165506Z
LAST-MODIFIED:20250707T181822Z
UID:10019852-1752325200-1752332400@gridphilly.com
SUMMARY:Rooftop Ice Cream Social with FarmerJawn + Hagert & York
DESCRIPTION:Cool down with us for an unforgettable evening of flavor and fun—right on the rooftop!\n\n\nCool down with us for an unforgettable evening of flavor and fun—right on the rooftop!\nFarmerJawn and Hagert & York are teaming up to bring you a veggie-forward ice cream tasting and demo that reimagines what ice cream can be. From sweet corn to beet swirl\, discover how fresh\, seasonal produce can be transformed into rich\, creamy scoops of summer magic.\nEnjoy the skyline view as you learn how this unique ice cream is made\, taste a variety of bold\, garden-inspired flavors\, and connect with fellow food lovers. This is a fun and flavorful way to celebrate the harvest and support local creativity.\n \nYour ticket includes the live demo\, a guided tasting of multiple veggie-forward ice cream flavors\, and rooftop access.
URL:https://gridphilly.com/event/rooftop-ice-cream-social-with-farmerjawn-hagert-york/
LOCATION:1999 E Boston St\, 1999 East Boston Street\, Philadelphia\, PA\, 19125\, United States
ATTACH;FMTTYPE=image/jpeg:https://gridphilly.com/wp-content/uploads/2025/07/fe200bd05e3abeeffb0fbc574216b085.jpg
END:VEVENT
BEGIN:VEVENT
DTSTART;TZID=America/New_York:20250622T110000
DTEND;TZID=America/New_York:20250622T170000
DTSTAMP:20260421T055302
CREATED:20250610T164748Z
LAST-MODIFIED:20250610T164748Z
UID:10019398-1750590000-1750611600@gridphilly.com
SUMMARY:Farmerjawn's Summer Solstice Gathering
DESCRIPTION:Celebrate the longest day of the year with FarmerJawn! Join us for our Summer Solstice Festival—a vibrant day of flowers\, food\, music\, art\,\n\n\nCelebrate the longest day of the year with us at our Summer Solstice Gathering—a joyful\, grounding day of community\, ceremony\, food\, and fun on the land! \nThis family-friendly outdoor event offers something for everyone\, with wellness workshops\, farm tours\, flower crafts\, and guided rituals to help us welcome summer with intention and love. \n \n🌼 What to Expect \n✨ Sun Blessing Ritual & Intention Planting \n✨ Guided Farm Tours \n✨ Kombucha Flavoring Demos \n✨ Culinary Tastings & Garden Snacks \n✨ Tea Time in the Field \n✨ Sound Healing & Group Stretching \n✨ DIY Crafts: Flower Crowns\, Canvas Bag Painting\, Magical Herb Starts \n✨ Lawn Games: Cornhole\, Jenga\, Ring Toss\, Scavenger Hunt \n✨ Kid-Friendly Spaces including a Reading Nook & Craft Table \n✨ Local Vendors + Refreshments \n \nYou’re welcome to bring a picnic blanket to use in designated areas and enjoy the food provided! (No outside meals please—light snacks are okay.) \n🧺 Reminders: \nNo on-site parking available. Free street parking in the surrounding area. Please read street signs carefully! Ride share and public transportation strongly encouraged. very Limited parking available for seniors please email us to inquire.  The festival is kid- and family-friendly! \nThe first 100 ticket holders will receive access to: A 1-hour kombucha workshop with Farmer Bri BONUS: Flavoring Session (30 minutes\, hands-on – limited capacity) \nThis community-centered festival is made possible by your support! Every ticket\, vendor helps us keep these events vibrant\, accessible\, and joy-filled. Let’s build a sustainable\, beautiful experience — together
URL:https://gridphilly.com/event/farmerjawns-summer-solstice-gathering/
LOCATION:1813 Beech Avenue\, Elkins Park\, PA\, USA\, 1813 Beech Avenue\, Elkins Park\, PA\, 19027\, United States
ATTACH;FMTTYPE=image/jpeg:https://gridphilly.com/wp-content/uploads/2025/06/6fc64a977bb5441892649411200787dc.jpg
END:VEVENT
BEGIN:VEVENT
DTSTART;TZID=America/New_York:20250614T130000
DTEND;TZID=America/New_York:20250614T150000
DTSTAMP:20260421T055302
CREATED:20250610T170430Z
LAST-MODIFIED:20250610T170430Z
UID:10019419-1749906000-1749913200@gridphilly.com
SUMMARY:FarmerJawn Presents Only Love Grows Baking Workshop with Lizzie’s Love Cake
DESCRIPTION:Join us 6/14 for baking\, storytelling & love as we honor Mary Chambers & our mothers. Cake\, tea\, favors & supplies included!\n\n\n\nFarmerJawn Presents: Only Love Grows with Lizzie’s Love CakesWe’re back with another sweet celebration of heritage and heart!Join FarmerJawn and Lizzie’s Love Cakes for a soulful afternoon of storytelling\, baking\, and remembrance. In this hands-on workshop\, you’ll create mini bundt pound cakes—lovingly called “Lovelys”—while learning baking tips and the powerful stories behind the recipes. \nThis month’s theme isONLY LOVE GROWS.Our mothers. Our Ancestors. Our soil.Honoring the profound love of our ancestral mothers. \nAs we gathered in kitchens filled with the warmth of our ancestral recipes\, we not only nourished our bodies but also our spirits\, honoring those who came before us. Baking becomes a sacred act\, a way to connect with our roots. Each bite is a reminder of the love they poured into their creations—a love that transcends time and space. \nThrough sharing these stories and recipes\, we celebrate the richness of our heritage. We acknowledge the strength of the women who shaped us\, grounding us in our identity. Only Love Grows is an act of remembrance for the soil that nurtures not just our food\, but also our very being. Together\, we honor our past while creating new memories\, ensuring that the legacy of love continues. \nOn 6/14\, we’ll honor Mary Chambers “Mom Chambers” as we explore her Panamanian immigrant story and her deeply rooted faith journey. \nEach guest will receive a recipe card\, a slice of cake to take home\, and a favor bag filled with sweet treats\, tea\, and more. \nAll supplies are included. Seats are limited—reserve yours today!
URL:https://gridphilly.com/event/farmerjawn-presents-only-love-grows-baking-workshop-with-lizzies-love-cake/
LOCATION:Hagert and York\, 1999 East Boston Street\, Philadelphia\, PA\, 19125\, United States
ATTACH;FMTTYPE=image/jpeg:https://gridphilly.com/wp-content/uploads/2025/06/854927879d0a1d8186b2891e9acc0399.jpg
END:VEVENT
BEGIN:VEVENT
DTSTART;TZID=America/New_York:20250530T180000
DTEND;TZID=America/New_York:20250530T220000
DTSTAMP:20260421T055302
CREATED:20250519T181005Z
LAST-MODIFIED:20250519T181005Z
UID:10019051-1748628000-1748642400@gridphilly.com
SUMMARY:Roots to Table dinner by FarmerJawn X Charles Pan Fried Chicken
DESCRIPTION:Join us for a memorable evening at FarmerJawn for a special dinner in collaboration with Charles Pan Fried Chicken.\n\n\nStep into a summer night full of flavor\, legacy\, and love as FarmerJawn teams up with the legendary Charles Pan Fried Chicken for our 1st Annual “Roots to Table” Experience—an unforgettable 5-6 course culinary journey that brings the soul of the land straight to your plate. \nJoin us at FarmerJawn’s Elkins Park Farm\, where the air is warm with music\, heritage dishes\, and laughter. Rooted in culture\, this immersive dinner will spotlight the beauty of seasonal\, regenerative ingredients\, soul food traditions\, and a shared table. \nEnjoy thoughtfully curated wine pairings + batched cocktails\, live music\, community vendors\, and a few magical surprises. Proceeds from the event will support a local organization (recipient to be announced). This is more than a dinner—it’s a celebration of roots\, resilience\, and radical joy. \n\nDress Code: Garden Glow-Up Meets Farm Chic\nFresh from the field\, fly for the feast. Think polished overalls\, straw hats\, summer jumpsuits\, breathable cottons\, flowy linens\, sundresses\, wide-brimmed hats\, and bold accessories. It’s “farmer meets fashion” with a glow-up. \nNo sweats\, hoodies\, or very dark colors\, please. \nDress to impress while staying comfortable and stylish—this is a celebration of both roots and style! \n \nAbout Charles Pan Fried Chicken\nCharles Gabriel\, the culinary genius behind Charles Pan Fried Chicken\, has been serving the Harlem community with his iconic pan-fried chicken since 1990. Born into a family of sharecroppers in North Carolina\, Charles learned to cook from his mother and brought his passion for soul food to Harlem\, where he began feeding those in need. Known for his expertly seasoned\, crispy fried chicken\, Charles blends bold flavors with tradition\, creating dishes that evoke both comfort and culture. \nChef Quie Slobert\, a Harlem native\, is the Chief Operating Officer of Charles Pan Fried Chicken. His journey into the culinary world was inspired by his love for food from a young age. Working alongside Charles Gabriel\, Chef Quie has played a key role in evolving the legacy of the restaurant\, blending innovative cooking techniques with the rich traditions of soul food. His commitment to fresh\, local ingredients and his talent for combining traditional and modern flavors make him an essential part of the team. \nAbout FarmerJawn Agriculture\nFarmerJawn is a Black-woman led regenerative transferring to organic farm committed to sustainable farming practices. With a focus on producing nutrient-dense\, fresh produce\, FarmerJawn strives to create food access in underserved communities while promoting food sovereignty. Our Elkins Park farm\, nestled in the heart of the city\, provides a space where culture\, community\, and sustainability converge. We believe in the power of food to connect people\, educate\, and transform communities. \nWe can’t wait to share this unforgettable evening of flavor\, community\, and culture with you. Get ready to feast on soul food like never before!
URL:https://gridphilly.com/event/roots-to-table-dinner-by-farmerjawn-x-charles-pan-fried-chicken/
LOCATION:1813 Beech Avenue\, Elkins Park\, PA\, USA\, 1813 Beech Avenue\, Elkins Park\, PA\, 19027\, United States
ATTACH;FMTTYPE=image/jpeg:https://gridphilly.com/wp-content/uploads/2025/05/6d76df485188cc7959898443033f9c3b.jpg
END:VEVENT
BEGIN:VEVENT
DTSTART;TZID=America/New_York:20250208T130000
DTEND;TZID=America/New_York:20250208T150000
DTSTAMP:20260421T055302
CREATED:20250204T193732Z
LAST-MODIFIED:20250204T193732Z
UID:10016949-1739019600-1739026800@gridphilly.com
SUMMARY:FarmerJawn Presents- Only Love Grows with Lizzie's Love Cakes
DESCRIPTION:Join us at FarmerJawn Presents- Only Love Grows with Lizzie’s Love Cakes for a day of spreading love through delicious treats and community\n\n\nFarmerJawn Presents- Only Love Grows with Lizzie’s Love Cakes \nJoin us for a heartfelt afternoon celebrating love\, storytelling\, and cake-making! This 2-hour event\, in collaboration with Lizzie’s Love Cakes\, will guide you through the art of baking mini bundt pound cakes\, affectionately called “Lovelys.” \nEach participant will enjoy baking tips\, “Love Tips\,” and the heartwarming story behind Cassandra’s recipe\, crafted in honor of her step-grandmother\, Ethelyn Nance. \nThis partnership beautifully continues FarmerJawn’s “Only Love Grows” theme. We’re also thrilled to collaborate with Hagert and York\, contemporary urban apartments located in the thriving East Kensington neighborhood. \nEach participant will take home a bundt cake—Pear & Cardamom Pound Cake—along with an ingredient list (Ethelyn’s Love Cake)\, a gift bag featuring FarmerJawn treats\, and a favor of an individually wrapped slice of a Lizzie Love Cake\, paired with tea and infused honey from FarmerJawn. \nSeats are limited\, so don’t miss out! All supplies are included in the ticket price. \nAbout Cassandra BurnettCassandra Burnett\, the owner of Lizzie’s Love Cakes\, is an attorney by day and a baker by night. She turned her love of baking into a love letter to her mother\, Lizzie\, who passed away in 2012. Cassandra bakes in honor of her mother\, aunties\, grandmothers\, and countless other impactful women. Their zest for life and love is poured into each Love Cake. Her mission is to continue this legacy of love with her two daughters\, Bella (15) and Lylah (10).
URL:https://gridphilly.com/event/farmerjawn-presents-only-love-grows-with-lizzies-love-cakes/
LOCATION:1999 E Boston St\, 1999 East Boston Street\, Philadelphia\, PA\, 19125\, United States
ATTACH;FMTTYPE=image/jpeg:https://gridphilly.com/wp-content/uploads/2025/02/756fbcb77f9e47ce3c9d06774e138497.jpg
END:VEVENT
BEGIN:VEVENT
DTSTART;TZID=America/New_York:20241123T080000
DTEND;TZID=America/New_York:20241123T120000
DTSTAMP:20260421T055302
CREATED:20241111T190905Z
LAST-MODIFIED:20241111T190905Z
UID:10015648-1732348800-1732363200@gridphilly.com
SUMMARY:Only Love Grows 5k- Run with Purpose Run with Love!
DESCRIPTION:Join us for the Only Love Grows 5k where we run with purpose and spread love every step of the way!\n\n\nOnly Love Grows 5k- Run with Purpose Run with Love! \nJoin us for the Only Love Grows 5K\, a race that celebrates resilience\, unity\, and love in response to the racism and antisemitism that FarmerJawn faced this year. This is more than a race—it’s a stand for justice and a call for change. Bring your family out for a wonderful morning in collaboration with Men’s Night Run Club!Whether you’re running to make a statement or walking to show your support\, you’ll be part of a community that chooses love over hate and action over silence. \nRace Highlights: \n\nProfessionally timed race with FarmerJawn gift cards and medals for top 3 finishers \nTote bags and T-shirts with select ticket levels\nPost-race yoga and cool down led by local fitness experts\nHydration and recovery stations with nourishing snacks and drinks\nMusic and celebration at the finish line\, bringing together a community united in purpose-\nFood Truck and  Activities\n\nA portion of the proceeds will support local programs to fight hunger and homelessness\, in honor of National Hunger & Homelessness Awareness Month. Stand with us as we come together to turn love into action. \nThis is more than just a 5K—it’s a chance to come together\, fight for justice\, and show that love is our greatest strength. Join us and make every step count.
URL:https://gridphilly.com/event/only-love-grows-5k-run-with-purpose-run-with-love/
LOCATION:1813 Beech Avenue\, Elkins Park\, PA\, USA\, 1813 Beech Avenue\, Elkins Park\, PA\, 19027\, United States
ATTACH;FMTTYPE=image/jpeg:https://gridphilly.com/wp-content/uploads/2024/11/854cdbba7c799cc19802801a848b0451.jpg
END:VEVENT
BEGIN:VEVENT
DTSTART;TZID=America/New_York:20231021T160000
DTEND;TZID=America/New_York:20231021T200000
DTSTAMP:20260421T055302
CREATED:20231009T160553Z
LAST-MODIFIED:20231009T160553Z
UID:10007462-1697904000-1697918400@gridphilly.com
SUMMARY:Black Harvest Dinner
DESCRIPTION:FarmerJawn’s “Black Harvest Dinner Series” series celebrates black foodways in all their facets!\n\n\nFarmerJawn presents The “Black Harvest” Dinner Series \nThe “Black Harvest” Dinner Series is a remarkable exploration of American farming history\, highlighting the often silenced narratives of black farmers whose land was unjustly taken. Over the past century\, the number of Black-owned farms has significantly declined\, from approximately one million in the early 1900s to only about 30\,000 in 2023. This series celebrates black foodways in all their facets\, from dedicated growers to ingenious product makers\, showcasing the incredible creations brought to life by Black creators.  \nFarmerJawn is committed to advancing sustainable agriculture and education\, proudly being the sole Black-owned regenerative organic vegetable grower in the United States\, situated right here in Philadelphia! FarmerJawn’s regenerative and organic farm covers more than 123 acres\, making it the only farm of its kind in the nation led by a Black woman. Your involvement not only enriches the culinary experience but also contributes to promoting equity among farmers. \nOur inaugural event is a special collaboration with Cheyney University\, a pioneer in African-American higher education. As the first historically Black university\, Cheyney holds a unique place in history. Join us as we honor this institution’s legacy while celebrating the rich tapestry of Black agriculture and culinary innovation. This promises to be an inspiring\, informative\, and delightful journey that will illuminate the past\, celebrate the present\, and inspire the future of Black agriculture and food production. \n \n\n\nIn line with our dedication to making a meaningful impact\, a portion of the ticket sales will be allocated to support the Cheyney Hotel\, Restaurant & Tourism Management department. When you purchase a ticket\, you’ll not only contribute to this important cause but also receive a $100 credit toward a CSA subscription with FarmerJawn\, underscoring our commitment to sustainable agriculture.
URL:https://gridphilly.com/event/black-harvest-dinner/
LOCATION:1225 East Street Road\, West Chester\, PA\, USA\, 1225 East Street Road\, FarmerJawn\, West Chester\, PA\, 19382\, United States
ATTACH;FMTTYPE=image/jpeg:https://gridphilly.com/wp-content/uploads/2023/10/4f73aa184ced0f5a8bd256fcfbb5c2c5.jpg
END:VEVENT
END:VCALENDAR