BEGIN:VCALENDAR
VERSION:2.0
PRODID:-//Grid Magazine - ECPv6.15.20//NONSGML v1.0//EN
CALSCALE:GREGORIAN
METHOD:PUBLISH
X-WR-CALNAME:Grid Magazine
X-ORIGINAL-URL:https://gridphilly.com
X-WR-CALDESC:Events for Grid Magazine
REFRESH-INTERVAL;VALUE=DURATION:PT1H
X-Robots-Tag:noindex
X-PUBLISHED-TTL:PT1H
BEGIN:VTIMEZONE
TZID:America/New_York
BEGIN:DAYLIGHT
TZOFFSETFROM:-0500
TZOFFSETTO:-0400
TZNAME:EDT
DTSTART:20220313T070000
END:DAYLIGHT
BEGIN:STANDARD
TZOFFSETFROM:-0400
TZOFFSETTO:-0500
TZNAME:EST
DTSTART:20221106T060000
END:STANDARD
BEGIN:DAYLIGHT
TZOFFSETFROM:-0500
TZOFFSETTO:-0400
TZNAME:EDT
DTSTART:20230312T070000
END:DAYLIGHT
BEGIN:STANDARD
TZOFFSETFROM:-0400
TZOFFSETTO:-0500
TZNAME:EST
DTSTART:20231105T060000
END:STANDARD
BEGIN:DAYLIGHT
TZOFFSETFROM:-0500
TZOFFSETTO:-0400
TZNAME:EDT
DTSTART:20240310T070000
END:DAYLIGHT
BEGIN:STANDARD
TZOFFSETFROM:-0400
TZOFFSETTO:-0500
TZNAME:EST
DTSTART:20241103T060000
END:STANDARD
BEGIN:DAYLIGHT
TZOFFSETFROM:-0500
TZOFFSETTO:-0400
TZNAME:EDT
DTSTART:20250309T070000
END:DAYLIGHT
BEGIN:STANDARD
TZOFFSETFROM:-0400
TZOFFSETTO:-0500
TZNAME:EST
DTSTART:20251102T060000
END:STANDARD
BEGIN:DAYLIGHT
TZOFFSETFROM:-0500
TZOFFSETTO:-0400
TZNAME:EDT
DTSTART:20260308T070000
END:DAYLIGHT
BEGIN:STANDARD
TZOFFSETFROM:-0400
TZOFFSETTO:-0500
TZNAME:EST
DTSTART:20261101T060000
END:STANDARD
END:VTIMEZONE
BEGIN:VEVENT
DTSTART;TZID=America/New_York:20251114T190000
DTEND;TZID=America/New_York:20251114T220000
DTSTAMP:20260421T154923
CREATED:20251110T020218Z
LAST-MODIFIED:20251110T020218Z
UID:10024315-1763146800-1763157600@gridphilly.com
SUMMARY:Friday Night Fever at East Passyunk Community Center
DESCRIPTION:Get ready to dance the night away at EPCC- the ultimate party to kick off your weekend! Support your local rec center’s fundraiser.\n\n\nFriday Night Fever \nGet ready to sparkle and shine at our annual Friday Night Fever fundraiser! We’re turning the Community Center into a disco party with a live DJ\, food\, drinks\, contests\, raffles\, fun swag\, and even childcare—so the whole family can join in. \nThis special night is held in loving memory of Joseph F. Marino\, who helped cultivate the East Passyunk neighborhood and our community center into the hub it is today. \nEvery ticket supports the programs that keep our community thriving—senior bingo\, after-school programs\, summer camp\, Girl Scouts\, youth sports\, and so much more. \nIt’s a not-to-be-missed night of music\, memories\, and community pride. Throw on your disco best and help us keep East Passyunk shining as one of Philadelphia’s finest!
URL:https://gridphilly.com/event/friday-night-fever-at-east-passyunk-community-center/
LOCATION:East Passyunk Community Center\, 1025 Mifflin Street\, Philadelphia\, PA\, 19148\, United States
ATTACH;FMTTYPE=image/jpeg:https://gridphilly.com/wp-content/uploads/2025/11/9f16ff44e48606d501b949b6a34b5f1d.jpg
END:VEVENT
BEGIN:VEVENT
DTSTART;TZID=America/New_York:20240914T090000
DTEND;TZID=America/New_York:20240914T150000
DTSTAMP:20260421T154923
CREATED:20240909T135639Z
LAST-MODIFIED:20240909T135639Z
UID:10014493-1726304400-1726326000@gridphilly.com
SUMMARY:East Passyunk Community Center Outdoor Flea Market
DESCRIPTION:Come join us as a vendor or shopper for our annual flea market at East Passyunk on Sept. 14th from 9am-3pm!\n\n\nVendor fee per space is $25.  \n$40 for 2 spaces (limited availibility). \nPrint out and complete the application\, scan or take a photo and email completed form to eastpassyunkcommunitycenter@phila.gov \nRegistration Form must be completed\, and payment received to secure spot. \nSign up in person at 1025 Mifflin St. Phila PA 19148 or through Eventbrite @ www.EPCCAC.EVENTBRITE.COM. \nPayments are made ONLY via Eventbrite or in person at 1025 Mifflin Street\, Philadelphia\, PA  19148.
URL:https://gridphilly.com/event/east-passyunk-community-center-outdoor-flea-market-2/
LOCATION:1025 Mifflin St\, 1025 Mifflin Street\, Philadelphia\, PA\, 19148\, United States
ATTACH;FMTTYPE=image/jpeg:https://gridphilly.com/wp-content/uploads/2024/09/ce14e21cabcf23e6d5c3e5bcd9e563c3.jpg
END:VEVENT
BEGIN:VEVENT
DTSTART;TZID=America/New_York:20231209T100000
DTEND;TZID=America/New_York:20231209T140000
DTSTAMP:20260421T154923
CREATED:20231129T203302Z
LAST-MODIFIED:20231129T203302Z
UID:10010213-1702116000-1702130400@gridphilly.com
SUMMARY:EPCC HOLIDAY BAZAAR * FREE ADMISSION!
DESCRIPTION:Join us for our HOLIDAY BAZAAR\, with Photos with Santa\, Concessions\, Bake Sale\, Kid’s Crafts\, Games\, Shopping with select vendors.\n\n\nJoin us for our Holiday Bazaar this Winter! \nFREE ADMISSION! \nPhotos with Santa! \nBake sale\, Conessions and select Holiday Vendors! \nMusic and more!
URL:https://gridphilly.com/event/epcc-holiday-bazaar-free-admission/
LOCATION:1025 Mifflin St\, 1025 Mifflin Street\, Philadelphia\, PA\, 19148\, United States
ATTACH;FMTTYPE=image/jpeg:https://gridphilly.com/wp-content/uploads/2023/11/d4fce84bda5bde808fa6f5f6f6449732.jpg
END:VEVENT
BEGIN:VEVENT
DTSTART;TZID=America/New_York:20230916T090000
DTEND;TZID=America/New_York:20230916T150000
DTSTAMP:20260421T154923
CREATED:20230826T155750Z
LAST-MODIFIED:20230826T155750Z
UID:10006613-1694854800-1694876400@gridphilly.com
SUMMARY:East Passyunk Community Center Outdoor Flea Market
DESCRIPTION:Come join us as a vendor or shopper for our 8th annual flea market at East Passyunk on Sept. 16th from 9am-3pm!\n\n\nVendor fee per space is $25. \nPrint out and complete the application\, scan and email completed form to eastpassyunkcommunitycenter@phila.gov \nRegistration Form must be completed\, and payment received to secure spot. \nSign up in person at 1025 Mifflin St. Phila PA 19148 or through Eventbrite @ www.EPCCAC.EVENTBRITE.COM.
URL:https://gridphilly.com/event/east-passyunk-community-center-outdoor-flea-market/
LOCATION:1025 Mifflin St\, 1025 Mifflin Street\, Philadelphia\, PA\, 19148\, United States
ATTACH;FMTTYPE=image/jpeg:https://gridphilly.com/wp-content/uploads/2023/08/1d077ec9a2baa8b2c5361c59f5a34e64.jpg
END:VEVENT
END:VCALENDAR