BEGIN:VCALENDAR
VERSION:2.0
PRODID:-//Grid Magazine - ECPv6.15.20//NONSGML v1.0//EN
CALSCALE:GREGORIAN
METHOD:PUBLISH
X-WR-CALNAME:Grid Magazine
X-ORIGINAL-URL:https://gridphilly.com
X-WR-CALDESC:Events for Grid Magazine
REFRESH-INTERVAL;VALUE=DURATION:PT1H
X-Robots-Tag:noindex
X-PUBLISHED-TTL:PT1H
BEGIN:VTIMEZONE
TZID:America/New_York
BEGIN:DAYLIGHT
TZOFFSETFROM:-0500
TZOFFSETTO:-0400
TZNAME:EDT
DTSTART:20250309T070000
END:DAYLIGHT
BEGIN:STANDARD
TZOFFSETFROM:-0400
TZOFFSETTO:-0500
TZNAME:EST
DTSTART:20251102T060000
END:STANDARD
BEGIN:DAYLIGHT
TZOFFSETFROM:-0500
TZOFFSETTO:-0400
TZNAME:EDT
DTSTART:20260308T070000
END:DAYLIGHT
BEGIN:STANDARD
TZOFFSETFROM:-0400
TZOFFSETTO:-0500
TZNAME:EST
DTSTART:20261101T060000
END:STANDARD
BEGIN:DAYLIGHT
TZOFFSETFROM:-0500
TZOFFSETTO:-0400
TZNAME:EDT
DTSTART:20270314T070000
END:DAYLIGHT
BEGIN:STANDARD
TZOFFSETFROM:-0400
TZOFFSETTO:-0500
TZNAME:EST
DTSTART:20271107T060000
END:STANDARD
END:VTIMEZONE
BEGIN:VEVENT
DTSTART;TZID=America/New_York:20260304T080000
DTEND;TZID=America/New_York:20260305T160000
DTSTAMP:20260425T173423
CREATED:20250610T163859Z
LAST-MODIFIED:20260223T203407Z
UID:10019382-1772611200-1772726400@gridphilly.com
SUMMARY:2026 Delaware Wetlands Conference
DESCRIPTION:A two-day conference to share the latest in wetland research\, practice and policy\, education\, and progress in projects and science.\n\n\nRegistration is full! We are thrilled to have a popular conference. Please understand our venue’s capacity and we hope you attend in 2028. \nGet ready for another amazing event. In 2026 this conference will bring together together over 460 ttendees\, 90 different presentations and poster displays\, 64 sponsor and non-profit exhibitors\, and 15 states. Discover more about this inspiring event. \nThe program is available online. Please note the updated refund policy in the “Frequently asked questions” section below. \nFor more information\, please contact olivia.allread@delaware.gov or call 302-739-9939.
URL:https://gridphilly.com/event/2026-delaware-wetlands-conference/
LOCATION:Chase Center on the Riverfront\, 815 Justison Street\, Wilmington\, DE\, 19801\, United States
ATTACH;FMTTYPE=image/jpeg:https://gridphilly.com/wp-content/uploads/2025/06/8be8f29d6831fa31ff2fcea5ee60c6e4.jpg
END:VEVENT
END:VCALENDAR