BEGIN:VCALENDAR
VERSION:2.0
PRODID:-//Grid Magazine - ECPv6.15.20//NONSGML v1.0//EN
CALSCALE:GREGORIAN
METHOD:PUBLISH
X-ORIGINAL-URL:https://gridphilly.com
X-WR-CALDESC:Events for Grid Magazine
REFRESH-INTERVAL;VALUE=DURATION:PT1H
X-Robots-Tag:noindex
X-PUBLISHED-TTL:PT1H
BEGIN:VTIMEZONE
TZID:America/New_York
BEGIN:DAYLIGHT
TZOFFSETFROM:-0500
TZOFFSETTO:-0400
TZNAME:EDT
DTSTART:20220313T070000
END:DAYLIGHT
BEGIN:STANDARD
TZOFFSETFROM:-0400
TZOFFSETTO:-0500
TZNAME:EST
DTSTART:20221106T060000
END:STANDARD
BEGIN:DAYLIGHT
TZOFFSETFROM:-0500
TZOFFSETTO:-0400
TZNAME:EDT
DTSTART:20230312T070000
END:DAYLIGHT
BEGIN:STANDARD
TZOFFSETFROM:-0400
TZOFFSETTO:-0500
TZNAME:EST
DTSTART:20231105T060000
END:STANDARD
BEGIN:DAYLIGHT
TZOFFSETFROM:-0500
TZOFFSETTO:-0400
TZNAME:EDT
DTSTART:20240310T070000
END:DAYLIGHT
BEGIN:STANDARD
TZOFFSETFROM:-0400
TZOFFSETTO:-0500
TZNAME:EST
DTSTART:20241103T060000
END:STANDARD
BEGIN:DAYLIGHT
TZOFFSETFROM:-0500
TZOFFSETTO:-0400
TZNAME:EDT
DTSTART:20250309T070000
END:DAYLIGHT
BEGIN:STANDARD
TZOFFSETFROM:-0400
TZOFFSETTO:-0500
TZNAME:EST
DTSTART:20251102T060000
END:STANDARD
END:VTIMEZONE
BEGIN:VEVENT
DTSTART;TZID=America/New_York:20240417T170000
DTEND;TZID=America/New_York:20240417T190000
DTSTAMP:20260420T111657
CREATED:20240405T192332Z
LAST-MODIFIED:20240405T192332Z
UID:10012388-1713373200-1713380400@gridphilly.com
SUMMARY:The Fight for a Land Revolution
DESCRIPTION:THE FIGHT FOR A LAND REVOLUTION workshop and community gathering that will bring land justice organizations together in Philly.\n\n\nTHE FIGHT FOR A LAND REVOLUTION workshop and community gather is back! Join us on Wed April 17th at 5:00pm for an in-person event at 4014 Walnut St\, Philadelphia\, PA 19104 at the Rotunda. This event is all about advocating for a land revolution\, and we’re excited to continue the conversation from our last event. Our goal is to raise awareness about the importance of land reform and to empower individuals to take action. We’ll have engaging speakers\, interactive activities\, and plenty of opportunities to connect with like-minded individuals. Don’t miss out on this incredible opportunity to be a part of the fight for a better future!
URL:https://gridphilly.com/event/the-fight-for-a-land-revolution-2/
LOCATION:Rotunda\, 4014 Walnut Street\, Philadelphia\, PA\, 19104\, United States
ATTACH;FMTTYPE=image/jpeg:https://gridphilly.com/wp-content/uploads/2024/04/37b565573a3b0d6f3b81eb866c817a42.jpg
END:VEVENT
BEGIN:VEVENT
DTSTART;TZID=America/New_York:20240117T170000
DTEND;TZID=America/New_York:20240117T193000
DTSTAMP:20260420T111657
CREATED:20231231T174430Z
LAST-MODIFIED:20231231T190541Z
UID:10010401-1705510800-1705519800@gridphilly.com
SUMMARY:The Fight for a Land Revolution
DESCRIPTION:THE FIGHT FOR A LAND REVOLUTION workshop and community gathering that will bring land justice organizations together in Philly.\n\n\nTHE FIGHT FOR A LAND REVOLUTION workshop and community gather is back! Join us on Wed Jan 17th at 5:00pm for an in-person event at 4014 Walnut St\, Philadelphia\, PA 19104 at the Rotunda. This event is all about advocating for a land revolution\, and we’re excited to continue the conversation from our last event. Our goal is to raise awareness about the importance of land reform and to empower individuals to take action. We’ll have engaging speakers\, interactive activities\, and plenty of opportunities to connect with like-minded individuals. Don’t miss out on this incredible opportunity to be a part of the fight for a better future!
URL:https://gridphilly.com/event/the-fight-for-a-land-revolution/
LOCATION:Rotunda\, 4014 Walnut Street\, Philadelphia\, PA\, 19104\, United States
ATTACH;FMTTYPE=image/jpeg:https://gridphilly.com/wp-content/uploads/2023/12/5408ede0a21eed26eb44d853ea275b83.jpg
END:VEVENT
BEGIN:VEVENT
DTSTART;TZID=America/New_York:20231009T133000
DTEND;TZID=America/New_York:20231009T143000
DTSTAMP:20260420T111657
CREATED:20231002T121850Z
LAST-MODIFIED:20231002T121850Z
UID:10007182-1696858200-1696861800@gridphilly.com
SUMMARY:The Fight for a Land Revolution .3 x ECO WURD Festival
DESCRIPTION:A land justice workshop and community gathering that brings community members together to tacklehousing issues and come up with solutions.\n\n\nTHE FIGHT FOR A LAND REVOLUTION PART 3  is back and better than ever! Join us on Mon Oct 9  at 1:30pm-2:30 for an in-person event at 1431-39 N 52nd St\, Philadelphia\, PA . This event is all about advocating for a land revolution\, and we’re excited to continue the conversation from our last event. Our goal is to raise awareness about the importance of land reform and to empower individuals to take action. We’ll have engaging speakers\, interactive activities\, and plenty of opportunities to connect with like-minded individuals. Don’t miss out on this incredible opportunity to be a part of the fight for a better future!
URL:https://gridphilly.com/event/the-fight-for-a-land-revolution-3-x-eco-wurd-festival/
LOCATION:One Art Community Center\, 1431-39 North 52nd Street\, Philadelphia\, PA\, 19131\, United States
ATTACH;FMTTYPE=image/jpeg:https://gridphilly.com/wp-content/uploads/2023/10/61e2b4fcc72f31f3cd3243dbf4cd2c87.jpg
END:VEVENT
END:VCALENDAR