BEGIN:VCALENDAR
VERSION:2.0
PRODID:-//Grid Magazine - ECPv6.15.20//NONSGML v1.0//EN
CALSCALE:GREGORIAN
METHOD:PUBLISH
X-ORIGINAL-URL:https://gridphilly.com
X-WR-CALDESC:Events for Grid Magazine
REFRESH-INTERVAL;VALUE=DURATION:PT1H
X-Robots-Tag:noindex
X-PUBLISHED-TTL:PT1H
BEGIN:VTIMEZONE
TZID:America/New_York
BEGIN:DAYLIGHT
TZOFFSETFROM:-0500
TZOFFSETTO:-0400
TZNAME:EDT
DTSTART:20230312T070000
END:DAYLIGHT
BEGIN:STANDARD
TZOFFSETFROM:-0400
TZOFFSETTO:-0500
TZNAME:EST
DTSTART:20231105T060000
END:STANDARD
BEGIN:DAYLIGHT
TZOFFSETFROM:-0500
TZOFFSETTO:-0400
TZNAME:EDT
DTSTART:20240310T070000
END:DAYLIGHT
BEGIN:STANDARD
TZOFFSETFROM:-0400
TZOFFSETTO:-0500
TZNAME:EST
DTSTART:20241103T060000
END:STANDARD
BEGIN:DAYLIGHT
TZOFFSETFROM:-0500
TZOFFSETTO:-0400
TZNAME:EDT
DTSTART:20250309T070000
END:DAYLIGHT
BEGIN:STANDARD
TZOFFSETFROM:-0400
TZOFFSETTO:-0500
TZNAME:EST
DTSTART:20251102T060000
END:STANDARD
BEGIN:DAYLIGHT
TZOFFSETFROM:-0500
TZOFFSETTO:-0400
TZNAME:EDT
DTSTART:20260308T070000
END:DAYLIGHT
BEGIN:STANDARD
TZOFFSETFROM:-0400
TZOFFSETTO:-0500
TZNAME:EST
DTSTART:20261101T060000
END:STANDARD
END:VTIMEZONE
BEGIN:VEVENT
DTSTART;TZID=America/New_York:20251213T100000
DTEND;TZID=America/New_York:20251213T140000
DTSTAMP:20260420T033709
CREATED:20251208T014655Z
LAST-MODIFIED:20251208T014655Z
UID:10025415-1765620000-1765634400@gridphilly.com
SUMMARY:CUTLOOSE CARES A Day of Warmth: Ribbon Cutting & Winter Giveaway
DESCRIPTION:CUTLOOSE CARES and The Blessing Shop are providing free coats\, winter accessories\, and holiday hams to community members in need!\n\n\nA Day of Warmth is more than an event—it’s a mission. As temperatures drop\, many individuals and families face the winter months without adequate cold-weather essentials. CUTLOOSE CARES is stepping in to meet that need by providing free coats\, winter accessories\, and essential support items to community members. Along with Holiday Hams\, while supplies last! \n \nThis year’s event includes a special milestone: the ribbon-cutting ceremony for the CUTLOOSE CARES PANTRY within The Blessing Shop\, a new resource space dedicated to serving local families year-round. \nJoin us at the ribbon-cutting ceremony as we celebrate the opening of the CUTLOOSE CARES PANTRY within The Blessing Shop\, a community-centered space designed to provide love\, dignity\, and resources to families in need. This ceremonial moment will mark the beginning of a new chapter of service in Norristown. \n\n\nHow to Get InvolvedDonate a new or gently used coat during our collection dates\, December 1st to December 8th by sending us an email at info@cutloosecares.org \nJoin the Warmth Crew and volunteer on-site to assist with setup\, distribution\, or guest support https://form.jotform.com/253286958516168 \nShare the event with friends\, family\, and coworkers \nAttend the celebration and cheer on the ribbon cutting!
URL:https://gridphilly.com/event/cutloose-cares-a-day-of-warmth-ribbon-cutting-winter-giveaway/
LOCATION:318 W Main St\, 318 West Main Street\, Norristown\, PA\, 19401\, United States
ATTACH;FMTTYPE=image/jpeg:https://gridphilly.com/wp-content/uploads/2025/12/a674aa634e1328911373ff8e8e63950d.jpg
END:VEVENT
BEGIN:VEVENT
DTSTART;TZID=America/New_York:20251123T110000
DTEND;TZID=America/New_York:20251123T130000
DTSTAMP:20260420T033709
CREATED:20251117T144500Z
LAST-MODIFIED:20251117T144500Z
UID:10024449-1763895600-1763902800@gridphilly.com
SUMMARY:CUTLOOSE CARES: 5th Annual One CAN Make A Difference
DESCRIPTION:One can\, Two can\, Who can? WE CAN!\n\n\nTogether\, we CAN make a difference.\n \nJoin us on Sunday\, November 23rd at 11 am for a FREE 45-minute full-body can-weighted workout in the Brew Room at vonC Brewing to benefit the food-insecure families of CHOP and families across the Greater Philadelphia Area. \n \nBring your I CAN do anything attitude\, and let’s have a blast as we sweat it out for a great cause! We have a goal to collect THREE TONS (6\,000 LBS) of food this year! And catch this\, having collected 1\,321 pounds of food at Glizzyfest\, we’re almost at 25% of the goal! \n \nWe know with the help of the community\, we can make it happen! \n \n*Please bring at least 10 cans OR non-perishable items for your donation to this impactful event!* \n \nWhat to donate: \nPeanut butter\, Canned soup\, Canned fruit\, Canned vegetables\, Canned stew\, Canned fish\, Canned beans\, Pasta\, Rice\, and any other non-perishable items. \n \nGrab your sweatshirt: \nWe have an amazing OCMD event sweatshirt availble to order on our site here until November 14th. \n \nUnable to join us but want to feed families? \nPlease make your donation securely to our Donorbox here where every dollar is the equivalent to a pound of food and we’ll do the shopping. \n \nVolunteers needed: \nWe will need volunteers for this event beginning at 12PM to help us pack the bags of food for our local families at CHOP. If you are interested in donating your time to a great cause\, please register as a Volunteer here. \n \nThank you for propelling our mission forward one can of food at a time!
URL:https://gridphilly.com/event/cutloose-cares-5th-annual-one-can-make-a-difference/
LOCATION:von C Brewing Company\, 1210 Stanbridge Street\, #Suite 300\, Norristown\, PA\, 19401\, United States
ATTACH;FMTTYPE=image/jpeg:https://gridphilly.com/wp-content/uploads/2025/11/bb7b0bc27aaca2a7d52662983c3a4596.jpg
END:VEVENT
BEGIN:VEVENT
DTSTART;TZID=America/New_York:20250913T140000
DTEND;TZID=America/New_York:20250913T180000
DTSTAMP:20260420T033709
CREATED:20250905T150246Z
LAST-MODIFIED:20250905T150246Z
UID:10021409-1757772000-1757786400@gridphilly.com
SUMMARY:GLIZZYFEST 2025
DESCRIPTION:Eat Hot Dogs. Fight Hunger.  Join the tailgate party of the summer—prizes\, swag\, and impact for Philly families in need!\n\n\nJoin us on Saturday\, September 13th at FDR Park (Picnic Site 18) for an unforgettable tailgate experience with purpose! In collaboration with three iconic Philly brands—Dye Hard Fan\, PHL Threads\, and The Deli Collective—we’re hosting a high-energy event to raise awareness and support for food-insecure families in the Greater Philadelphia Area. \n\n\n🎉 Tailgate Party Begins at 2:00 PM: Arrive for music\, hot dogs\, giveaways and good vibes! \n \n🌭 Hot Dog Challenge (OPTIONAL): Not your average contest—each participant gets 9 hot dogs to eat. The top 3 eaters based on time will take home epic 1st\, 2nd\, and 3rd place prizes! \n \n🎟 Admission: FREE (BRING 10 CANNED GOODS OR NON-PERISHABLES)\, once you register\, you’re in! Mark your calendar\, share the event\, then grab your exclusive shirt at DyeHardFan! \n \nWhether you’re competing or cheering\, this is your chance to help collect 2\,000 pounds of food\, to celebrate community\, sports\, and giving back—all in one epic afternoon. Grab your shirt\, ticket\, come hungry\, happy and let’s tailgate for a cause! \n \nCan’t make the event but want to make an impact? Make a secure donation to the Cutloose Cares DONORBOX.
URL:https://gridphilly.com/event/glizzyfest-2025/
LOCATION:FDR Park\, 1500 Pattison Ave\, Philadelphia\, 19145\, United States
ATTACH;FMTTYPE=image/jpeg:https://gridphilly.com/wp-content/uploads/2025/09/338ae3cfe8b67299393f57f2e7c71260.jpg
END:VEVENT
BEGIN:VEVENT
DTSTART;TZID=America/New_York:20250607T110000
DTEND;TZID=America/New_York:20250607T130000
DTSTAMP:20260420T033709
CREATED:20250530T171729Z
LAST-MODIFIED:20250530T171729Z
UID:10019296-1749294000-1749301200@gridphilly.com
SUMMARY:CUTLOOSE CARES: 3RD ANNUAL COMMUNITY CLEAN UP PART 2
DESCRIPTION:The 3rd Annual Community Clean-Up Continues!\nCome out for Part 2 and help us make an even greater impact.\n\n\nSmall changes have a BIG impact on our community!\nSo much so that our 3rd Annual Community Clean has a part 2!\n \nJoin us on June 7th at 11 am for our 3rd Annual Community Clean-up PART 2. This event is completely FREE and all ages are welcome! \nGrab your family\, friends\, and colleagues\, and let’s work together to make Norristown a cleaner place for us all to live! \nWe will meet at Blockson Middle School at 11 AM and then begin to collect trash within the surrounding area\, making our way down Marshall Street towards St. Francis and looping back up! Be sure to wear comfortable clothing and sneakers as we will be walking for the duration of the cleanup. \nTrash bags and rubber gloves will be provided for all who volunteer!\nBy participating in this event\, you’ll not only be helping the community\, but you’ll also have the opportunity to meet new people\, have fun\, and make a positive impact. Let’s come together and show our love for our neighborhood!
URL:https://gridphilly.com/event/cutloose-cares-3rd-annual-community-clean-up-part-2/
LOCATION:Blockson Middle School\, 1315 West Marshall Street\, Norristown\, PA\, 19401\, United States
ATTACH;FMTTYPE=image/jpeg:https://gridphilly.com/wp-content/uploads/2025/05/8f5ac3b6e9b6b3a050bbf0e2351e8138.jpg
END:VEVENT
BEGIN:VEVENT
DTSTART;TZID=America/New_York:20250419T100000
DTEND;TZID=America/New_York:20250419T130000
DTSTAMP:20260420T033709
CREATED:20250408T202349Z
LAST-MODIFIED:20250408T202349Z
UID:10018337-1745056800-1745067600@gridphilly.com
SUMMARY:CUTLOOSE CARES: 3RD ANNUAL COMMUNITY CLEAN UP
DESCRIPTION:Roll up your sleeves & grab a friend\, join us in our efforts to Keep Norristown Beautiful!\n\n\nSmall changes have a BIG impact on our community!\n \nJoin us on April 19TH at 10am for our 3rd Annual Community Clean-up. This event is completely FREE and all ages are welcome! \nGrab your family\, friends\, and colleagues\, and let’s work together to make Norristown a cleaner place for us all to live! \nW e will meet Ackey’s Park (on the Sterigere St. side) at 10 AM and then begin to collect trash within the surrounding area\, making our way down Sterigere St. towards Stanbridge St.\, then up towards vonC Brewing. \nBe sure to wear comfortable clothing and sneakers as we will be walking for the duration of the cleanup. Once finished\, we will meet back at von C Brewing at 1 PM to participate in a Community Day with food from Lumbrada\, great beer from von C Brewing\, and an even greater community! \nT rash bags and rubber gloves  will be provided for all who volunteer !\nBy participating in this event\, you’ll not only be helping the community\, but you’ll also have the opportunity to meet new people\, have fun\, and make a positive impact. Let’s come together and show our love for our neighborhood!
URL:https://gridphilly.com/event/cutloose-cares-3rd-annual-community-clean-up/
LOCATION:Ackey’s Park\, West James Street\, Norristown\, PA\, USA\, West James Street\, Norristown\, PA\, 19401\, United States
ATTACH;FMTTYPE=image/jpeg:https://gridphilly.com/wp-content/uploads/2025/04/270118bb7de02394d2e13afcb61b0c46.jpg
END:VEVENT
BEGIN:VEVENT
DTSTART;TZID=America/New_York:20241222T130000
DTEND;TZID=America/New_York:20241222T150000
DTSTAMP:20260420T033709
CREATED:20241216T145549Z
LAST-MODIFIED:20241216T153844Z
UID:10016019-1734872400-1734879600@gridphilly.com
SUMMARY:Holiday Hands In Wrapping Party
DESCRIPTION:Join us for a fun-filled day of wrapping gifts together at our Holiday Hands In Wrapping Party!\n\n\nWelcome to the Holiday Hands In Wrapping Party at von C Brewing Company! Join us on Sun\, Dec 22\, 2024 at 1:00 PM for a festive afternoon of wrapping gifts and spreading holiday cheer. \nFor the 2024 holiday season\, we have sponsored 30 families\, and we know that with your help\, we can provide them with a holiday to remember. \nView our Holiday Wish List below: \nhttps://www.wishbob.com/bmrxizdjwe \nAll payments can be made through DonorBox or Venmo @cutlooseinc_: \nhttps://donorbox.org/holiday-hands-in-1-2024 \nSign up to volunteer here: \nhttps://form.jotform.com/243285318500149 \n \nNone of this is possible without your generosity\, thank you!
URL:https://gridphilly.com/event/holiday-hands-in-wrapping-party/
LOCATION:von C Brewing Company\, 1210 Stanbridge Street\, #Suite 300\, Norristown\, PA\, 19401\, United States
ATTACH;FMTTYPE=image/jpeg:https://gridphilly.com/wp-content/uploads/2024/12/cc91951e35409653cc252a9af387ea8e.jpg
END:VEVENT
BEGIN:VEVENT
DTSTART;TZID=America/New_York:20241123T110000
DTEND;TZID=America/New_York:20241123T120000
DTSTAMP:20260420T033709
CREATED:20241111T190814Z
LAST-MODIFIED:20241111T190814Z
UID:10015647-1732359600-1732363200@gridphilly.com
SUMMARY:CUTLOOSE CARES: 4th Annual One CAN Make A Difference
DESCRIPTION:
URL:https://gridphilly.com/event/cutloose-cares-4th-annual-one-can-make-a-difference/
LOCATION:von C Brewing Company\, 1210 Stanbridge Street\, #Suite 300\, Norristown\, PA\, 19401\, United States
ATTACH;FMTTYPE=image/jpeg:https://gridphilly.com/wp-content/uploads/2024/11/f4845561948856f9cba3b4c3d57ab6ae.jpg
END:VEVENT
BEGIN:VEVENT
DTSTART;TZID=America/New_York:20240414T100000
DTEND;TZID=America/New_York:20240414T130000
DTSTAMP:20260420T033709
CREATED:20240405T185551Z
LAST-MODIFIED:20240405T185551Z
UID:10012380-1713088800-1713099600@gridphilly.com
SUMMARY:CUTLOOSE CARES 2ND ANNUAL COMMUNITY CLEAN UP
DESCRIPTION:Roll up your sleeves & grab a friend\, join us in our efforts to Keep Norristown Beautiful\n\n\nSmall changes have a BIG impact on our community!\n \nJoin us on April 14th at 10am for our 2nd Annual Community Clean up. This event is completely FREE and all ages are welcome! \nGrab your family\, friends\, and colleagues\, and let’s work together to make Norristown a cleaner place for us all to live! \nW e will meet Ackey’s Park (on the Sterigere St. side) at 10 AM and then begin to collect trash within the surrounding area\, making our way down Sterigere St. towards Stanbridge St.\, then up towards vonC Brewing. \nBe sure to wear comfortable clothing and sneakers as we will be walking for the duration of the cleanup. Once finished\, we will meet back at von C Brewing at 1 PM to participate in a Community Day with food from Lumbrada\, great beer from von C Brewing\, and an even greater community! \nT rash bags and rubber gloves and safety vests will be provided for all who volunteer ! \nBy participating in this event\, you’ll not only be helping the community\, but you’ll also have the opportunity to meet new people\, have fun\, and make a positive impact. Let’s come together and show our love for our neighborhood!
URL:https://gridphilly.com/event/cutloose-cares-2nd-annual-community-clean-up/
LOCATION:Ackey’s Park\, West James Street\, Norristown\, PA\, USA\, West James Street\, Norristown\, PA\, 19401\, United States
END:VEVENT
END:VCALENDAR