BEGIN:VCALENDAR
VERSION:2.0
PRODID:-//Grid Magazine - ECPv6.15.20//NONSGML v1.0//EN
CALSCALE:GREGORIAN
METHOD:PUBLISH
X-ORIGINAL-URL:https://gridphilly.com
X-WR-CALDESC:Events for Grid Magazine
REFRESH-INTERVAL;VALUE=DURATION:PT1H
X-Robots-Tag:noindex
X-PUBLISHED-TTL:PT1H
BEGIN:VTIMEZONE
TZID:America/New_York
BEGIN:DAYLIGHT
TZOFFSETFROM:-0500
TZOFFSETTO:-0400
TZNAME:EDT
DTSTART:20250309T070000
END:DAYLIGHT
BEGIN:STANDARD
TZOFFSETFROM:-0400
TZOFFSETTO:-0500
TZNAME:EST
DTSTART:20251102T060000
END:STANDARD
BEGIN:DAYLIGHT
TZOFFSETFROM:-0500
TZOFFSETTO:-0400
TZNAME:EDT
DTSTART:20260308T070000
END:DAYLIGHT
BEGIN:STANDARD
TZOFFSETFROM:-0400
TZOFFSETTO:-0500
TZNAME:EST
DTSTART:20261101T060000
END:STANDARD
BEGIN:DAYLIGHT
TZOFFSETFROM:-0500
TZOFFSETTO:-0400
TZNAME:EDT
DTSTART:20270314T070000
END:DAYLIGHT
BEGIN:STANDARD
TZOFFSETFROM:-0400
TZOFFSETTO:-0500
TZNAME:EST
DTSTART:20271107T060000
END:STANDARD
END:VTIMEZONE
BEGIN:VEVENT
DTSTART;TZID=America/New_York:20260221T120000
DTEND;TZID=America/New_York:20260221T160000
DTSTAMP:20260421T115902
CREATED:20251201T175730Z
LAST-MODIFIED:20251201T175730Z
UID:10025208-1771675200-1771689600@gridphilly.com
SUMMARY:Cupid's Undie Run
DESCRIPTION:THE PANTLESS PARTY WITH A PURPOSE! \nRun a ‘Mile(ish)’ in Your Undies\, Because Kicking NF’s Butt is Worth the Chilly Cheeks \nEvery February\, thousands of undie runners in cities across the U.S. come together\, whether it be in-person or virtually\, to support those affected by NF\, a group of genetic conditions that cause tumors to grow on nerves throughout the body. \nCupid’s Undie Run kicks off with drinking and dancing\, then we jog it out with a mile(ish) run and end it all with an epic dance party! \nWHEN: FEBRUARY 21\, 2026\nTIME: 12PM-4PM\n(RUN STARTS AT 2PM)\nWHERE: Stateside Live!\n1100 Pattison Ave.\nPhiladelphia\, PA 19148\nWHAT: A PARTY & FUN RUN IN YOUR UNDIES\, ALL FOR CHARITY!
URL:https://gridphilly.com/event/cupids-undie-run/
LOCATION:Stateside Live\, 1100 Pattison Ave.\, Philadelphia\, 19148\, United States
ATTACH;FMTTYPE=image/jpeg:https://gridphilly.com/wp-content/uploads/2025/11/Philly.jpg
END:VEVENT
END:VCALENDAR