BEGIN:VCALENDAR
VERSION:2.0
PRODID:-//Grid Magazine - ECPv6.15.20//NONSGML v1.0//EN
CALSCALE:GREGORIAN
METHOD:PUBLISH
X-ORIGINAL-URL:https://gridphilly.com
X-WR-CALDESC:Events for Grid Magazine
REFRESH-INTERVAL;VALUE=DURATION:PT1H
X-Robots-Tag:noindex
X-PUBLISHED-TTL:PT1H
BEGIN:VTIMEZONE
TZID:America/New_York
BEGIN:DAYLIGHT
TZOFFSETFROM:-0500
TZOFFSETTO:-0400
TZNAME:EDT
DTSTART:20250309T070000
END:DAYLIGHT
BEGIN:STANDARD
TZOFFSETFROM:-0400
TZOFFSETTO:-0500
TZNAME:EST
DTSTART:20251102T060000
END:STANDARD
BEGIN:DAYLIGHT
TZOFFSETFROM:-0500
TZOFFSETTO:-0400
TZNAME:EDT
DTSTART:20260308T070000
END:DAYLIGHT
BEGIN:STANDARD
TZOFFSETFROM:-0400
TZOFFSETTO:-0500
TZNAME:EST
DTSTART:20261101T060000
END:STANDARD
BEGIN:DAYLIGHT
TZOFFSETFROM:-0500
TZOFFSETTO:-0400
TZNAME:EDT
DTSTART:20270314T070000
END:DAYLIGHT
BEGIN:STANDARD
TZOFFSETFROM:-0400
TZOFFSETTO:-0500
TZNAME:EST
DTSTART:20271107T060000
END:STANDARD
END:VTIMEZONE
BEGIN:VEVENT
DTSTART;TZID=America/New_York:20260420T180000
DTEND;TZID=America/New_York:20260420T210000
DTSTAMP:20260419T162346
CREATED:20260419T022755Z
LAST-MODIFIED:20260419T022755Z
UID:10032417-1776708000-1776718800@gridphilly.com
SUMMARY:Creatives & Conversation
DESCRIPTION:Join us for an open space where creatives can create\, curate or simply just exist! Food & Supplies provided\n\n\nJoin us at Collective Climb for an open and interactive space just for creatives!  \nExplore different stations of creativity or bring what youve been working on to create with community!  \nWhether you’re a writer\, visual artist\, graphic designer or any type of artist\, there will be space and supplies for you! Everyone is welcome!  \nFood is provided!
URL:https://gridphilly.com/event/creatives-conversation/
LOCATION:350 S 15th St\, 350 South 15th Street\, Philadelphia\, PA\, 19102\, United States
ATTACH;FMTTYPE=image/jpeg:https://gridphilly.com/wp-content/uploads/2026/04/57f30014298e362e885b0c9829dc487e.jpg
END:VEVENT
END:VCALENDAR