BEGIN:VCALENDAR
VERSION:2.0
PRODID:-//Grid Magazine - ECPv6.15.20//NONSGML v1.0//EN
CALSCALE:GREGORIAN
METHOD:PUBLISH
X-WR-CALNAME:Grid Magazine
X-ORIGINAL-URL:https://gridphilly.com
X-WR-CALDESC:Events for Grid Magazine
REFRESH-INTERVAL;VALUE=DURATION:PT1H
X-Robots-Tag:noindex
X-PUBLISHED-TTL:PT1H
BEGIN:VTIMEZONE
TZID:America/New_York
BEGIN:DAYLIGHT
TZOFFSETFROM:-0500
TZOFFSETTO:-0400
TZNAME:EDT
DTSTART:20250309T070000
END:DAYLIGHT
BEGIN:STANDARD
TZOFFSETFROM:-0400
TZOFFSETTO:-0500
TZNAME:EST
DTSTART:20251102T060000
END:STANDARD
BEGIN:DAYLIGHT
TZOFFSETFROM:-0500
TZOFFSETTO:-0400
TZNAME:EDT
DTSTART:20260308T070000
END:DAYLIGHT
BEGIN:STANDARD
TZOFFSETFROM:-0400
TZOFFSETTO:-0500
TZNAME:EST
DTSTART:20261101T060000
END:STANDARD
BEGIN:DAYLIGHT
TZOFFSETFROM:-0500
TZOFFSETTO:-0400
TZNAME:EDT
DTSTART:20270314T070000
END:DAYLIGHT
BEGIN:STANDARD
TZOFFSETFROM:-0400
TZOFFSETTO:-0500
TZNAME:EST
DTSTART:20271107T060000
END:STANDARD
END:VTIMEZONE
BEGIN:VEVENT
DTSTART;TZID=America/New_York:20260505T193000
DTEND;TZID=America/New_York:20260505T210000
DTSTAMP:20260419T131943
CREATED:20260418T022313Z
LAST-MODIFIED:20260418T022313Z
UID:10032261-1778009400-1778014800@gridphilly.com
SUMMARY:Keiko Matsui
DESCRIPTION:City Winery Philadelphia presents Keiko Matsui live on Tues\, May 5th at 7:30pm. \nInternationally acclaimed pianist\, composer\, and humanitarian Keiko Matsui brings her signature blend of beauty\, power\, and global connection to City Winery on May 5\, 2026. With a career spanning more than three decades\, Matsui has collaborated with legends including Miles Davis\, Stevie Wonder\, Bob James\, Hugh Masekela\, and Lalah Hathaway\, and has become one of contemporary jazz’s most beloved and influential voices. Her music transcends borders\, blending rich harmonies\, global rhythms\, and deeply emotional storytelling that connects audiences around the world. \nMatsui’s recent work\, including her landmark 30th recording Euphoria\, reflects her lifelong mission to inspire unity\, hope\, and compassion through music. Known for her commanding yet graceful presence at the piano\, she creates performances that feel both intimate and expansive celebrating resilience\, love\, and the shared human experience. Her artistry is matched by her humanitarian spirit\, having supported causes such as Susan G. Komen\, the United Nations World Food Programme\, and numerous global charities throughout her career. \nA trailblazer in contemporary jazz and the first Japanese artist to top Billboard’s Contemporary Jazz chart\, Keiko Matsui continues to leave an indelible mark on the genre. Her live performances are immersive\, uplifting journeys inviting listeners to pause\, reflect\, and feel deeply. This special evening at City Winery promises a powerful and inspiring night of music led by one of jazz’s most visionary artists. \nView Our Concert Dining Menu. \nfilling out this form and have a bottle waiting at your table when you arrive at your show. No more waiting for your first drink! We will save your wine preference and have a bottle at your table for all future shows. When you want to change your wine\, come back to this form and update your preference. \n2 Item Per Person Minimum\n🎶 Kindly note there is a 2 item per person food & beverage minimum in the concert venue. Food and beverages ordered in the restaurant also count towards the minimum. \nBecome a Vinofile Member and enjoy the benefits today.
URL:https://gridphilly.com/event/keiko-matsui/
LOCATION:City Winery Philadelphia\, 990 Filbert St\, Philadelphia\, 19107\, United States
ATTACH;FMTTYPE=image/jpeg:https://gridphilly.com/wp-content/uploads/2026/04/Keiko-Matsui.jpeg
ORGANIZER;CN="City Winery Philadelphia":MAILTO:philadelphiaconcierge@citywinery.com
END:VEVENT
END:VCALENDAR