BEGIN:VCALENDAR
VERSION:2.0
PRODID:-//Grid Magazine - ECPv6.15.20//NONSGML v1.0//EN
CALSCALE:GREGORIAN
METHOD:PUBLISH
X-ORIGINAL-URL:https://gridphilly.com
X-WR-CALDESC:Events for Grid Magazine
REFRESH-INTERVAL;VALUE=DURATION:PT1H
X-Robots-Tag:noindex
X-PUBLISHED-TTL:PT1H
BEGIN:VTIMEZONE
TZID:America/New_York
BEGIN:DAYLIGHT
TZOFFSETFROM:-0500
TZOFFSETTO:-0400
TZNAME:EDT
DTSTART:20220313T070000
END:DAYLIGHT
BEGIN:STANDARD
TZOFFSETFROM:-0400
TZOFFSETTO:-0500
TZNAME:EST
DTSTART:20221106T060000
END:STANDARD
BEGIN:DAYLIGHT
TZOFFSETFROM:-0500
TZOFFSETTO:-0400
TZNAME:EDT
DTSTART:20230312T070000
END:DAYLIGHT
BEGIN:STANDARD
TZOFFSETFROM:-0400
TZOFFSETTO:-0500
TZNAME:EST
DTSTART:20231105T060000
END:STANDARD
BEGIN:DAYLIGHT
TZOFFSETFROM:-0500
TZOFFSETTO:-0400
TZNAME:EDT
DTSTART:20240310T070000
END:DAYLIGHT
BEGIN:STANDARD
TZOFFSETFROM:-0400
TZOFFSETTO:-0500
TZNAME:EST
DTSTART:20241103T060000
END:STANDARD
BEGIN:DAYLIGHT
TZOFFSETFROM:-0500
TZOFFSETTO:-0400
TZNAME:EDT
DTSTART:20250309T070000
END:DAYLIGHT
BEGIN:STANDARD
TZOFFSETFROM:-0400
TZOFFSETTO:-0500
TZNAME:EST
DTSTART:20251102T060000
END:STANDARD
BEGIN:DAYLIGHT
TZOFFSETFROM:-0500
TZOFFSETTO:-0400
TZNAME:EDT
DTSTART:20260308T070000
END:DAYLIGHT
BEGIN:STANDARD
TZOFFSETFROM:-0400
TZOFFSETTO:-0500
TZNAME:EST
DTSTART:20261101T060000
END:STANDARD
END:VTIMEZONE
BEGIN:VEVENT
DTSTART;TZID=America/New_York:20250104T123000
DTEND;TZID=America/New_York:20250104T150000
DTSTAMP:20260419T230256
CREATED:20241230T141733Z
LAST-MODIFIED:20241230T141733Z
UID:10016199-1735993800-1736002800@gridphilly.com
SUMMARY:Chinatown Food Tour
DESCRIPTION:Uncover the stories and flavors of our beloved Chinatown. Perfect for locals\, visitors\, and foreigners.\n\n\nNot familiar enough with Philadelphia’s Chinatown? Or maybe you’re a regular and want to share stories. Join us as we uncover some gems that contribute to Chinatown’s culture and incredible cuisine. This 2.5-hour tour will fly by as we taste foods that represent multiple Asian cultures\, all from small locally-owned restaurants\, and even venture into cultural stores that play a big role in Chinatown.  \nTasting our way around Chinatown means highlighting multiple communities and countless regional flavors. We’ll cover nearly all corners of the neighborhood while you’re enjoying dumplings\, Szechuan\, Cantonese\, bubble tea\, and more. You’re bound to try something new\, learn how our Chinatown came to be\, and even pick up a new phrase or two. \nNot experienced with chopsticks or slurping – not a problem! This tour can be enjoyed by first-timers\, Asian-Americans\, and anyone with an appetite for Asian cuisine. Our local tour guide is a Chinese native and can’t wait to be your foodie expert.  \nSubstitutions easily offered for vegetarians and pescatarians. Only steps away from City Hall\, the Convention Center\, and Reading Terminal Market\, Chinatown is easily accessible via train (Jefferson Station)\, subway\, and rideshare.
URL:https://gridphilly.com/event/chinatown-food-tour-2/
LOCATION:17 N. 10th Street\, Philadelphia\, PA 19107\, 17 North 10th Street\, Philadelphia\, PA\, 19107\, United States
END:VEVENT
BEGIN:VEVENT
DTSTART;TZID=America/New_York:20241221T150000
DTEND;TZID=America/New_York:20241221T173000
DTSTAMP:20260419T230256
CREATED:20241216T145410Z
LAST-MODIFIED:20241216T153844Z
UID:10016017-1734793200-1734802200@gridphilly.com
SUMMARY:Locals' Favorites Food Tour
DESCRIPTION:Enjoy several gourmet selections from local favorites on this 2.5-hour delicious tour including a delectable cheese tasting and much more!\n\n\n\nHold on to your taste buds! This 2.5-hour gourmet tasting adventure in the heart of Philadelphia will introduce you to eclectic yet decadent treats at 5 of the city’s noteworthy foodie destinations\, all from beloved local family-owned businesses.\n \n \nYour friendly and knowledgeable guide will start you off at the iconic Reading Terminal Market to see the individual families that make up this iconic destination. Here\, you’ll enjoy molten cheese curds and corndogs\, a sampling of Middle Eastern delights\, and a decadent Amish-inspired dessert while hearing about the passion and love wrapped into every bite.\n \n \nNext up\, a visit to Philadelphia’s most famous gourmet superstore\, Di Bruno Bros. During our stroll to the posh neighborhood of Rittenhouse Square\, your guide will point out significant architecture and a few hot restaurants to add to your “Must Visit” list. In Di Bruno’s renowned cheese cave\, we’ll lavish you with hearty portions of 4 fantastic farmstead and imported cheeses. Your guide will share the inside scoop on how cheese is made\, and we’ll answer all of your questions about selecting and serving cheeses! We’ll arm you with the confidence to approach any cheese shop like a pro and the skills to throw together one killer cheese board at your next party! Your adventure concludes with a sweet and salty finale from one of the most well-known bakeries in the city\, and it’ll certainly leave you happy!\n \n \nThis tasting is perfect for individuals\, couples\, families\, and out-of-town guests! Great for birthdays\, anniversaries\, and dates!\n \n \nThis is a tasting adventure\, not a full meal. This tour is not designed for children under the age of 5. Please note that the majority of time on this tour is spent standing and eating. Limited time is spent sitting.
URL:https://gridphilly.com/event/locals-favorites-food-tour/
LOCATION:PA Convention Center (Market Street Entrance)\, 1111 Market Street\, Meet INSIDE the PA Convention Center entrance on MARKET STREET between 11th & 12th Streets. It’s alongside the Hard Rock Café and a Dunkin Donuts. Go through the lobby next to the Dunkin Donuts\, past the escalators to the meeting place. Your Tour Guide wi\, Philadelphia\, PA\, 19107\, United States
ATTACH;FMTTYPE=image/jpeg:https://gridphilly.com/wp-content/uploads/2024/12/e04da4345cd0a41ce6aa7591c602d3e1.jpg
END:VEVENT
BEGIN:VEVENT
DTSTART;TZID=America/New_York:20241202T123000
DTEND;TZID=America/New_York:20241202T140000
DTSTAMP:20260419T230256
CREATED:20241118T190947Z
LAST-MODIFIED:20241118T190947Z
UID:10015737-1733142600-1733148000@gridphilly.com
SUMMARY:Christmas Village: Tastes & Toasts Food Tour
DESCRIPTION:Come join us at Christmas Village for a festive tasting with seasonal delights paired with holiday beverages.\n\n\nChristmas Village: Tastes & Toasts Food Tour \nExperience the festive flavors and traditions of Philadelphia’s beloved Christmas Village in a more immersive way. Our “Tastes and Toasts of Christmas Village” tour invites you to savor holiday specialties from authentic German treats to other seasonal delights\, paired with festive beverages. Along the way\, you’ll uncover the rich history behind the German and European traditions that inspire the food\, drinks\, and decorations. There’s no better way to embrace the spirit of Christmas Village! \nTour includes 6 food tastings\, a wine flight sampler\, a soft beverage\, and a take-home souvenir.
URL:https://gridphilly.com/event/christmas-village-tastes-toasts-food-tour/
LOCATION:JFK Plaza (Love Park)\, Arch Street\, Philadelphia\, PA\, 19102\, United States
ATTACH;FMTTYPE=image/jpeg:https://gridphilly.com/wp-content/uploads/2024/11/41e8a22841020ada9c05671e2ee21993.jpg
END:VEVENT
BEGIN:VEVENT
DTSTART;TZID=America/New_York:20241102T113000
DTEND;TZID=America/New_York:20241102T140000
DTSTAMP:20260419T230256
CREATED:20241028T135244Z
LAST-MODIFIED:20241028T135244Z
UID:10015369-1730547000-1730556000@gridphilly.com
SUMMARY:Chinatown Food Tour
DESCRIPTION:Uncover the stories and flavors of our beloved Chinatown. Perfect for locals\, visitors\, and foreigners.\n\n\nNot familiar enough with Philadelphia’s Chinatown? Or maybe you’re a regular and want to share stories. Join us as we uncover some gems that contribute to Chinatown’s culture and incredible cuisine. This 2.5-hour tour will fly by as we taste foods that represent multiple Asian cultures\, all from small locally-owned restaurants\, and even venture into cultural stores that play a big role in Chinatown.  \nTasting our way around Chinatown means highlighting multiple communities and countless regional flavors. We’ll cover nearly all corners of the neighborhood while you’re enjoying dumplings\, Szechuan\, Cantonese\, bubble tea\, and more. You’re bound to try something new\, learn how our Chinatown came to be\, and even pick up a new phrase or two. \nNot experienced with chopsticks or slurping – not a problem! This tour can be enjoyed by first-timers\, Asian-Americans\, and anyone with an appetite for Asian cuisine. Our local tour guide is a Chinese native and can’t wait to be your foodie expert.  \nSubstitutions easily offered for vegetarians and pescatarians. Only steps away from City Hall\, the Convention Center\, and Reading Terminal Market\, Chinatown is easily accessible via train (Jefferson Station)\, subway\, and rideshare.
URL:https://gridphilly.com/event/chinatown-food-tour/
LOCATION:17 N. 10th Street\, Philadelphia\, PA 19107\, 17 North 10th Street\, Philadelphia\, PA\, 19107\, United States
END:VEVENT
BEGIN:VEVENT
DTSTART;TZID=America/New_York:20240224T143000
DTEND;TZID=America/New_York:20240224T151500
DTSTAMP:20260419T230256
CREATED:20240201T172228Z
LAST-MODIFIED:20240201T172228Z
UID:10010770-1708785000-1708787700@gridphilly.com
SUMMARY:Reading Terminal Market Tour
DESCRIPTION:Come taste the Market’s history and hear stories of some of the 80+ small\, family-owned businesses in the iconic Reading Terminal Market!
URL:https://gridphilly.com/event/reading-terminal-market-tour-78/
LOCATION:Reading Terminal Market\, 1136 Arch Street\, Philadelphia\, PA\, 19107\, United States
ATTACH;FMTTYPE=image/jpeg:https://gridphilly.com/wp-content/uploads/2023/06/2adbd1a9cdff1e4a3b96915debea6fb7.jpg
END:VEVENT
BEGIN:VEVENT
DTSTART;TZID=America/New_York:20240220T103000
DTEND;TZID=America/New_York:20240220T111500
DTSTAMP:20260419T230256
CREATED:20240201T172228Z
LAST-MODIFIED:20240201T172228Z
UID:10010769-1708425000-1708427700@gridphilly.com
SUMMARY:Reading Terminal Market Tour
DESCRIPTION:Come taste the Market’s history and hear stories of some of the 80+ small\, family-owned businesses in the iconic Reading Terminal Market!
URL:https://gridphilly.com/event/reading-terminal-market-tour-77/
LOCATION:Reading Terminal Market\, 1136 Arch Street\, Philadelphia\, PA\, 19107\, United States
ATTACH;FMTTYPE=image/jpeg:https://gridphilly.com/wp-content/uploads/2023/06/2adbd1a9cdff1e4a3b96915debea6fb7.jpg
END:VEVENT
BEGIN:VEVENT
DTSTART;TZID=America/New_York:20240215T103000
DTEND;TZID=America/New_York:20240215T111500
DTSTAMP:20260419T230256
CREATED:20240201T172227Z
LAST-MODIFIED:20240201T172227Z
UID:10010768-1707993000-1707995700@gridphilly.com
SUMMARY:Reading Terminal Market Tour
DESCRIPTION:Come taste the Market’s history and hear stories of some of the 80+ small\, family-owned businesses in the iconic Reading Terminal Market!
URL:https://gridphilly.com/event/reading-terminal-market-tour-76/
LOCATION:Reading Terminal Market\, 1136 Arch Street\, Philadelphia\, PA\, 19107\, United States
ATTACH;FMTTYPE=image/jpeg:https://gridphilly.com/wp-content/uploads/2023/06/2adbd1a9cdff1e4a3b96915debea6fb7.jpg
END:VEVENT
BEGIN:VEVENT
DTSTART;TZID=America/New_York:20240209T143000
DTEND;TZID=America/New_York:20240209T151500
DTSTAMP:20260419T230256
CREATED:20240201T172227Z
LAST-MODIFIED:20240201T172227Z
UID:10010767-1707489000-1707491700@gridphilly.com
SUMMARY:Reading Terminal Market Tour
DESCRIPTION:Come taste the Market’s history and hear stories of some of the 80+ small\, family-owned businesses in the iconic Reading Terminal Market!
URL:https://gridphilly.com/event/reading-terminal-market-tour-75/
LOCATION:Reading Terminal Market\, 1136 Arch Street\, Philadelphia\, PA\, 19107\, United States
ATTACH;FMTTYPE=image/jpeg:https://gridphilly.com/wp-content/uploads/2023/06/2adbd1a9cdff1e4a3b96915debea6fb7.jpg
END:VEVENT
BEGIN:VEVENT
DTSTART;TZID=America/New_York:20240205T103000
DTEND;TZID=America/New_York:20240205T111500
DTSTAMP:20260419T230256
CREATED:20240201T172226Z
LAST-MODIFIED:20240201T172226Z
UID:10010766-1707129000-1707131700@gridphilly.com
SUMMARY:Reading Terminal Market Tour
DESCRIPTION:Come taste the Market’s history and hear stories of some of the 80+ small\, family-owned businesses in the iconic Reading Terminal Market!
URL:https://gridphilly.com/event/reading-terminal-market-tour-74/
LOCATION:Reading Terminal Market\, 1136 Arch Street\, Philadelphia\, PA\, 19107\, United States
ATTACH;FMTTYPE=image/jpeg:https://gridphilly.com/wp-content/uploads/2023/06/2adbd1a9cdff1e4a3b96915debea6fb7.jpg
END:VEVENT
BEGIN:VEVENT
DTSTART;TZID=America/New_York:20231220T103000
DTEND;TZID=America/New_York:20231220T111500
DTSTAMP:20260419T230256
CREATED:20231120T181404Z
LAST-MODIFIED:20231120T181404Z
UID:10008290-1703068200-1703070900@gridphilly.com
SUMMARY:Reading Terminal Market Tour
DESCRIPTION:Come taste the Market’s history and hear stories of some of the 80+ small\, family-owned businesses in the iconic Reading Terminal Market!
URL:https://gridphilly.com/event/reading-terminal-market-tour-73/
LOCATION:Reading Terminal Market\, 1136 Arch Street\, Philadelphia\, PA\, 19107\, United States
ATTACH;FMTTYPE=image/jpeg:https://gridphilly.com/wp-content/uploads/2023/06/2adbd1a9cdff1e4a3b96915debea6fb7.jpg
END:VEVENT
BEGIN:VEVENT
DTSTART;TZID=America/New_York:20231219T143000
DTEND;TZID=America/New_York:20231219T151500
DTSTAMP:20260419T230256
CREATED:20231120T181404Z
LAST-MODIFIED:20231120T181404Z
UID:10008289-1702996200-1702998900@gridphilly.com
SUMMARY:Reading Terminal Market Tour
DESCRIPTION:Come taste the Market’s history and hear stories of some of the 80+ small\, family-owned businesses in the iconic Reading Terminal Market!
URL:https://gridphilly.com/event/reading-terminal-market-tour-72/
LOCATION:Reading Terminal Market\, 1136 Arch Street\, Philadelphia\, PA\, 19107\, United States
ATTACH;FMTTYPE=image/jpeg:https://gridphilly.com/wp-content/uploads/2023/06/2adbd1a9cdff1e4a3b96915debea6fb7.jpg
END:VEVENT
BEGIN:VEVENT
DTSTART;TZID=America/New_York:20231218T143000
DTEND;TZID=America/New_York:20231218T151500
DTSTAMP:20260419T230256
CREATED:20231120T181404Z
LAST-MODIFIED:20231120T181404Z
UID:10008288-1702909800-1702912500@gridphilly.com
SUMMARY:Reading Terminal Market Tour
DESCRIPTION:Come taste the Market’s history and hear stories of some of the 80+ small\, family-owned businesses in the iconic Reading Terminal Market!
URL:https://gridphilly.com/event/reading-terminal-market-tour-71/
LOCATION:Reading Terminal Market\, 1136 Arch Street\, Philadelphia\, PA\, 19107\, United States
ATTACH;FMTTYPE=image/jpeg:https://gridphilly.com/wp-content/uploads/2023/06/2adbd1a9cdff1e4a3b96915debea6fb7.jpg
END:VEVENT
BEGIN:VEVENT
DTSTART;TZID=America/New_York:20231217T143000
DTEND;TZID=America/New_York:20231217T151500
DTSTAMP:20260419T230256
CREATED:20231120T181403Z
LAST-MODIFIED:20231120T181403Z
UID:10008287-1702823400-1702826100@gridphilly.com
SUMMARY:Reading Terminal Market Tour
DESCRIPTION:Come taste the Market’s history and hear stories of some of the 80+ small\, family-owned businesses in the iconic Reading Terminal Market!
URL:https://gridphilly.com/event/reading-terminal-market-tour-70/
LOCATION:Reading Terminal Market\, 1136 Arch Street\, Philadelphia\, PA\, 19107\, United States
ATTACH;FMTTYPE=image/jpeg:https://gridphilly.com/wp-content/uploads/2023/06/2adbd1a9cdff1e4a3b96915debea6fb7.jpg
END:VEVENT
BEGIN:VEVENT
DTSTART;TZID=America/New_York:20231216T103000
DTEND;TZID=America/New_York:20231216T111500
DTSTAMP:20260419T230256
CREATED:20231120T181403Z
LAST-MODIFIED:20231120T181403Z
UID:10008286-1702722600-1702725300@gridphilly.com
SUMMARY:Reading Terminal Market Tour
DESCRIPTION:Come taste the Market’s history and hear stories of some of the 80+ small\, family-owned businesses in the iconic Reading Terminal Market!
URL:https://gridphilly.com/event/reading-terminal-market-tour-69/
LOCATION:Reading Terminal Market\, 1136 Arch Street\, Philadelphia\, PA\, 19107\, United States
ATTACH;FMTTYPE=image/jpeg:https://gridphilly.com/wp-content/uploads/2023/06/2adbd1a9cdff1e4a3b96915debea6fb7.jpg
END:VEVENT
BEGIN:VEVENT
DTSTART;TZID=America/New_York:20231214T143000
DTEND;TZID=America/New_York:20231214T151500
DTSTAMP:20260419T230256
CREATED:20231120T181403Z
LAST-MODIFIED:20231120T181403Z
UID:10008285-1702564200-1702566900@gridphilly.com
SUMMARY:Reading Terminal Market Tour
DESCRIPTION:Come taste the Market’s history and hear stories of some of the 80+ small\, family-owned businesses in the iconic Reading Terminal Market!
URL:https://gridphilly.com/event/reading-terminal-market-tour-68/
LOCATION:Reading Terminal Market\, 1136 Arch Street\, Philadelphia\, PA\, 19107\, United States
ATTACH;FMTTYPE=image/jpeg:https://gridphilly.com/wp-content/uploads/2023/06/2adbd1a9cdff1e4a3b96915debea6fb7.jpg
END:VEVENT
BEGIN:VEVENT
DTSTART;TZID=America/New_York:20231213T143000
DTEND;TZID=America/New_York:20231213T151500
DTSTAMP:20260419T230256
CREATED:20231120T181402Z
LAST-MODIFIED:20231120T181402Z
UID:10008284-1702477800-1702480500@gridphilly.com
SUMMARY:Reading Terminal Market Tour
DESCRIPTION:Come taste the Market’s history and hear stories of some of the 80+ small\, family-owned businesses in the iconic Reading Terminal Market!
URL:https://gridphilly.com/event/reading-terminal-market-tour-67/
LOCATION:Reading Terminal Market\, 1136 Arch Street\, Philadelphia\, PA\, 19107\, United States
ATTACH;FMTTYPE=image/jpeg:https://gridphilly.com/wp-content/uploads/2023/06/2adbd1a9cdff1e4a3b96915debea6fb7.jpg
END:VEVENT
BEGIN:VEVENT
DTSTART;TZID=America/New_York:20231212T103000
DTEND;TZID=America/New_York:20231212T111500
DTSTAMP:20260419T230256
CREATED:20231120T181402Z
LAST-MODIFIED:20231120T181402Z
UID:10008283-1702377000-1702379700@gridphilly.com
SUMMARY:Reading Terminal Market Tour
DESCRIPTION:Come taste the Market’s history and hear stories of some of the 80+ small\, family-owned businesses in the iconic Reading Terminal Market!
URL:https://gridphilly.com/event/reading-terminal-market-tour-66/
LOCATION:Reading Terminal Market\, 1136 Arch Street\, Philadelphia\, PA\, 19107\, United States
ATTACH;FMTTYPE=image/jpeg:https://gridphilly.com/wp-content/uploads/2023/06/2adbd1a9cdff1e4a3b96915debea6fb7.jpg
END:VEVENT
BEGIN:VEVENT
DTSTART;TZID=America/New_York:20231210T143000
DTEND;TZID=America/New_York:20231210T151500
DTSTAMP:20260419T230256
CREATED:20231120T181402Z
LAST-MODIFIED:20231120T181402Z
UID:10008282-1702218600-1702221300@gridphilly.com
SUMMARY:Reading Terminal Market Tour
DESCRIPTION:Come taste the Market’s history and hear stories of some of the 80+ small\, family-owned businesses in the iconic Reading Terminal Market!
URL:https://gridphilly.com/event/reading-terminal-market-tour-65/
LOCATION:Reading Terminal Market\, 1136 Arch Street\, Philadelphia\, PA\, 19107\, United States
ATTACH;FMTTYPE=image/jpeg:https://gridphilly.com/wp-content/uploads/2023/06/2adbd1a9cdff1e4a3b96915debea6fb7.jpg
END:VEVENT
BEGIN:VEVENT
DTSTART;TZID=America/New_York:20231210T103000
DTEND;TZID=America/New_York:20231210T111500
DTSTAMP:20260419T230256
CREATED:20231120T181401Z
LAST-MODIFIED:20231120T181401Z
UID:10008281-1702204200-1702206900@gridphilly.com
SUMMARY:Reading Terminal Market Tour
DESCRIPTION:Come taste the Market’s history and hear stories of some of the 80+ small\, family-owned businesses in the iconic Reading Terminal Market!
URL:https://gridphilly.com/event/reading-terminal-market-tour-64/
LOCATION:Reading Terminal Market\, 1136 Arch Street\, Philadelphia\, PA\, 19107\, United States
ATTACH;FMTTYPE=image/jpeg:https://gridphilly.com/wp-content/uploads/2023/06/2adbd1a9cdff1e4a3b96915debea6fb7.jpg
END:VEVENT
BEGIN:VEVENT
DTSTART;TZID=America/New_York:20231209T103000
DTEND;TZID=America/New_York:20231209T111500
DTSTAMP:20260419T230256
CREATED:20231120T181401Z
LAST-MODIFIED:20231120T181401Z
UID:10008280-1702117800-1702120500@gridphilly.com
SUMMARY:Reading Terminal Market Tour
DESCRIPTION:Come taste the Market’s history and hear stories of some of the 80+ small\, family-owned businesses in the iconic Reading Terminal Market!
URL:https://gridphilly.com/event/reading-terminal-market-tour-63/
LOCATION:Reading Terminal Market\, 1136 Arch Street\, Philadelphia\, PA\, 19107\, United States
ATTACH;FMTTYPE=image/jpeg:https://gridphilly.com/wp-content/uploads/2023/06/2adbd1a9cdff1e4a3b96915debea6fb7.jpg
END:VEVENT
BEGIN:VEVENT
DTSTART;TZID=America/New_York:20231207T103000
DTEND;TZID=America/New_York:20231207T111500
DTSTAMP:20260419T230256
CREATED:20231120T181400Z
LAST-MODIFIED:20231120T181400Z
UID:10008279-1701945000-1701947700@gridphilly.com
SUMMARY:Reading Terminal Market Tour
DESCRIPTION:Come taste the Market’s history and hear stories of some of the 80+ small\, family-owned businesses in the iconic Reading Terminal Market!
URL:https://gridphilly.com/event/reading-terminal-market-tour-62/
LOCATION:Reading Terminal Market\, 1136 Arch Street\, Philadelphia\, PA\, 19107\, United States
ATTACH;FMTTYPE=image/jpeg:https://gridphilly.com/wp-content/uploads/2023/06/2adbd1a9cdff1e4a3b96915debea6fb7.jpg
END:VEVENT
BEGIN:VEVENT
DTSTART;TZID=America/New_York:20231204T143000
DTEND;TZID=America/New_York:20231204T151500
DTSTAMP:20260419T230256
CREATED:20231120T181400Z
LAST-MODIFIED:20231120T181400Z
UID:10008278-1701700200-1701702900@gridphilly.com
SUMMARY:Reading Terminal Market Tour
DESCRIPTION:Come taste the Market’s history and hear stories of some of the 80+ small\, family-owned businesses in the iconic Reading Terminal Market!
URL:https://gridphilly.com/event/reading-terminal-market-tour-61/
LOCATION:Reading Terminal Market\, 1136 Arch Street\, Philadelphia\, PA\, 19107\, United States
ATTACH;FMTTYPE=image/jpeg:https://gridphilly.com/wp-content/uploads/2023/06/2adbd1a9cdff1e4a3b96915debea6fb7.jpg
END:VEVENT
BEGIN:VEVENT
DTSTART;TZID=America/New_York:20231130T143000
DTEND;TZID=America/New_York:20231130T151500
DTSTAMP:20260419T230256
CREATED:20231120T181400Z
LAST-MODIFIED:20231120T181400Z
UID:10008277-1701354600-1701357300@gridphilly.com
SUMMARY:Reading Terminal Market Tour
DESCRIPTION:Come taste the Market’s history and hear stories of some of the 80+ small\, family-owned businesses in the iconic Reading Terminal Market!
URL:https://gridphilly.com/event/reading-terminal-market-tour-60/
LOCATION:Reading Terminal Market\, 1136 Arch Street\, Philadelphia\, PA\, 19107\, United States
ATTACH;FMTTYPE=image/jpeg:https://gridphilly.com/wp-content/uploads/2023/06/2adbd1a9cdff1e4a3b96915debea6fb7.jpg
END:VEVENT
BEGIN:VEVENT
DTSTART;TZID=America/New_York:20231129T103000
DTEND;TZID=America/New_York:20231129T111500
DTSTAMP:20260419T230256
CREATED:20231120T181359Z
LAST-MODIFIED:20231120T181359Z
UID:10008276-1701253800-1701256500@gridphilly.com
SUMMARY:Reading Terminal Market Tour
DESCRIPTION:Come taste the Market’s history and hear stories of some of the 80+ small\, family-owned businesses in the iconic Reading Terminal Market!
URL:https://gridphilly.com/event/reading-terminal-market-tour-59/
LOCATION:Reading Terminal Market\, 1136 Arch Street\, Philadelphia\, PA\, 19107\, United States
ATTACH;FMTTYPE=image/jpeg:https://gridphilly.com/wp-content/uploads/2023/06/2adbd1a9cdff1e4a3b96915debea6fb7.jpg
END:VEVENT
BEGIN:VEVENT
DTSTART;TZID=America/New_York:20231128T103000
DTEND;TZID=America/New_York:20231128T111500
DTSTAMP:20260419T230256
CREATED:20231120T181359Z
LAST-MODIFIED:20231120T181359Z
UID:10008275-1701167400-1701170100@gridphilly.com
SUMMARY:Reading Terminal Market Tour
DESCRIPTION:Come taste the Market’s history and hear stories of some of the 80+ small\, family-owned businesses in the iconic Reading Terminal Market!
URL:https://gridphilly.com/event/reading-terminal-market-tour-58/
LOCATION:Reading Terminal Market\, 1136 Arch Street\, Philadelphia\, PA\, 19107\, United States
ATTACH;FMTTYPE=image/jpeg:https://gridphilly.com/wp-content/uploads/2023/06/2adbd1a9cdff1e4a3b96915debea6fb7.jpg
END:VEVENT
BEGIN:VEVENT
DTSTART;TZID=America/New_York:20231126T143000
DTEND;TZID=America/New_York:20231126T151500
DTSTAMP:20260419T230256
CREATED:20231120T181359Z
LAST-MODIFIED:20231120T181359Z
UID:10008274-1701009000-1701011700@gridphilly.com
SUMMARY:Reading Terminal Market Tour
DESCRIPTION:Come taste the Market’s history and hear stories of some of the 80+ small\, family-owned businesses in the iconic Reading Terminal Market!
URL:https://gridphilly.com/event/reading-terminal-market-tour-57/
LOCATION:Reading Terminal Market\, 1136 Arch Street\, Philadelphia\, PA\, 19107\, United States
ATTACH;FMTTYPE=image/jpeg:https://gridphilly.com/wp-content/uploads/2023/06/2adbd1a9cdff1e4a3b96915debea6fb7.jpg
END:VEVENT
BEGIN:VEVENT
DTSTART;TZID=America/New_York:20231124T103000
DTEND;TZID=America/New_York:20231124T111500
DTSTAMP:20260419T230256
CREATED:20231120T181358Z
LAST-MODIFIED:20231120T181358Z
UID:10008273-1700821800-1700824500@gridphilly.com
SUMMARY:Reading Terminal Market Tour
DESCRIPTION:Come taste the Market’s history and hear stories of some of the 80+ small\, family-owned businesses in the iconic Reading Terminal Market!
URL:https://gridphilly.com/event/reading-terminal-market-tour-56/
LOCATION:Reading Terminal Market\, 1136 Arch Street\, Philadelphia\, PA\, 19107\, United States
ATTACH;FMTTYPE=image/jpeg:https://gridphilly.com/wp-content/uploads/2023/06/2adbd1a9cdff1e4a3b96915debea6fb7.jpg
END:VEVENT
BEGIN:VEVENT
DTSTART;TZID=America/New_York:20231122T143000
DTEND;TZID=America/New_York:20231122T151500
DTSTAMP:20260419T230256
CREATED:20231120T181358Z
LAST-MODIFIED:20231120T181358Z
UID:10008272-1700663400-1700666100@gridphilly.com
SUMMARY:Reading Terminal Market Tour
DESCRIPTION:Come taste the Market’s history and hear stories of some of the 80+ small\, family-owned businesses in the iconic Reading Terminal Market!
URL:https://gridphilly.com/event/reading-terminal-market-tour-55/
LOCATION:Reading Terminal Market\, 1136 Arch Street\, Philadelphia\, PA\, 19107\, United States
ATTACH;FMTTYPE=image/jpeg:https://gridphilly.com/wp-content/uploads/2023/06/2adbd1a9cdff1e4a3b96915debea6fb7.jpg
END:VEVENT
BEGIN:VEVENT
DTSTART;TZID=America/New_York:20231121T103000
DTEND;TZID=America/New_York:20231121T111500
DTSTAMP:20260419T230256
CREATED:20231120T181357Z
LAST-MODIFIED:20231120T181357Z
UID:10008271-1700562600-1700565300@gridphilly.com
SUMMARY:Reading Terminal Market Tour
DESCRIPTION:Come taste the Market’s history and hear stories of some of the 80+ small\, family-owned businesses in the iconic Reading Terminal Market!
URL:https://gridphilly.com/event/reading-terminal-market-tour-54/
LOCATION:Reading Terminal Market\, 1136 Arch Street\, Philadelphia\, PA\, 19107\, United States
ATTACH;FMTTYPE=image/jpeg:https://gridphilly.com/wp-content/uploads/2023/06/2adbd1a9cdff1e4a3b96915debea6fb7.jpg
END:VEVENT
BEGIN:VEVENT
DTSTART;TZID=America/New_York:20231029T103000
DTEND;TZID=America/New_York:20231029T111500
DTSTAMP:20260419T230256
CREATED:20231002T123950Z
LAST-MODIFIED:20231002T143729Z
UID:10007233-1698575400-1698578100@gridphilly.com
SUMMARY:Reading Terminal Market Tour
DESCRIPTION:Come taste the Market’s history and hear stories of some of the 80+ small\, family-owned businesses in the iconic Reading Terminal Market!
URL:https://gridphilly.com/event/reading-terminal-market-tour-53/
LOCATION:Reading Terminal Market\, 1136 Arch Street\, Philadelphia\, PA\, 19107\, United States
ATTACH;FMTTYPE=image/jpeg:https://gridphilly.com/wp-content/uploads/2023/06/2adbd1a9cdff1e4a3b96915debea6fb7.jpg
END:VEVENT
END:VCALENDAR