BEGIN:VCALENDAR
VERSION:2.0
PRODID:-//Grid Magazine - ECPv6.15.20//NONSGML v1.0//EN
CALSCALE:GREGORIAN
METHOD:PUBLISH
X-ORIGINAL-URL:https://gridphilly.com
X-WR-CALDESC:Events for Grid Magazine
REFRESH-INTERVAL;VALUE=DURATION:PT1H
X-Robots-Tag:noindex
X-PUBLISHED-TTL:PT1H
BEGIN:VTIMEZONE
TZID:America/New_York
BEGIN:DAYLIGHT
TZOFFSETFROM:-0500
TZOFFSETTO:-0400
TZNAME:EDT
DTSTART:20230312T070000
END:DAYLIGHT
BEGIN:STANDARD
TZOFFSETFROM:-0400
TZOFFSETTO:-0500
TZNAME:EST
DTSTART:20231105T060000
END:STANDARD
BEGIN:DAYLIGHT
TZOFFSETFROM:-0500
TZOFFSETTO:-0400
TZNAME:EDT
DTSTART:20240310T070000
END:DAYLIGHT
BEGIN:STANDARD
TZOFFSETFROM:-0400
TZOFFSETTO:-0500
TZNAME:EST
DTSTART:20241103T060000
END:STANDARD
BEGIN:DAYLIGHT
TZOFFSETFROM:-0500
TZOFFSETTO:-0400
TZNAME:EDT
DTSTART:20250309T070000
END:DAYLIGHT
BEGIN:STANDARD
TZOFFSETFROM:-0400
TZOFFSETTO:-0500
TZNAME:EST
DTSTART:20251102T060000
END:STANDARD
END:VTIMEZONE
BEGIN:VEVENT
DTSTART;TZID=America/New_York:20241202T103000
DTEND;TZID=America/New_York:20241202T120000
DTSTAMP:20260424T203104
CREATED:20241126T163924Z
LAST-MODIFIED:20241126T163924Z
UID:10015861-1733135400-1733140800@gridphilly.com
SUMMARY:Phoenixville Wastewater Hydrothermal Carbonization Plant Tour
DESCRIPTION:Come join us for a tour of the Phoenixville Wastewater Hydrothermal Carbonization Plant and learn how we turn waste into valuable resources!\n\n\nPhoenixville Wastewater Hydrothermal Carbonization Plant Tour \nCurious about how wastewater can be turned into valuable resources? Join us for a tour of the Phoenixville Wastewater Hydrothermal Carbonization Plant! Learn about the innovative process of converting organic waste into biochar and renewable energy. Get a behind-the-scenes look at sustainable solutions in action. Don’t miss this opportunity to explore cutting-edge technology in a real-world setting. Reserve your spot today!
URL:https://gridphilly.com/event/phoenixville-wastewater-hydrothermal-carbonization-plant-tour/
LOCATION:South 2nd Avenue\, 17 South 2nd Avenue\, Phoenixville\, PA\, 19460\, United States
ATTACH;FMTTYPE=image/jpeg:https://gridphilly.com/wp-content/uploads/2024/11/bb1413161946fddbda0d29a2136f18c5.jpg
END:VEVENT
END:VCALENDAR