BEGIN:VCALENDAR
VERSION:2.0
PRODID:-//Grid Magazine - ECPv6.15.20//NONSGML v1.0//EN
CALSCALE:GREGORIAN
METHOD:PUBLISH
X-ORIGINAL-URL:https://gridphilly.com
X-WR-CALDESC:Events for Grid Magazine
REFRESH-INTERVAL;VALUE=DURATION:PT1H
X-Robots-Tag:noindex
X-PUBLISHED-TTL:PT1H
BEGIN:VTIMEZONE
TZID:America/New_York
BEGIN:DAYLIGHT
TZOFFSETFROM:-0500
TZOFFSETTO:-0400
TZNAME:EDT
DTSTART:20240310T070000
END:DAYLIGHT
BEGIN:STANDARD
TZOFFSETFROM:-0400
TZOFFSETTO:-0500
TZNAME:EST
DTSTART:20241103T060000
END:STANDARD
BEGIN:DAYLIGHT
TZOFFSETFROM:-0500
TZOFFSETTO:-0400
TZNAME:EDT
DTSTART:20250309T070000
END:DAYLIGHT
BEGIN:STANDARD
TZOFFSETFROM:-0400
TZOFFSETTO:-0500
TZNAME:EST
DTSTART:20251102T060000
END:STANDARD
BEGIN:DAYLIGHT
TZOFFSETFROM:-0500
TZOFFSETTO:-0400
TZNAME:EDT
DTSTART:20260308T070000
END:DAYLIGHT
BEGIN:STANDARD
TZOFFSETFROM:-0400
TZOFFSETTO:-0500
TZNAME:EST
DTSTART:20261101T060000
END:STANDARD
BEGIN:DAYLIGHT
TZOFFSETFROM:-0500
TZOFFSETTO:-0400
TZNAME:EDT
DTSTART:20270314T070000
END:DAYLIGHT
BEGIN:STANDARD
TZOFFSETFROM:-0400
TZOFFSETTO:-0500
TZNAME:EST
DTSTART:20271107T060000
END:STANDARD
END:VTIMEZONE
BEGIN:VEVENT
DTSTART;TZID=America/New_York:20260416T173000
DTEND;TZID=America/New_York:20260416T193000
DTSTAMP:20260419T164619
CREATED:20260329T233041Z
LAST-MODIFIED:20260329T233211Z
UID:10030626-1776360600-1776367800@gridphilly.com
SUMMARY:East Camden Community Resilience Meeting
DESCRIPTION:Join us in East Camden to chat\, connect\, and build stronger community vibes together!\n\n\nEast Camden Community Resilience Meeting\nHey neighbors! Join us in person for the East Camden Community Resilience Meeting. \nWe would love to talk to you about: \nRepairing your home \nFlooding in your home and street \nPreparing for emergencies and  \nLeadership Training
URL:https://gridphilly.com/event/east-camden-community-resilience-meeting/
LOCATION:2912 Federal St\, 2912 Federal Street\, Camden\, NJ\, 08105\, United States
ATTACH;FMTTYPE=image/jpeg:https://gridphilly.com/wp-content/uploads/2026/03/a8e0e928fc3f45930866057d943a7a17.jpg
END:VEVENT
BEGIN:VEVENT
DTSTART;TZID=America/New_York:20250716T140000
DTEND;TZID=America/New_York:20250716T200000
DTSTAMP:20260419T164619
CREATED:20250714T164209Z
LAST-MODIFIED:20250714T164209Z
UID:10019919-1752674400-1752696000@gridphilly.com
SUMMARY:CFET Open House
DESCRIPTION:Come hang out at the CFET Open House for a fun and informative day of exploring all we have to offer!\n\n\nWelcome to the CFET Open House! \nCome join us at the Center for Environmental Transformation for a day of fun and learning. Explore our sustainable practices\, meet our team\, and discover how you can get involved in our mission to protect the environment. Whether you’re a long-time supporter or new to the green scene\, this event is perfect for all ages. Don’t miss out on this opportunity to see firsthand the impact we’re making in our community. See you there!
URL:https://gridphilly.com/event/cfet-open-house/
LOCATION:Center for Environmental Transformation\, 1729 Ferry Avenue\, Camden\, NJ\, 08104\, United States
ATTACH;FMTTYPE=image/jpeg:https://gridphilly.com/wp-content/uploads/2025/07/12f58e6071455decca41cf88f63eb612.jpg
END:VEVENT
BEGIN:VEVENT
DTSTART;TZID=America/New_York:20250611T170000
DTEND;TZID=America/New_York:20250611T203000
DTSTAMP:20260419T164619
CREATED:20250610T163942Z
LAST-MODIFIED:20250610T163942Z
UID:10019383-1749661200-1749673800@gridphilly.com
SUMMARY:Community Design Workshop & Discussion
DESCRIPTION:Let’s get together to brainstorm\, create\, and discuss ways to design our community for a better future!\n\n\nCommunity Design Workshop & Discussion \nJoin us for a hands-on design workshop and engaging discussion on how to enhance our community! This in-person event will be held at 2912 Federal St. Come share your ideas\, collaborate with neighbors\, and help shape the future of our neighborhood. Let’s work together to create a more vibrant and inclusive community for all. Don’t miss this opportunity to make a difference!
URL:https://gridphilly.com/event/community-design-workshop-discussion/
LOCATION:2912 Federal St\, 2912 Federal Street\, Camden\, NJ\, 08105\, United States
ATTACH;FMTTYPE=image/jpeg:https://gridphilly.com/wp-content/uploads/2025/06/709cedc86271c1308dd7ba42ed50cfee.jpg
END:VEVENT
END:VCALENDAR