BEGIN:VCALENDAR
VERSION:2.0
PRODID:-//Grid Magazine - ECPv6.15.20//NONSGML v1.0//EN
CALSCALE:GREGORIAN
METHOD:PUBLISH
X-ORIGINAL-URL:https://gridphilly.com
X-WR-CALDESC:Events for Grid Magazine
REFRESH-INTERVAL;VALUE=DURATION:PT1H
X-Robots-Tag:noindex
X-PUBLISHED-TTL:PT1H
BEGIN:VTIMEZONE
TZID:America/New_York
BEGIN:DAYLIGHT
TZOFFSETFROM:-0500
TZOFFSETTO:-0400
TZNAME:EDT
DTSTART:20240310T070000
END:DAYLIGHT
BEGIN:STANDARD
TZOFFSETFROM:-0400
TZOFFSETTO:-0500
TZNAME:EST
DTSTART:20241103T060000
END:STANDARD
BEGIN:DAYLIGHT
TZOFFSETFROM:-0500
TZOFFSETTO:-0400
TZNAME:EDT
DTSTART:20250309T070000
END:DAYLIGHT
BEGIN:STANDARD
TZOFFSETFROM:-0400
TZOFFSETTO:-0500
TZNAME:EST
DTSTART:20251102T060000
END:STANDARD
BEGIN:DAYLIGHT
TZOFFSETFROM:-0500
TZOFFSETTO:-0400
TZNAME:EDT
DTSTART:20260308T070000
END:DAYLIGHT
BEGIN:STANDARD
TZOFFSETFROM:-0400
TZOFFSETTO:-0500
TZNAME:EST
DTSTART:20261101T060000
END:STANDARD
END:VTIMEZONE
BEGIN:VEVENT
DTSTART;TZID=America/New_York:20251019T140000
DTEND;TZID=America/New_York:20251019T160000
DTSTAMP:20260424T223814
CREATED:20251006T181802Z
LAST-MODIFIED:20251006T181802Z
UID:10022969-1760882400-1760889600@gridphilly.com
SUMMARY:Bonsai Workshop at Spellbound Brewing
DESCRIPTION:Beginner workshops are perfect for you to grab your friends\, grab a drink and come make tiny trees! We’re bringing the awesome art of bonsai out of the hedged in gardens and into the streets! Or at least into your favorite bars/breweries/pubs. Bonsai Bar is a night of fun you don’t want to miss. Learn the fundamental skills and techniques behind the art of bonsai while enjoying a night out with friends! Our teachers will introduce core concepts and guide your experience as you pot\, prune\, and design your very own bonsai tree! Our Guarantee: These tiny trees are so hardy we guarantee you can keep yours alive\, or we’ll replace it. \nThis workshop will be hosted at Spellbound Brewing. At Spellbound\, we like brewing beers that are representations of our favorite styles\, from great everyday classics to extreme recipes that push the boundaries like imperial stouts\, barley wines\, and barrel aged sours. \nUnder 21 policy: Please contact Spellbound Brewing for details regarding underage entry \nFor more about Bonsai Bar and what to expect at our classes\, visit our website at: https://bonsaibar.com/products/spellbound-brewing
URL:https://gridphilly.com/event/bonsai-workshop-at-spellbound-brewing/
LOCATION:Spellbound Brewing\, 10 Lippincott Ln #12\, Mount Holly\, N\, 08060\, United States
ATTACH;FMTTYPE=image/png:https://gridphilly.com/wp-content/uploads/2025/10/Coastline-Brewing-Company.png
ORGANIZER;CN="Bonsai Bar - New Jersey":MAILTO:info@bonsaibar.com
END:VEVENT
END:VCALENDAR