BEGIN:VCALENDAR
VERSION:2.0
PRODID:-//Grid Magazine - ECPv6.15.20//NONSGML v1.0//EN
CALSCALE:GREGORIAN
METHOD:PUBLISH
X-WR-CALNAME:Grid Magazine
X-ORIGINAL-URL:https://gridphilly.com
X-WR-CALDESC:Events for Grid Magazine
REFRESH-INTERVAL;VALUE=DURATION:PT1H
X-Robots-Tag:noindex
X-PUBLISHED-TTL:PT1H
BEGIN:VTIMEZONE
TZID:America/New_York
BEGIN:DAYLIGHT
TZOFFSETFROM:-0500
TZOFFSETTO:-0400
TZNAME:EDT
DTSTART:20250309T070000
END:DAYLIGHT
BEGIN:STANDARD
TZOFFSETFROM:-0400
TZOFFSETTO:-0500
TZNAME:EST
DTSTART:20251102T060000
END:STANDARD
BEGIN:DAYLIGHT
TZOFFSETFROM:-0500
TZOFFSETTO:-0400
TZNAME:EDT
DTSTART:20260308T070000
END:DAYLIGHT
BEGIN:STANDARD
TZOFFSETFROM:-0400
TZOFFSETTO:-0500
TZNAME:EST
DTSTART:20261101T060000
END:STANDARD
BEGIN:DAYLIGHT
TZOFFSETFROM:-0500
TZOFFSETTO:-0400
TZNAME:EDT
DTSTART:20270314T070000
END:DAYLIGHT
BEGIN:STANDARD
TZOFFSETFROM:-0400
TZOFFSETTO:-0500
TZNAME:EST
DTSTART:20271107T060000
END:STANDARD
END:VTIMEZONE
BEGIN:VEVENT
DTSTART;TZID=America/New_York:20260423T180000
DTEND;TZID=America/New_York:20260423T193000
DTSTAMP:20260420T230631
CREATED:20260418T183024Z
LAST-MODIFIED:20260418T183024Z
UID:10032379-1776967200-1776972600@gridphilly.com
SUMMARY:Saving Dark Skies
DESCRIPTION:Light pollution and how it impacts all of us.\n\n\nLight pollution is the excessive or misdirected use of artificial outdoor lighting that brightens the night sky\, obscures the stars\, creates glare\, spills light where it isn’t needed\, and disrupts ecosystems and human health. \nJoin us for an informative workshop exploring how light pollution impacts all species on Earth — including humans — and what simple\, affordable steps you can take to reduce it at home. Learn practical ways to bring natural darkness back to your property while still maintaining safe\, effective outdoor lighting that illuminates your space — not the sky above. \nPerfect for homeowners\, nature lovers\, gardeners\, and anyone interested in protecting our night skies. Register today and help bring the night back to the night!
URL:https://gridphilly.com/event/saving-dark-skies/
LOCATION:Wissahickon Valley Public Library Blue Bell Main Library\, 650 Skippack Pike\, Blue Bell\, PA\, 19422\, United States
ATTACH;FMTTYPE=image/jpeg:https://gridphilly.com/wp-content/uploads/2026/04/41eb98df0e3b58e4c2a8a65c91889232.jpg
END:VEVENT
END:VCALENDAR