BEGIN:VCALENDAR
VERSION:2.0
PRODID:-//Grid Magazine - ECPv6.15.20//NONSGML v1.0//EN
CALSCALE:GREGORIAN
METHOD:PUBLISH
X-WR-CALNAME:Grid Magazine
X-ORIGINAL-URL:https://gridphilly.com
X-WR-CALDESC:Events for Grid Magazine
REFRESH-INTERVAL;VALUE=DURATION:PT1H
X-Robots-Tag:noindex
X-PUBLISHED-TTL:PT1H
BEGIN:VTIMEZONE
TZID:America/New_York
BEGIN:DAYLIGHT
TZOFFSETFROM:-0500
TZOFFSETTO:-0400
TZNAME:EDT
DTSTART:20240310T070000
END:DAYLIGHT
BEGIN:STANDARD
TZOFFSETFROM:-0400
TZOFFSETTO:-0500
TZNAME:EST
DTSTART:20241103T060000
END:STANDARD
BEGIN:DAYLIGHT
TZOFFSETFROM:-0500
TZOFFSETTO:-0400
TZNAME:EDT
DTSTART:20250309T070000
END:DAYLIGHT
BEGIN:STANDARD
TZOFFSETFROM:-0400
TZOFFSETTO:-0500
TZNAME:EST
DTSTART:20251102T060000
END:STANDARD
BEGIN:DAYLIGHT
TZOFFSETFROM:-0500
TZOFFSETTO:-0400
TZNAME:EDT
DTSTART:20260308T070000
END:DAYLIGHT
BEGIN:STANDARD
TZOFFSETFROM:-0400
TZOFFSETTO:-0500
TZNAME:EST
DTSTART:20261101T060000
END:STANDARD
BEGIN:DAYLIGHT
TZOFFSETFROM:-0500
TZOFFSETTO:-0400
TZNAME:EDT
DTSTART:20270314T070000
END:DAYLIGHT
BEGIN:STANDARD
TZOFFSETFROM:-0400
TZOFFSETTO:-0500
TZNAME:EST
DTSTART:20271107T060000
END:STANDARD
END:VTIMEZONE
BEGIN:VEVENT
DTSTART;TZID=America/New_York:20260419T094500
DTEND;TZID=America/New_York:20260419T120000
DTSTAMP:20260422T042254
CREATED:20260418T181608Z
LAST-MODIFIED:20260418T181608Z
UID:10032355-1776591900-1776600000@gridphilly.com
SUMMARY:Moderate Hike with Black Everywhere
DESCRIPTION:Get ready to explore the great outdoors and soak in the beauty of nature on a moderate hike with Black Everywhere – it’s going to be epic!\n\n\nTake a Hike! …with Black Philadelphia! Join the crew for a hike at the Trexler Preserve in the Lehigh Valley! This is a game preserve to protect bison\, elk\, and white-tailed deer. We’ll be an hour from Philly and get to take in tremendous views of rolling hills AND observe BISON from a Blackfully respectful distance! \n*I am willing to drive 3 people with me if you’d like to carpool\, but you’ll need to meet me in the designated location by 8:15am. I am driving off at 8:15am\, so keep that in mind. Post in the comments if you’d like to carpool.* \n“Over eighteen miles of trails offer wildlife observation\, bird watching\, hiking\, walking\, horseback riding\, and mountain biking opportunities for enthusiasts at all levels.” We can likely make a day of it if you want to\, grabbing lunch or you can check out the Lehigh Valley Zoo.\n \nAgenda – Take Note!9:45 a.m. – Meet and Greet in the parking lot near the Trexler Environmental Center. Text for the exact meetup location upon arrival.10:00 a.m. – WE ARE LEAVING! Not kidding…don’t miss us!12:30 p.m. – End of hike (approximately) \nWe will take the Elk Watching Trail for ~3 miles and do a little more exploring (or eating if you’d like). It’ll be worth the drive! \nTHE HIKE IS CONTINGENT UPON THE WEATHER & MAY BE CANCELLED SHOULD THERE BE LIGHTNING. \nA Fun Challenge \nIf you’re looking for a fun challenge\, this is it! Nature will be all over you by the time we’re done. \nThis is a great event to talk and get to know other members. \nWARNING: Our hike is not a flat-terrain walk like the path along Kelly Drive or the Schuylkill River; this is a moderate hike. The trails variable (paved and crushed gravel) and are hilly\, and will take us into wooded areas\, so I wouldn’t recommend this for someone with serious joint problems. We will take a couple of breaks as we explore and look for wildlife. \nWear sturdy hiking boots/sneakers or regular sneakers with good traction. I don’t want to leave a fallen warrior behind\, but I will! I’m just sayin’… \nAlso suggested are a bottle of water and a bite to eat\, such as a granola bar\, fruit or trail mix. Bug spray\, sunscreen\, and a hat/scarf are also helpful but not usually necessary. You may just need a light jacket\, but be sure to layer\, as you will warm up. Bring your EpiPen or inhaler too (better safe than sorry). \nLeave the makeup and cologne at home\, because we are going to sweat. We might see a cute cyclist\, but I promise the chipmunks and deer will NOT be impressed. \nYou can bring your dog\, but please keep them leashed for group members who may be uncomfortable with them. \nThis is a very popular area that is frequented by people riding bikes\, walking dogs\, and occasionally riding horses. Just be aware of your surroundings. \nBy RSVP’ing\, you agree to indemnify and hold harmless the Black Philadelphia Group Organizers\, Co-Organizers\, Asst. Organizers\, Event Organizers\, and/or Host(s) for any injuries\, damages\, or liabilities incurred before\, during\, or after event.\nAbout Black Everywhere® \nBlack Everywhere is a global community bringing together Black professionals\, creatives\, couples and singles alike for brunches\, mixers\, hikes\, wellness\, and cultural outings. Whether you’re looking for connection\, networking\, or just fun\, you’ll find it here.
URL:https://gridphilly.com/event/moderate-hike-with-black-everywhere/
LOCATION:Trexler Nature Preserve Observation Deck Parking Lot\, 4701-4937 Orchard Rd\, Schnecksville\, PA\, 18078\, United States
ATTACH;FMTTYPE=image/jpeg:https://gridphilly.com/wp-content/uploads/2026/04/7066e014519541604f3d34b69875bdc3.jpg
END:VEVENT
BEGIN:VEVENT
DTSTART;TZID=America/New_York:20260404T100000
DTEND;TZID=America/New_York:20260404T130000
DTSTAMP:20260422T042254
CREATED:20260329T220657Z
LAST-MODIFIED:20260329T220859Z
UID:10030537-1775296800-1775307600@gridphilly.com
SUMMARY:Long Hike (Philadelphia\, PA) with Black Everywhere
DESCRIPTION:Join us for an exciting 7-mile hike through Philadelphia’s beautiful trails.\n\n\nPlease note: Registration is required at blackeverywhere.org to get the Zoom link. \n\nJoin us for a scenic 7-mile hike in Philadelphia.\nExperience the beauty of nature as we explore hilly and rocky trails.\nStart at the Paper Trail Bike Cafe and visit the Fingerspan Bridge.\nEnjoy a loop back to the starting point at the Valley Green Inn.\nMeet and greet at 9:45 a.m. before we set off at 10:00 a.m.\nThis hike is a great opportunity to connect with fellow members.\nPrepare for a moderate challenge with a decent pace required.\nBring sturdy shoes\, water\, snacks\, and any personal necessities.\nDogs are welcome but must be leashed at all times.\nBe mindful of your surroundings as the area is popular with other outdoor enthusiasts.
URL:https://gridphilly.com/event/long-hike-philadelphia-pa-with-black-everywhere/
LOCATION:PAPERtrail Bike Cafe\, 211 Lincoln Drive\, Philadelphia\, PA\, 19144\, United States
ATTACH;FMTTYPE=image/jpeg:https://gridphilly.com/wp-content/uploads/2026/03/76ec856f5be386513ba1dae50d4a9562.jpg
END:VEVENT
BEGIN:VEVENT
DTSTART;TZID=America/New_York:20260321T100000
DTEND;TZID=America/New_York:20260321T120000
DTSTAMP:20260422T042254
CREATED:20260314T212334Z
LAST-MODIFIED:20260314T212521Z
UID:10030218-1774087200-1774094400@gridphilly.com
SUMMARY:Moderate Hike with Black Everywhere(Philadelphia\, PA)
DESCRIPTION:Join us for a moderate hike along the Wissahickon Trail in Philadelphia\, where we’ll explore nature and connect with fellow members.
URL:https://gridphilly.com/event/moderate-hike-with-black-everywherephiladelphia-pa/
LOCATION:Valley Green Road\, Valley Green Road\, Philadelphia\, PA\, United States
ATTACH;FMTTYPE=image/jpeg:https://gridphilly.com/wp-content/uploads/2026/03/c631acf4c11fe4d8bbaca10d53a0bbaf.jpg
END:VEVENT
BEGIN:VEVENT
DTSTART;TZID=America/New_York:20260315T100000
DTEND;TZID=America/New_York:20260315T120000
DTSTAMP:20260422T042254
CREATED:20260309T021259Z
LAST-MODIFIED:20260309T021315Z
UID:10030070-1773568800-1773576000@gridphilly.com
SUMMARY:Moderate Hike with Black Everywhere (Philadelphia\, PA)
DESCRIPTION:Join us for a moderate hike through the beautiful trails of Fairmount Park in Philadelphia. We can’t wait to connect with nature.
URL:https://gridphilly.com/event/moderate-hike-with-black-everywhere-philadelphia-pa/
LOCATION:8480 Hagys Mill Rd\, 8480 Hagys Mill Road\, Philadelphia\, PA\, 19128\, United States
ATTACH;FMTTYPE=image/jpeg:https://gridphilly.com/wp-content/uploads/2026/03/f3607fe108294e8c4c568c85611c6095.jpg
END:VEVENT
BEGIN:VEVENT
DTSTART;TZID=America/New_York:20260308T100000
DTEND;TZID=America/New_York:20260308T120000
DTSTAMP:20260422T042254
CREATED:20260215T160720Z
LAST-MODIFIED:20260215T160948Z
UID:10029009-1772964000-1772971200@gridphilly.com
SUMMARY:Hike: Moderate (Philadelphia\, PA) with Black Everywhere
DESCRIPTION:Join us as we explore the beautiful Orange Trail on a moderate 3-mile hike in Philadelphia. Let’s connect with nature and each other.\n\n\nJoin us as we explore the beautiful Orange Trail on a moderate 3-mile hike in Philadelphia. Let’s connect with nature and each other while enjoying the vibrant fall scenery. \n\nJoin Us For A 3-Mile Moderate Hike In Philadelphia.\nExplore The Beautiful Orange Trail Starting At Paper Trail Bike Cafe.\nEnjoy A Nature-Filled Experience With Scenic Views And Fall Foliage.\nMeet And Connect With Fellow Members In A Fun Outdoor Setting.\nBe Prepared For Hilly Terrain And Rocky Sections Along The Trail.\nBring Your Dog Along\, But Please Keep Them Leashed.\nSuggested Items Include Water\, Snacks\, And Comfortable Clothing.\nExpect A Challenging Yet Rewarding Adventure In The Great Outdoors.\nStay Aware Of Your Surroundings As The Area Is Popular With Other Outdoor Enthusiasts.\n\n__ \nAbout Black Everywhere® \nBlack Everywhere is a global community bringing together Black professionals\, creatives\, couples and singles alike for brunches\, mixers\, hikes\, wellness\, and cultural outings. Whether you’re looking for connection\, networking\, or just fun\, you’ll find it here.
URL:https://gridphilly.com/event/hike-moderate-philadelphia-pa-with-black-everywhere/
LOCATION:211 Lincoln Dr\, 211 Lincoln Drive\, Philadelphia\, PA\, 19144\, United States
ATTACH;FMTTYPE=image/jpeg:https://gridphilly.com/wp-content/uploads/2026/02/73fef3013ed36715525e823bfbd2a2b4.jpg
END:VEVENT
BEGIN:VEVENT
DTSTART;TZID=America/New_York:20260221T100000
DTEND;TZID=America/New_York:20260221T120000
DTSTAMP:20260422T042254
CREATED:20260202T180815Z
LAST-MODIFIED:20260202T180815Z
UID:10028726-1771668000-1771675200@gridphilly.com
SUMMARY:Fun Challenge Hike (Philadelphia\, PA) with Black Everywhere
DESCRIPTION:Join us for a fun challenge hike. Let’s connect with nature and each other while enjoying the great outdoors together.\n\n\nJoin us for a fun challenge hike through the scenic trails of Philadelphia. Let’s connect with nature and each other while enjoying the great outdoors together. \n\nJoin the Black Everywhere community for a fun challenge hike in Philadelphia.\nExperience a scenic 4.5-mile trek starting from Bells Mills West Trailhead.\nMeet fellow hikers at 9:45 a.m. for a friendly meet and greet.\nHike kicks off at 10:00 a.m. sharp\, so be on time!\nEnjoy nature while engaging in great conversations with other participants.\nBe prepared for hilly terrain and wooded areas; this is not a flat walk.\nWear sturdy hiking boots or sneakers with good traction.\nBring water\, bug spray\, sunscreen\, and any necessary personal medications.\nLeave makeup and cologne at home; expect to sweat during the hike.\nStay aware of your surroundings and park in designated areas.\nEnjoy the camaraderie and the beauty of the outdoors with your fellow hikers.\n\n__ \nAbout Black Everywhere® \nBlack Everywhere is a global community bringing together Black professionals\, creatives\, couples and singles alike for brunches\, mixers\, hikes\, wellness\, and cultural outings. Whether you’re looking for connection\, networking\, or just fun\, you’ll find it here.
URL:https://gridphilly.com/event/fun-challenge-hike-philadelphia-pa-with-black-everywhere/
LOCATION:West Bells Mill Road\, West Bells Mill Road\, Philadelphia\, PA\, United States
ATTACH;FMTTYPE=image/jpeg:https://gridphilly.com/wp-content/uploads/2026/02/74526bcea6ff19f69016be42f296cc0a.jpg
END:VEVENT
BEGIN:VEVENT
DTSTART;TZID=America/New_York:20260208T100000
DTEND;TZID=America/New_York:20260208T120000
DTSTAMP:20260422T042254
CREATED:20260205T024242Z
LAST-MODIFIED:20260205T024447Z
UID:10028829-1770544800-1770552000@gridphilly.com
SUMMARY:Moderate Hike (Philadelphia\, PA)
DESCRIPTION:Join us for a moderate hike along the Wissahickon Trail as we explore the beauty of Fairmount Park together.\n\n\n\nJoin Black Philadelphia for a moderate hike along a different route of the Wissahickon Trail.\nEnjoy the beautiful scenery and features of Fairmount Park\, including the Statue of Tedyuscung and the Thomas Mill Bridge.\nMeet fellow hikers at 9:45 a.m. for a friendly meet and greet.\nBe prepared to leave promptly at 10:00 a.m. as the group will not wait.\nThe hike will cover approximately 3.5 miles and last about 90 minutes.\nThis event is perfect for those looking for a fun challenge in nature.\nExpect hilly terrain and wooded areas\, so sturdy footwear is recommended.\nBring water and a snack to keep your energy up during the hike.\nKeep in mind that this is not a leisurely stroll; maintain a decent pace to keep up with the group.\nDogs are welcome but should be leashed for the comfort of all participants.\nDress appropriately for the weather and be prepared for some sweating.\nThis is a popular area\, so stay aware of your surroundings while hiking.\nThe event is monthly but may be canceled due to inclement weather.\n\n—About Black Everywhere® \nBlack Everywhere is a global community bringing together Black professionals\, creatives\, couples and singles alike for brunches\, mixers\, hikes\, wellness\, and cultural outings. Whether you’re looking for connection\, networking\, or just fun\, you’ll find it here.
URL:https://gridphilly.com/event/moderate-hike-philadelphia-pa-2/
LOCATION:Philadelphia\, Valley Green Rd\, Philadelphia\, PA\, USA\, Valley Green Road\, Philadelphia\, PA\, 19118\, United States
ATTACH;FMTTYPE=image/jpeg:https://gridphilly.com/wp-content/uploads/2026/02/ada1d97b60cdcde4829ec5bcc248a118.jpg
END:VEVENT
BEGIN:VEVENT
DTSTART;TZID=America/New_York:20251227T100000
DTEND;TZID=America/New_York:20251227T130000
DTSTAMP:20260422T042254
CREATED:20251223T213038Z
LAST-MODIFIED:20251223T213038Z
UID:10027716-1766829600-1766840400@gridphilly.com
SUMMARY:Moderate Hike (Philadelphia\, PA)
DESCRIPTION:Join us for a moderate hike in Philadelphia as we explore the beautiful Orange Trail and enjoy nature together.
URL:https://gridphilly.com/event/moderate-hike-philadelphia-pa/
LOCATION:PAPERtrail Bike Cafe\, 211 Lincoln Drive\, Philadelphia\, PA\, 19144\, United States
ATTACH;FMTTYPE=image/jpeg:https://gridphilly.com/wp-content/uploads/2025/12/3685558b72763c2a37e89f4233487066.jpg
END:VEVENT
END:VCALENDAR