BEGIN:VCALENDAR
VERSION:2.0
PRODID:-//Grid Magazine - ECPv6.15.20//NONSGML v1.0//EN
CALSCALE:GREGORIAN
METHOD:PUBLISH
X-WR-CALNAME:Grid Magazine
X-ORIGINAL-URL:https://gridphilly.com
X-WR-CALDESC:Events for Grid Magazine
REFRESH-INTERVAL;VALUE=DURATION:PT1H
X-Robots-Tag:noindex
X-PUBLISHED-TTL:PT1H
BEGIN:VTIMEZONE
TZID:America/New_York
BEGIN:DAYLIGHT
TZOFFSETFROM:-0500
TZOFFSETTO:-0400
TZNAME:EDT
DTSTART:20240310T070000
END:DAYLIGHT
BEGIN:STANDARD
TZOFFSETFROM:-0400
TZOFFSETTO:-0500
TZNAME:EST
DTSTART:20241103T060000
END:STANDARD
BEGIN:DAYLIGHT
TZOFFSETFROM:-0500
TZOFFSETTO:-0400
TZNAME:EDT
DTSTART:20250309T070000
END:DAYLIGHT
BEGIN:STANDARD
TZOFFSETFROM:-0400
TZOFFSETTO:-0500
TZNAME:EST
DTSTART:20251102T060000
END:STANDARD
BEGIN:DAYLIGHT
TZOFFSETFROM:-0500
TZOFFSETTO:-0400
TZNAME:EDT
DTSTART:20260308T070000
END:DAYLIGHT
BEGIN:STANDARD
TZOFFSETFROM:-0400
TZOFFSETTO:-0500
TZNAME:EST
DTSTART:20261101T060000
END:STANDARD
END:VTIMEZONE
BEGIN:VEVENT
DTSTART;TZID=America/New_York:20251218T163000
DTEND;TZID=America/New_York:20251218T193000
DTSTAMP:20260419T220945
CREATED:20251215T205645Z
LAST-MODIFIED:20251215T205645Z
UID:10027386-1766075400-1766086200@gridphilly.com
SUMMARY:Counter Cartographies: Mapping Spaces of the Unhoused in Philadelphia
DESCRIPTION:Counter Cartographies is a community art project in collaboration with unhoused shelter residents served by Bethesda Project.\n\n\nCounter Cartographies is a community art project in collaboration with unhoused shelter residents served by Bethesda Project. The project spatially maps residents’ lived relationships with the city of Philadelphia – its paths\, barriers\, and refuges – and transforms those maps into collective art. The project’s artmaking draws on ethnographic mapping practices to challenge how power shapes spaces and their representations\, using maps grounded in community experience and co-creation to collaboratively create art. \nThis free event will take place at the Rotunda from 4:30 pm to 7:30 pm. Light refreshments from Renata’s Kitchen will be provided. \nThis project was conceptualized and initiated by volunteer contributor Nayantara Ghosh\, who continues to participate in a volunteer capacity. Collaborators include Bethesda Project residents\, staff\, and volunteers\, and Design Fellows through PennPraxis and Civic House (University of Pennsylvania). Support for this project has been provided by The Sachs Program for Arts Innovation.
URL:https://gridphilly.com/event/counter-cartographies-mapping-spaces-of-the-unhoused-in-philadelphia/
LOCATION:The Rotunda\, 4014 Walnut Street\, Philadelphia\, PA\, 19104\, United States
ATTACH;FMTTYPE=image/jpeg:https://gridphilly.com/wp-content/uploads/2025/12/79fa21b9593d740a89fac32ac31bfcf1.jpg
END:VEVENT
END:VCALENDAR