BEGIN:VCALENDAR
VERSION:2.0
PRODID:-//Grid Magazine - ECPv6.15.20//NONSGML v1.0//EN
CALSCALE:GREGORIAN
METHOD:PUBLISH
X-WR-CALNAME:Grid Magazine
X-ORIGINAL-URL:https://gridphilly.com
X-WR-CALDESC:Events for Grid Magazine
REFRESH-INTERVAL;VALUE=DURATION:PT1H
X-Robots-Tag:noindex
X-PUBLISHED-TTL:PT1H
BEGIN:VTIMEZONE
TZID:America/New_York
BEGIN:DAYLIGHT
TZOFFSETFROM:-0500
TZOFFSETTO:-0400
TZNAME:EDT
DTSTART:20240310T070000
END:DAYLIGHT
BEGIN:STANDARD
TZOFFSETFROM:-0400
TZOFFSETTO:-0500
TZNAME:EST
DTSTART:20241103T060000
END:STANDARD
BEGIN:DAYLIGHT
TZOFFSETFROM:-0500
TZOFFSETTO:-0400
TZNAME:EDT
DTSTART:20250309T070000
END:DAYLIGHT
BEGIN:STANDARD
TZOFFSETFROM:-0400
TZOFFSETTO:-0500
TZNAME:EST
DTSTART:20251102T060000
END:STANDARD
BEGIN:DAYLIGHT
TZOFFSETFROM:-0500
TZOFFSETTO:-0400
TZNAME:EDT
DTSTART:20260308T070000
END:DAYLIGHT
BEGIN:STANDARD
TZOFFSETFROM:-0400
TZOFFSETTO:-0500
TZNAME:EST
DTSTART:20261101T060000
END:STANDARD
BEGIN:DAYLIGHT
TZOFFSETFROM:-0500
TZOFFSETTO:-0400
TZNAME:EDT
DTSTART:20270314T070000
END:DAYLIGHT
BEGIN:STANDARD
TZOFFSETFROM:-0400
TZOFFSETTO:-0500
TZNAME:EST
DTSTART:20271107T060000
END:STANDARD
END:VTIMEZONE
BEGIN:VEVENT
DTSTART;TZID=America/New_York:20260205T180000
DTEND;TZID=America/New_York:20260205T190000
DTSTAMP:20260419T230225
CREATED:20260126T161913Z
LAST-MODIFIED:20260126T162020Z
UID:10028624-1770314400-1770318000@gridphilly.com
SUMMARY:Art on the Parkway 2026: Virtual Info Session
DESCRIPTION:Thinking of submitting a proposal to the Association for Public Art’s 2026 Art on the Parkway open call?\n\n\nLearn more on February 5th at 6pm for a virtual information session where aPA staff will go over the application process. Webinar attendees can submit specific questions using the “Chat” feature during the webinar to be answered by aPA staff. \nMore info can be found on our website: https://www.associationforpublicart.org/program/open-call-art-on-the-parkway \nArt on the Parkway is organized by the Association for Public Art (aPA)\, in partnership with the Parkway Council and Philadelphia Parks & Recreation (PPR). \n \nArtworks pictured: Bar None (2025) by Nicolo Gentile\, and The Weight of Our Living (2024) by Rachel Hsu
URL:https://gridphilly.com/event/art-on-the-parkway-2026-virtual-info-session/
ATTACH;FMTTYPE=image/jpeg:https://gridphilly.com/wp-content/uploads/2026/01/5174244ad3246f9d7a0ffbff41d238d9.jpg
END:VEVENT
BEGIN:VEVENT
DTSTART;TZID=America/New_York:20251004T140000
DTEND;TZID=America/New_York:20251004T160000
DTSTAMP:20260419T230225
CREATED:20250929T140405Z
LAST-MODIFIED:20250929T140405Z
UID:10022432-1759586400-1759593600@gridphilly.com
SUMMARY:Assemblage: Exploring Social Change through Collage
DESCRIPTION:Make your own collage protest poster inspired by Nicolo Gentile’s public artwork Bar None at this Collage Philadelphia-facilitated workshop!\n\n\nThe Association for Public Art (aPA) in partnership with the Free Library of Philadelphia’s Exhibitions presents a hands-on workshop that explores the collage medium as a response and in dialogue with artist Nicolo Gentile’s public artwork Bar None\, commissioned for aPA’s 2025 Art on the Parkway program and currently on view at Maja Park at 22nd Street and the Benjamin Franklin Parkway through October 26\, 2025. Facilitated by Collage Philadelphia\, participants will delve into the art of cutting and reassembling printed historic images and newspaper headlines. By the end of the workshop\, participants will have built their own narratives around public spaces as sites of civic gathering\, drawing inspiration from Bar None’s homage to the layered legacy of protest and public assembly that defines the iconic Benjamin Franklin Parkway in Philadelphia. This workshop will take place over two hours. \nMaximum capacity is 30 participants\, so please register in advance.
URL:https://gridphilly.com/event/assemblage-exploring-social-change-through-collage/
LOCATION:Parkway Central Library\, 1901 Vine Street\, Philadelphia\, PA\, 19103\, United States
ATTACH;FMTTYPE=image/jpeg:https://gridphilly.com/wp-content/uploads/2025/09/56352fbe51a025a822cb08f0a760b948.jpg
END:VEVENT
END:VCALENDAR