BEGIN:VCALENDAR
VERSION:2.0
PRODID:-//Grid Magazine - ECPv6.15.20//NONSGML v1.0//EN
CALSCALE:GREGORIAN
METHOD:PUBLISH
X-ORIGINAL-URL:https://gridphilly.com
X-WR-CALDESC:Events for Grid Magazine
REFRESH-INTERVAL;VALUE=DURATION:PT1H
X-Robots-Tag:noindex
X-PUBLISHED-TTL:PT1H
BEGIN:VTIMEZONE
TZID:America/New_York
BEGIN:DAYLIGHT
TZOFFSETFROM:-0500
TZOFFSETTO:-0400
TZNAME:EDT
DTSTART:20240310T070000
END:DAYLIGHT
BEGIN:STANDARD
TZOFFSETFROM:-0400
TZOFFSETTO:-0500
TZNAME:EST
DTSTART:20241103T060000
END:STANDARD
BEGIN:DAYLIGHT
TZOFFSETFROM:-0500
TZOFFSETTO:-0400
TZNAME:EDT
DTSTART:20250309T070000
END:DAYLIGHT
BEGIN:STANDARD
TZOFFSETFROM:-0400
TZOFFSETTO:-0500
TZNAME:EST
DTSTART:20251102T060000
END:STANDARD
BEGIN:DAYLIGHT
TZOFFSETFROM:-0500
TZOFFSETTO:-0400
TZNAME:EDT
DTSTART:20260308T070000
END:DAYLIGHT
BEGIN:STANDARD
TZOFFSETFROM:-0400
TZOFFSETTO:-0500
TZNAME:EST
DTSTART:20261101T060000
END:STANDARD
BEGIN:DAYLIGHT
TZOFFSETFROM:-0500
TZOFFSETTO:-0400
TZNAME:EDT
DTSTART:20270314T070000
END:DAYLIGHT
BEGIN:STANDARD
TZOFFSETFROM:-0400
TZOFFSETTO:-0500
TZNAME:EST
DTSTART:20271107T060000
END:STANDARD
END:VTIMEZONE
BEGIN:VEVENT
DTSTART;TZID=America/New_York:20260222T103000
DTEND;TZID=America/New_York:20260222T120000
DTSTAMP:20260421T115920
CREATED:20260215T184059Z
LAST-MODIFIED:20260215T184422Z
UID:10029016-1771756200-1771761600@gridphilly.com
SUMMARY:Winter Sound Journey: Gong Bath Meditation & Wine at Grace Winery
DESCRIPTION:Relax into a restorative gong bath that soothes your nervous system\, then enjoy a complimentary glass of wine at Grace Winery.\n\n\n🌀 Winter Sound Journey at Grace Winery \nSunday\, February 22 | 10:30 AM \nJoin us for a deeply restorative gong bath meditation held in the serene countryside setting of Grace Winery. This morning sound journey is designed to help you gently reset your nervous system\, release accumulated tension\, and enter the day with grounded clarity and ease. \nA gong bath is a sound-based meditation that uses therapeutic vibration to guide you into a state of deep calm and inner alignment. As you rest comfortably\, waves of sound move through the body\, inviting the mind to quiet and the nervous system to soften. \nDuring this session\, I’ll be playing two exceptional Paiste gongs: \n🌍 Planet Earth Gong — grounding\, stabilizing\, nurturing \n🌟 36″ Symphonic Brilliance Gong — luminous\, expansive\, deeply cleansing \nTogether\, they create a rich\, layered soundscape that is both earthy and cosmic—supporting emotional release\, physical relaxation\, and spiritual renewal while helping you feel simultaneously grounded and uplifted. \n🌿 Some of the benefits you may experience include: \nNervous system regulation and stress relief \nImproved sleep and mental clarity \nEmotional release and energetic balance \nChakra and subtle energy field alignment \nA deep sense of peace\, presence\, and reconnection \nSupport for meditation\, insight\, and inner awareness \n🗓 Date: Sunday\, February 22 \n🕚 Time: 10:30 AM (Doors open at 10:15 AM) \n📍 Location: The Inn at Grace Winery\, Glen Mills\, PA \n✨ Please bring whatever helps you feel comfortable and supported—such as a yoga mat\, blanket\, pillow\, and eye covering. \nAfter the session\, enjoy a complimentary glass of wine\, and feel free to stay for lunch or wine tasting when the tasting room opens at noon. You’re also welcome to wander the grounds\, greet the winery animals\, and soak in the beauty of the land. Bring a friend and make a day of it. \n🎟 Space is limited to preserve an intimate and supportive atmosphere. I would be honored to hold space for you. \nWith warmth and sound\, \nArwehn \n⚠️ A Gentle Note: \nGong baths are not recommended for individuals with pacemakers\, sound-induced epilepsy\, or during the first trimester of pregnancy. If you have a serious health condition or known sound sensitivity\, please consult your healthcare provider prior to attending.
URL:https://gridphilly.com/event/winter-sound-journey-gong-bath-meditation-wine-at-grace-winery/
LOCATION:The Inn at Grace Winery\, 50 Sweetwater Road\, Thornbury Township\, PA\, 19342\, United States
ATTACH;FMTTYPE=image/jpeg:https://gridphilly.com/wp-content/uploads/2026/02/6972eb09dedf9fdba82ab124dd191e44.jpg
END:VEVENT
BEGIN:VEVENT
DTSTART;TZID=America/New_York:20251217T183000
DTEND;TZID=America/New_York:20251217T193000
DTSTAMP:20260421T115920
CREATED:20251124T140219Z
LAST-MODIFIED:20251124T192326Z
UID:10025115-1765996200-1765999800@gridphilly.com
SUMMARY:Gong Meditation at Magical Chesterdale Farm
DESCRIPTION:Bask in the holiday stillness. One hour of Paiste gongs in the cozy barn at Chesterdale Farm — rest\, renewal\, and gentle magic.\n\n\nTake a quiet pause in the heart of the holiday season and let the soothing sound of Paiste gongs carry you into deep rest.Join us on Wednesday\, December 17 at 6:30 PM at magical Chesterdale Farm in West Chester for an evening of sound\, stillness\, and renewal. \nAs the gongs vibrate through body and space\, the mind softens\, the breath deepens\, and the nervous system unwinds. You are gently invited to relax and receive — nothing to do\, nowhere to go\, just the sound and frequency unfolding around you. \nThe cozy barn glows with warmth and the quiet beauty of winter. It’s a moment to exhale\, to reconnect\, and to remember the simple peace within. \nPlease bring a yoga mat\, blanket\, and anything that helps you feel comfortable lying down.Arrive 10–15 minutes early to settle in before the gongs begin. \nLet this hour be your gift to yourself — a return to calm\, balance\, and the quiet magic of the season. \nWith warmth and sound\, \nArwehn \n \n🌍 Planet Earth Gong – grounding\, stabilizing\, harmonizing🌟 Symphonic Brilliance Gong – luminous\, expansive\, transformationalTogether\, they create a sound field that is both earthy and cosmic\, helping you feel grounded and uplifted at the same time. \n \n🌿 Some of the benefits you may experience:• Nervous system reset and stress release• Better sleep and improved focus• Emotional release and inner clarity• Chakra and energy field alignment• A deep sense of peace and reconnection• Support for insight\, meditation\, and spiritual awareness \n \n⚠️ A Gentle Note:Gong baths are not recommended for those with pacemakers\, sound-induced epilepsy\, or during the first trimester of pregnancy. If you’re managing a serious health condition or sound sensitivity\, please consult your healthcare provider beforehand.
URL:https://gridphilly.com/event/gong-meditation-at-magical-chesterdale-farm/
LOCATION:1046 Lenape Rd\, 1046 Lenape Road\, West Chester\, PA\, 19382\, United States
ATTACH;FMTTYPE=image/jpeg:https://gridphilly.com/wp-content/uploads/2025/11/375c9b46b514a6b987d34251519950e8.jpg
END:VEVENT
END:VCALENDAR