BEGIN:VCALENDAR
VERSION:2.0
PRODID:-//Grid Magazine - ECPv6.15.20//NONSGML v1.0//EN
CALSCALE:GREGORIAN
METHOD:PUBLISH
X-ORIGINAL-URL:https://gridphilly.com
X-WR-CALDESC:Events for Grid Magazine
REFRESH-INTERVAL;VALUE=DURATION:PT1H
X-Robots-Tag:noindex
X-PUBLISHED-TTL:PT1H
BEGIN:VTIMEZONE
TZID:America/New_York
BEGIN:DAYLIGHT
TZOFFSETFROM:-0500
TZOFFSETTO:-0400
TZNAME:EDT
DTSTART:20250309T070000
END:DAYLIGHT
BEGIN:STANDARD
TZOFFSETFROM:-0400
TZOFFSETTO:-0500
TZNAME:EST
DTSTART:20251102T060000
END:STANDARD
BEGIN:DAYLIGHT
TZOFFSETFROM:-0500
TZOFFSETTO:-0400
TZNAME:EDT
DTSTART:20260308T070000
END:DAYLIGHT
BEGIN:STANDARD
TZOFFSETFROM:-0400
TZOFFSETTO:-0500
TZNAME:EST
DTSTART:20261101T060000
END:STANDARD
BEGIN:DAYLIGHT
TZOFFSETFROM:-0500
TZOFFSETTO:-0400
TZNAME:EDT
DTSTART:20270314T070000
END:DAYLIGHT
BEGIN:STANDARD
TZOFFSETFROM:-0400
TZOFFSETTO:-0500
TZNAME:EST
DTSTART:20271107T060000
END:STANDARD
END:VTIMEZONE
BEGIN:VEVENT
DTSTART;TZID=America/New_York:20260421T183000
DTEND;TZID=America/New_York:20260421T200000
DTSTAMP:20260421T050743
CREATED:20260329T232301Z
LAST-MODIFIED:20260418T182535Z
UID:10030615-1776796200-1776801600@gridphilly.com
SUMMARY:SETTING OUR STORIES FREE  / 4-Part Storytelling Master Class
DESCRIPTION:A 4-Part Storytelling Master Class: Over four intensive sessions\, join award-winning author Susan Darraj setting your stories free!\n\n\nYour history is a masterpiece waiting to be written. Learn the craft to finally set your stories free. \nSchedule: Four Consecutive Tuesdays (6:30 PM – 8:00 PM) \nUPDATED \n• Week 1 (April 21): The Foundation * Focus: Brainstorming family stories; the “Scene” as the core unit. \n• Week 2 (April 28): The Architecture * Focus: Outlining\, character\, and dialogue. \n• Week 3 (May 5): The Texture * Focus: Detail\, setting\, and theme/ how to finish a first draft. \n• Week 4 (May 12): The Release * Focus: Revision and reshaping. \nWhat’s Included in the Master Class: \n\nFour 90 Minutes intensive workshops.\nGuided prompts to spark new work.\nProfessional feedback in a supportive creative circle.\nA final “sharing” session to celebrate the growth of each participant’s story.
URL:https://gridphilly.com/event/setting-our-stories-free-4-part-storytelling-master-class/
LOCATION:Al-Bustan Seeds of Culture\, 310 Master Street\, Philadelphia\, PA\, 19122\, United States
ATTACH;FMTTYPE=image/jpeg:https://gridphilly.com/wp-content/uploads/2026/03/357ebfbe8b6eacb3c56719378974c51b.jpg
END:VEVENT
END:VCALENDAR