BEGIN:VCALENDAR
VERSION:2.0
PRODID:-//Grid Magazine - ECPv6.15.20//NONSGML v1.0//EN
CALSCALE:GREGORIAN
METHOD:PUBLISH
X-ORIGINAL-URL:https://gridphilly.com
X-WR-CALDESC:Events for Grid Magazine
REFRESH-INTERVAL;VALUE=DURATION:PT1H
X-Robots-Tag:noindex
X-PUBLISHED-TTL:PT1H
BEGIN:VTIMEZONE
TZID:America/New_York
BEGIN:DAYLIGHT
TZOFFSETFROM:-0500
TZOFFSETTO:-0400
TZNAME:EDT
DTSTART:20250309T070000
END:DAYLIGHT
BEGIN:STANDARD
TZOFFSETFROM:-0400
TZOFFSETTO:-0500
TZNAME:EST
DTSTART:20251102T060000
END:STANDARD
BEGIN:DAYLIGHT
TZOFFSETFROM:-0500
TZOFFSETTO:-0400
TZNAME:EDT
DTSTART:20260308T070000
END:DAYLIGHT
BEGIN:STANDARD
TZOFFSETFROM:-0400
TZOFFSETTO:-0500
TZNAME:EST
DTSTART:20261101T060000
END:STANDARD
BEGIN:DAYLIGHT
TZOFFSETFROM:-0500
TZOFFSETTO:-0400
TZNAME:EDT
DTSTART:20270314T070000
END:DAYLIGHT
BEGIN:STANDARD
TZOFFSETFROM:-0400
TZOFFSETTO:-0500
TZNAME:EST
DTSTART:20271107T060000
END:STANDARD
END:VTIMEZONE
BEGIN:VEVENT
DTSTART;TZID=America/New_York:20260503T190000
DTEND;TZID=America/New_York:20260503T210000
DTSTAMP:20260419T192736
CREATED:20260413T005106Z
LAST-MODIFIED:20260413T005106Z
UID:10032200-1777834800-1777842000@gridphilly.com
SUMMARY:Beer and Jazz Pairing Experience
DESCRIPTION:Join Bill Covaleski\, co-founder of Victory Brewing Co\, for a remarkable seated and guided beer tasting experience that explores an uncommon dimension of beer pairings in collaboration with The New Philly Sound\, a jazz quartet\, and local drinks author Marnie Old.\nAs the evening’s beer guide\, Bill will select and pour a different local craft beer with each performance on the set list\, where each beer is chosen to pair well with the mood and complexity of the music. Sourcing locally to provide you with freshness and product integrity\, Bill will serve traditional beer styles that demonstrate brewing history as well as innovative brews that nudge your experience into exciting new realms. As emcee\, Marnie will provide fascinating context on how modern neuroscience is illuminating unexpected connections between senses as distinct as taste\, smell and sound.\nNOTE: Beer Pairing Experience tickets include main floor auditorium seating and a flight of 6 beers. Concert Only tickets offer balcony seating with no beverage accompaniment.\n~
URL:https://gridphilly.com/event/beer-and-jazz-pairing-experience/
CATEGORIES:Arts & Culture
ATTACH;FMTTYPE=image/png:https://gridphilly.com/wp-content/uploads/2026/04/dF1l6x6Q-1.png
END:VEVENT
END:VCALENDAR