BEGIN:VCALENDAR
VERSION:2.0
PRODID:-//Grid Magazine - ECPv6.15.20//NONSGML v1.0//EN
CALSCALE:GREGORIAN
METHOD:PUBLISH
X-WR-CALNAME:Grid Magazine
X-ORIGINAL-URL:https://gridphilly.com
X-WR-CALDESC:Events for Grid Magazine
REFRESH-INTERVAL;VALUE=DURATION:PT1H
X-Robots-Tag:noindex
X-PUBLISHED-TTL:PT1H
BEGIN:VTIMEZONE
TZID:America/New_York
BEGIN:DAYLIGHT
TZOFFSETFROM:-0500
TZOFFSETTO:-0400
TZNAME:EDT
DTSTART:20220313T070000
END:DAYLIGHT
BEGIN:STANDARD
TZOFFSETFROM:-0400
TZOFFSETTO:-0500
TZNAME:EST
DTSTART:20221106T060000
END:STANDARD
BEGIN:DAYLIGHT
TZOFFSETFROM:-0500
TZOFFSETTO:-0400
TZNAME:EDT
DTSTART:20230312T070000
END:DAYLIGHT
BEGIN:STANDARD
TZOFFSETFROM:-0400
TZOFFSETTO:-0500
TZNAME:EST
DTSTART:20231105T060000
END:STANDARD
BEGIN:DAYLIGHT
TZOFFSETFROM:-0500
TZOFFSETTO:-0400
TZNAME:EDT
DTSTART:20240310T070000
END:DAYLIGHT
BEGIN:STANDARD
TZOFFSETFROM:-0400
TZOFFSETTO:-0500
TZNAME:EST
DTSTART:20241103T060000
END:STANDARD
END:VTIMEZONE
BEGIN:VTIMEZONE
TZID:America/New_York
BEGIN:DAYLIGHT
TZOFFSETFROM:-0500
TZOFFSETTO:-0400
TZNAME:EDT
DTSTART:20220313T070000
END:DAYLIGHT
BEGIN:STANDARD
TZOFFSETFROM:-0400
TZOFFSETTO:-0500
TZNAME:EST
DTSTART:20221106T060000
END:STANDARD
BEGIN:DAYLIGHT
TZOFFSETFROM:-0500
TZOFFSETTO:-0400
TZNAME:EDT
DTSTART:20230312T070000
END:DAYLIGHT
BEGIN:STANDARD
TZOFFSETFROM:-0400
TZOFFSETTO:-0500
TZNAME:EST
DTSTART:20231105T060000
END:STANDARD
BEGIN:DAYLIGHT
TZOFFSETFROM:-0500
TZOFFSETTO:-0400
TZNAME:EDT
DTSTART:20240310T070000
END:DAYLIGHT
BEGIN:STANDARD
TZOFFSETFROM:-0400
TZOFFSETTO:-0500
TZNAME:EST
DTSTART:20241103T060000
END:STANDARD
END:VTIMEZONE
BEGIN:VEVENT
DTSTART;TZID=America/New_York:20231111T093000
DTEND;TZID=America/New_York:20231111T123000
DTSTAMP:20260419T164356
CREATED:20231103T174626Z
LAST-MODIFIED:20231103T174626Z
UID:10008129-1699695000-1699705800@gridphilly.com
SUMMARY:Sankofa Community Farm Volunteer Day
DESCRIPTION:Volunteers will work alongside Farm staff to support seasonal plantings\, harvesting\, weeding\, invasive species removal\, and orchard support. \nVolunteers will meet at the Sankofa Community Farm at 9:30 AM and be separated into groups and provided with instructions and safety protocols for the day. Out of respect and safety for our staff and others\, please arrive on time. \nPLEASE NOTE: Each adult must register individually in order to complete the waiver. Parents/guardians must complete registration for individuals 18 and under. \nRegistration full but would like to still participate? Please contact Kimani Keaton at kimani@bartramsgarden to be added to our waitlist. \nPlease also email Kimani immediately if you plan on cancelling your attendance\, so that we may make room for those on our waitlist. \nThank you! \nHealth reminders: We are in accordance with Pennsylvania and the City of Philadelphia’s current COVID-19 response levels. Please follow the link to stay up-to-date on our city’s protocols. If you are sick or experiencing COVID-19 symptoms\, please do not volunteer.
URL:https://gridphilly.com/event/sankofa-community-farm-volunteer-day-11/
LOCATION:Sankofa Community Farm at Bartram’s Garden\, 5400 Lindbergh Blvd\, Philadelphia\, PA\, 19143
CATEGORIES:Volunteer
END:VEVENT
BEGIN:VEVENT
DTSTART;TZID=America/New_York:20231111T090000
DTEND;TZID=America/New_York:20231111T120000
DTSTAMP:20260419T164356
CREATED:20231103T182631Z
LAST-MODIFIED:20231103T182631Z
UID:10008152-1699693200-1699704000@gridphilly.com
SUMMARY:Love Your Park in the Wissahickon
DESCRIPTION:Meeting at the Historic Rittenhouse Town \nLove Your Park is an annual week-long celebration of the amazing parks we have in Philadelphia! On this Saturday\, we’ll be performing a series of tasks in the Historic Rittenhouse Town area\, including litter clean-up\, trail work\, and improvements to stormwater infrastructure. \nNo experience is needed. We provide gloves\, tools and instruction – you just need to show up! Volunteer service Days are excellent\, easy ways to help us take care of Wissahickon Valley Park. Be sure to wear sturdy footwear and long pants\, and bring a water bottle with you. Detailed information and the specific meeting location will be sent by email the day before the event. For more information contact Amelia Marren at marren@fow.org
URL:https://gridphilly.com/event/love-your-park-in-the-wissahickon/
LOCATION:Historic Rittenhouse Town\, 6049 Wissahickon Ave\, Philadelphia\, PA\, United States
CATEGORIES:---On the Trail,Clean-ups,Outdoor Event,Volunteer,Volunteer Opportunities,Volunteer Service,Volunteering
ATTACH;FMTTYPE=image/webp:https://gridphilly.com/wp-content/uploads/2023/11/LoveYourWissahickon.webp
GEO:40.031904;-75.189062
X-APPLE-STRUCTURED-LOCATION;VALUE=URI;X-ADDRESS=Historic Rittenhouse Town 6049 Wissahickon Ave Philadelphia PA United States;X-APPLE-RADIUS=500;X-TITLE=6049 Wissahickon Ave:geo:-75.189062,40.031904
END:VEVENT
BEGIN:VEVENT
DTSTART;VALUE=DATE:20231110
DTEND;VALUE=DATE:20231113
DTSTAMP:20260419T164356
CREATED:20231027T203538Z
LAST-MODIFIED:20231027T203538Z
UID:10007997-1699574400-1699833599@gridphilly.com
SUMMARY:Love Your Park Fall Weekend 2023
DESCRIPTION:This fall\, show your favorite neighborhood park some love! In partnership with Philadelphia Parks & Recreation and Fairmount Park Conservancy\, Park Friends Groups across the city will be hosting volunteer events the weekend of November 10th – 12th for Love Your Park Fall Weekend 2023. Over 90 Philly parks need help planting trees and flower bulbs\, collecting leaves for compost\, and cleaning up after a busy summer season.
URL:https://gridphilly.com/event/love-your-park-fall-weekend-2023/
LOCATION:Philadelphia Parks
CATEGORIES:Clean-ups,Community Events,Events,Family,Family and Kids,Free,Gardening,Neighborhood,Outdoor Event,Stewardship,Volunteer,Volunteer Opportunities,Volunteering
ATTACH;FMTTYPE=image/jpeg:https://gridphilly.com/wp-content/uploads/2023/10/LYPF23_square_weekend.jpg
END:VEVENT
BEGIN:VEVENT
DTSTART;TZID=America/New_York:20231028T093000
DTEND;TZID=America/New_York:20231028T123000
DTSTAMP:20260419T164356
CREATED:20231005T191012Z
LAST-MODIFIED:20231005T191012Z
UID:10007371-1698485400-1698496200@gridphilly.com
SUMMARY:Sankofa Community Farm Volunteer Day
DESCRIPTION:Volunteers will work alongside Farm staff to support seasonal plantings\, harvesting\, weeding\, invasive species removal\, and orchard support. \nVolunteers will meet at the Sankofa Community Farm at 9:30 AM and be separated into groups and provided with instructions and safety protocols for the day. Out of respect and safety for our staff and others\, please arrive on time. \nPLEASE NOTE: Each adult must register individually in order to complete the waiver. Parents/guardians must complete registration for individuals 18 and under. \nRegistration full but would like to still participate? Please contact Kimani Keaton at kimani@bartramsgarden to be added to our waitlist. \nPlease also email Kimani immediately if you plan on cancelling your attendance\, so that we may make room for those on our waitlist. \nThank you! \nHealth reminders: We are in accordance with Pennsylvania and the City of Philadelphia’s current COVID-19 response levels. Please follow the link to stay up-to-date on our city’s protocols. If you are sick or experiencing COVID-19 symptoms\, please do not volunteer.
URL:https://gridphilly.com/event/sankofa-community-farm-volunteer-day-10/
LOCATION:Sankofa Community Farm at Bartram’s Garden\, 5400 Lindbergh Blvd\, Philadelphia\, PA\, 19143
CATEGORIES:Volunteer
END:VEVENT
BEGIN:VEVENT
DTSTART;TZID=America/New_York:20231021T093000
DTEND;TZID=America/New_York:20231021T123000
DTSTAMP:20260419T164356
CREATED:20231005T190418Z
LAST-MODIFIED:20231005T190418Z
UID:10007368-1697880600-1697891400@gridphilly.com
SUMMARY:Nursery Volunteer Day
DESCRIPTION:Volunteers will be weeding\, organizing pots\, and potting up plants in the greenhouse complex. \nRegistered volunteers will meet at the Welcome Center promptly at 9:30 AM. Staff will separate groups and provide instructions and safety protocols for the day. Out of respect and safety for our staff and others\, please arrive on time. \nPLEASE NOTE: Capacity is limited; participants MUST be pre-registered (using link below) in order to partake. Each adult must register individually in order to complete the required waivers. \nRegistration full but would like to still participate? Please contact Kimani Keaton at kimani@bartramsgarden to be added to our waitlist. Parents/guardians must complete registration for individuals 18 and under. \nPlease also email Kimani immediately if you plan on cancelling your attendance\, so that we may make room for those on our waitlist. \nThank you! \nHealth reminders: We are in accordance with Pennsylvania and the City of Philadelphia’s current COVID-19 response levels. Please follow the link to stay up-to-date on our city’s protocols. If you are sick or experiencing COVID-19 symptoms\, please do not volunteer.
URL:https://gridphilly.com/event/nursery-volunteer-day/
LOCATION:Bartram’s Garden\, 5400 Lindbergh Blvd.\, Philadelphia\, 19143\, United States
CATEGORIES:Volunteer
ATTACH;FMTTYPE=image/jpeg:https://gridphilly.com/wp-content/uploads/2023/10/IMG_1782-MA8A3p.tmp_.jpg
END:VEVENT
BEGIN:VEVENT
DTSTART;TZID=America/New_York:20231015T080000
DTEND;TZID=America/New_York:20231015T170000
DTSTAMP:20260419T164356
CREATED:20230817T134232Z
LAST-MODIFIED:20230817T134232Z
UID:10006406-1697356800-1697389200@gridphilly.com
SUMMARY:AIDS Walk Philly
DESCRIPTION:The 37th Annual AIDS Walk Philly continues to serve as the region’s largest HIV/AIDS fundraiser. Philadelphians can be a lifeline for their neighbors and loved ones by participating in the AIDS Walk Philly 5K\, raising public awareness and funds for those living with HIV disease in our community. The walk will take place on Sunday\, October 15\, 2023\, along Kelly Drive. Gather at the Art Museum Steps for a morning of fun and meaning for an important cause. Participants can register online and get additional information at www.aidswalkphilly.org or call 215-731-WALK. AIDS Fund provides emergency financial assistance to people living with HIV disease in the Greater Philadelphia region\, while providing education and increasing public awareness of HIV/AIDS issues.
URL:https://gridphilly.com/event/aids-walk-philly/
LOCATION:2600 Benjamin Franklin Pkwy\, Philadelphia\, PA 19130\, 2600 Benjamin Franklin Pkwy\, Philadelphia\, PA 19130\, Philadelphia\, 19130\, United States
CATEGORIES:Recreation & Health,Volunteer
ATTACH;FMTTYPE=image/jpeg:https://gridphilly.com/wp-content/uploads/2023/08/AWP2017_JeffreyHolder-26-scaled.jpg
END:VEVENT
BEGIN:VEVENT
DTSTART;TZID=America/New_York:20231014T093000
DTEND;TZID=America/New_York:20231014T120000
DTSTAMP:20260419T164356
CREATED:20231002T181809Z
LAST-MODIFIED:20231002T185217Z
UID:10007270-1697275800-1697284800@gridphilly.com
SUMMARY:Horticulture Volunteer Day
DESCRIPTION:Volunteers will support seasonal plantings\, weeding\, invasive species removal\, and support greenhouse maintenance. \nRegistered volunteers will meet at the Welcome Center promptly at 9:30 AM. Staff will separate groups and provide instructions and safety protocols for the day. Out of respect and safety for our staff and others\, please arrive on time. \nPLEASE NOTE: Capacity is limited; participants MUST be pre-registered (using link below) in order to partake. Each adult must register individually in order to complete the required waivers. \nRegistration full but would like to still participate? Please contact Kimani at kimani@bartramsgarden to be added to our waitlist. Parents/guardians must complete registration for individuals 18 and under. \nPlease also email Kimani immediately if you plan on cancelling your attendance\, so that we may make room for those on our waitlist. \nThank you! \nHealth reminders: We are in accordance with Pennsylvania and the City of Philadelphia’s current COVID-19 response levels. Please follow the link to stay up-to-date on our city’s protocols. If you are sick or experiencing COVID-19 symptoms\, please do not volunteer.
URL:https://gridphilly.com/event/horticulture-volunteer-day-13/
LOCATION:Bartram’s Garden\, 5400 Lindbergh Blvd.\, Philadelphia\, 19143\, United States
CATEGORIES:Volunteer
ATTACH;FMTTYPE=image/jpeg:https://gridphilly.com/wp-content/uploads/2022/09/greenhouse002-y16kAm.tmp_.jpg
END:VEVENT
BEGIN:VEVENT
DTSTART;TZID=America/New_York:20231008T090000
DTEND;TZID=America/New_York:20231008T190000
DTSTAMP:20260419T164356
CREATED:20231002T181533Z
LAST-MODIFIED:20231002T185216Z
UID:10007267-1696755600-1696791600@gridphilly.com
SUMMARY:Indigenous People’s Day Celebration Volunteering
DESCRIPTION:We are excited to build community at our Indigenous People’s Day Celebration. This free public event is held annually in remembrance of Indigenous resistance and annual celebration of the past\, present\, and future lives of Indigenous people.\n\n\nSupport is needed to: \n\n\nSetup ( 9AM-12PM): Moving tables\, putting up tents\, directing traffic\, general participant support\nEvent facilitation ( 12PM-5PM): Directing traffic and guests\, answering general accessibility questions\nBreakdown (5pM-7PM): Cleaning up litter\, packing up tables and tents
URL:https://gridphilly.com/event/indigenous-peoples-day-celebration-volunteering/
LOCATION:PA
CATEGORIES:Free Community Events,Volunteer
ATTACH;FMTTYPE=image/jpeg:https://gridphilly.com/wp-content/uploads/2023/10/8Q0A0452-eUMar6.tmp_.jpg
END:VEVENT
BEGIN:VEVENT
DTSTART;TZID=America/New_York:20231007T120000
DTEND;TZID=America/New_York:20231007T180000
DTSTAMP:20260419T164356
CREATED:20230913T201620Z
LAST-MODIFIED:20230913T201620Z
UID:10006830-1696680000-1696701600@gridphilly.com
SUMMARY:Art for the Cash Poor
DESCRIPTION:The 23rd annual installment of InLiquid’s Art for the Cash Poor is a Philly-centric affordable art fair – a free and public art sale directly benefiting local artists and craftspeople. All artwork is sold for $250 or less. \nThe festival on North American Street is a featured event of the robust arts corridor that is taking shape along the street. Local arts and community organizations will provide free programming for visitors that day including art and craft-making demonstrations\, workshops\, and more. \nArt for the Cash Poor brings together a wide array of artists from diverse backgrounds and voices. Celebrating the emerging and established talents of our region.
URL:https://gridphilly.com/event/art-for-the-cash-poor-2/
LOCATION:1400 – 1500 N American Street\, 1400 -1500 North American Street\, Philadelphia\, 19122\, United States
CATEGORIES:Arts & Culture,Arts & Performance,Community Events,Family-friendly,Outdoor Event,Volunteer,Volunteer Opportunities
ATTACH;FMTTYPE=image/png:https://gridphilly.com/wp-content/uploads/2023/09/AFTCP_Fall_Emailer.png
END:VEVENT
BEGIN:VEVENT
DTSTART;TZID=America/New_York:20231001T090000
DTEND;TZID=America/New_York:20231001T120000
DTSTAMP:20260419T164356
CREATED:20230302T142909Z
LAST-MODIFIED:20230926T165905Z
UID:10003930-1696150800-1696161600@gridphilly.com
SUMMARY:Sunday Stewardship with David Bower
DESCRIPTION:Meeting at Thomas Mansion.\nWould you like to be part of keeping Wissahickon Valley Park beautiful and sustainable? Then join long-time steward of the Wissahickon and the FOW Volunteer of the Year (2019)\, David Bower\, on a variety of stewardship projects! \nNo experience is needed. We provide gloves\, tools and instruction – you just need to show up! Volunteer service Days are excellent\, easy ways to help us take care of Wissahickon Valley Park. Be sure to wear sturdy footwear and long pants\, and bring a water bottle with you.\nDetailed information and the specific meeting location will be sent by email the day before the event. For more information contact Amelia Marren at marren@fow.org. \nThere is one adult per registration\, and participants under the age of 18 will need a parent or guardian to sign the volunteer waiver on-site or print and bring the signed form.
URL:https://gridphilly.com/event/sunday-stewardship-with-david-bower-10/
LOCATION:Thomas Mansion\, 6245 Wissahickon Ave\, Philadelphia\, PA\, United States
CATEGORIES:Clean-ups,Volunteer,Volunteer Opportunities,Volunteer Service,Volunteering
ATTACH;FMTTYPE=image/jpeg:https://gridphilly.com/wp-content/uploads/2022/09/Uniatowski101516_AW2A1769-054-rqIZVu.tmp_-scaled.jpg
GEO:40.034411;-75.191888
X-APPLE-STRUCTURED-LOCATION;VALUE=URI;X-ADDRESS=Thomas Mansion 6245 Wissahickon Ave Philadelphia PA United States;X-APPLE-RADIUS=500;X-TITLE=6245 Wissahickon Ave:geo:-75.191888,40.034411
END:VEVENT
BEGIN:VEVENT
DTSTART;TZID=America/New_York:20230924T093000
DTEND;TZID=America/New_York:20230924T113000
DTSTAMP:20260419T164356
CREATED:20230919T185100Z
LAST-MODIFIED:20230919T185100Z
UID:10006983-1695547800-1695555000@gridphilly.com
SUMMARY:Floriculture Volunteer Day
DESCRIPTION:Bartram’s Garden needs volunteers to help gather material for its famous dried botanical holiday wreaths! Volunteers will learn plant identification and get hands-on experience with successful harvesting and preservation techniques while helping us prepare to offer sustainably harvested dried botanical wreaths at our Handmade Holidays fundraiser event in December. Learn about sustainable wreath-making and get creative incorporating colors\, textures\, shapes\, and fragrances in designs. No previous experience is needed! Tools and equipment will be provided. Please note that we will be outdoors in the garden as well as the meadow\, so be sure to wear comfortable walking shoes and weather-appropriate clothing you won’t mind getting a bit dirty. \n Registered volunteers will meet at 9:30 AM. Staff will provide instructions and safety protocols for the day. Out of respect and safety for our staff and others\, please arrive on time. \nPLEASE NOTE: Capacity is limited; participants MUST be pre-registered (using link below) in order to partake. Each adult must register individually in order to complete the required waivers. \nRegistration full but would like to still participate? Please contact Kimani Keaton at kimani@bartramsgarden.org to be added to our waitlist. Parents/guardians must complete registration for individuals 18 and under. \nPlease also email Kimani immediately if you plan on cancelling your attendance\, so that we may make room for those on our waitlist. \nThank you! \nHealth reminders: We are in accordance with Pennsylvania and the City of Philadelphia’s current COVID-19 response levels. Please follow the link to stay up-to-date on our city’s protocols. If you are sick or experiencing COVID-19 symptoms\, please do not volunteer.
URL:https://gridphilly.com/event/floriculture-volunteer-day-4/
LOCATION:Bartram’s Garden\, 5400 Lindbergh Blvd.\, Philadelphia\, 19143\, United States
CATEGORIES:Volunteer
ATTACH;FMTTYPE=image/jpeg:https://gridphilly.com/wp-content/uploads/2023/06/Butterfly-Milkweed-with-Larkspur-and-coreopsis-scaled-jeLQEL.tmp_.jpg
END:VEVENT
BEGIN:VEVENT
DTSTART;TZID=America/New_York:20230916T093000
DTEND;TZID=America/New_York:20230916T120000
DTSTAMP:20260419T164356
CREATED:20230606T154231Z
LAST-MODIFIED:20230606T154436Z
UID:10005273-1694856600-1694865600@gridphilly.com
SUMMARY:POP Share Food Program Workday
DESCRIPTION:Get Involved on Nice Roots Farm!\nThanks so much for your help in the fight against food insecurity in Philadelphia!  \nNice Roots Farm and Orchard hosts Community Farming days\, a series of monthly work days taking place monthly from March – to December 2023. \nVolunteering At Nice Roots Farm (no experience necessary! all tasks will be taught & demonstrated) \nParticipants will learn about growing food in an urban environment\, make an impact with hands-on help\, and get to know others looking to do the same. No green thumb necessary! \nOur Farming Days are being hosted in partnership with Philadelphia Orchard Project. The food grown on Nice Roots Farm and Orchard is donated to local organizations fighting hunger. \nFarm and orchard activities will include:   \n\nPreparing beds for planting\nHarvesting & processing produce\nMaintatining plants (weeding\, watering\, fertilizing) and flowers\nMulching trees & shrubs\nCleaning up the grounds (raking\, picking up trash)\nStarting seeds in the ground & planting vegetable seedlings\nPruning\n\nFarming Tips and Preparation: \n\nAll ages are welcome; anyone under 16 should be accompanied by an adult\nCheck the weather a day before your shift! Remember that this experience is fully outside\, so wear the appropriate amount of layers to be comfortable!\nWe recommend wearing closed-toed shoes/boots as well as bringing a water bottle and bring garden gloves\, if you have them.\nWear clothes you don’t mind getting dirty\nCheck the weather before arriving to make sure you are wearing an appropriate amount of layers.\nSafety first! We highly encourage sun protection – much of the work area has full sun exposure most of the day! Recommended but not required: a hat\, lightweight long sleeves and pants.\nIf you are prone to mosquito bites or allergic to insect stings\, please take proper precautions before arriving\n\nMore about Nice Roots Farm \nNice Roots Farm is an urban agriculture project located in the West Allegheny neighborhood of Philadelphia\, started in 2010. Through partnerships with the Philadelphia Orchard Project\, the Philadelphia Horticultural Society\, and Penn State Extension\, the farm now features 20+ fruiting trees\, two high tunnels for extended season growing and harvesting\, and 20+ raised beds. \nThe quarter-acre farm grows over 4\,000 lbs. annually of fully organic vegetables and herbs\, and donates the yield to the community\, to Share-affiliated pantries and mutual aid networks. The main function of Nice Roots Farm is to serve as a demonstration and educational space for the community. \nLocation: \nOutdoor activity on Share grounds \n 
URL:https://gridphilly.com/event/pop-share-food-program-workday/2023-09-16/
LOCATION:Nice Roots Farm\, 2901 W Hunting Park Ave\, Philadelphia\, PA\, 19129\, United States
CATEGORIES:Land Stewardship,Neighborhood,Outdoor Event,Seasonal,Urban Farming,Volunteer,Volunteer Opportunities,Volunteer Service,Volunteering,Work Day
ATTACH;FMTTYPE=image/png:https://gridphilly.com/wp-content/uploads/2023/06/nice-roots-farm-logo_500px.png
END:VEVENT
BEGIN:VEVENT
DTSTART;TZID=America/New_York:20230909T093000
DTEND;TZID=America/New_York:20230909T123000
DTSTAMP:20260419T164356
CREATED:20230826T154853Z
LAST-MODIFIED:20230826T154853Z
UID:10006606-1694251800-1694262600@gridphilly.com
SUMMARY:Sankofa Community Farm Volunteer Day
DESCRIPTION:Volunteers will work alongside Farm staff to support seasonal plantings\, harvesting\, weeding\, invasive species removal\, and orchard support. \nVolunteers will meet at the Sankofa Community Farm at 9:30 AM and be separated into groups and provided with instructions and safety protocols for the day. Out of respect and safety for our staff and others\, please arrive on time. \nPLEASE NOTE: Each adult must register individually in order to complete the waiver. Parents/guardians must complete registration for individuals 18 and under. \nRegistration full but would like to still participate? Please contact Sarah Adeniran at sadeniran@bartramsgarden to be added to our waitlist. \nPlease also email Sarah immediately if you plan on cancelling your attendance\, so that we may make room for those on our waitlist. \nThank you! \nHealth reminders: We are in accordance with Pennsylvania and the City of Philadelphia’s current COVID-19 response levels. Please follow the link to stay up-to-date on our city’s protocols. If you are sick or experiencing COVID-19 symptoms\, please do not volunteer.
URL:https://gridphilly.com/event/sankofa-community-farm-volunteer-day-9/
LOCATION:Sankofa Community Farm at Bartram’s Garden\, 5400 Lindbergh Blvd\, Philadelphia\, PA\, 19143
CATEGORIES:Volunteer
END:VEVENT
END:VCALENDAR