BEGIN:VCALENDAR
VERSION:2.0
PRODID:-//Grid Magazine - ECPv6.15.20//NONSGML v1.0//EN
CALSCALE:GREGORIAN
METHOD:PUBLISH
X-ORIGINAL-URL:https://gridphilly.com
X-WR-CALDESC:Events for Grid Magazine
REFRESH-INTERVAL;VALUE=DURATION:PT1H
X-Robots-Tag:noindex
X-PUBLISHED-TTL:PT1H
BEGIN:VTIMEZONE
TZID:America/New_York
BEGIN:DAYLIGHT
TZOFFSETFROM:-0500
TZOFFSETTO:-0400
TZNAME:EDT
DTSTART:20250309T070000
END:DAYLIGHT
BEGIN:STANDARD
TZOFFSETFROM:-0400
TZOFFSETTO:-0500
TZNAME:EST
DTSTART:20251102T060000
END:STANDARD
BEGIN:DAYLIGHT
TZOFFSETFROM:-0500
TZOFFSETTO:-0400
TZNAME:EDT
DTSTART:20260308T070000
END:DAYLIGHT
BEGIN:STANDARD
TZOFFSETFROM:-0400
TZOFFSETTO:-0500
TZNAME:EST
DTSTART:20261101T060000
END:STANDARD
BEGIN:DAYLIGHT
TZOFFSETFROM:-0500
TZOFFSETTO:-0400
TZNAME:EDT
DTSTART:20270314T070000
END:DAYLIGHT
BEGIN:STANDARD
TZOFFSETFROM:-0400
TZOFFSETTO:-0500
TZNAME:EST
DTSTART:20271107T060000
END:STANDARD
END:VTIMEZONE
BEGIN:VEVENT
DTSTART;TZID=America/New_York:20260606T100000
DTEND;TZID=America/New_York:20260606T130000
DTSTAMP:20260421T092014
CREATED:20260320T181618Z
LAST-MODIFIED:20260320T181618Z
UID:10030351-1780740000-1780750800@gridphilly.com
SUMMARY:Philly Outdoor Gear Swap
DESCRIPTION:The Inaugural Philly Outdoor Gear Swap\nSaturday\, June 6th\, 10am- 1pm\nAt The Wissahickon Environmental Center-\nThe Treehouse- 300 W Northwestern Ave\, Philadelphia\, PA 19118 \nJoin us for a one day outdoor flea market to buy\, sell\, trade and give away gently used gear.\nFree to table and free admission.\nThis is a great chance for your equipment to find a new home\nor\nfor you to find some affordable nature stuff to enhance your adventures! \nHelp someone get some good gear cheap. These things are expensive.\nLet’s help lower one of the barriers to enjoying the outdoors in and around Philly! \nThings like- Backpacks/daypacks\, binoculars\, spotting scopes\, boots\, head lamps\, tents\, sleeping bags & pads\, outdoor cooking gear\, guide books\, sunglasses\, hats\, gloves/mittens\, snow gear\, climbing gear\, biking gear\, paddling gear\, bird feeders\, etc. \nYou could raise money for a local non-profit! I’m sure they could use it!\nThere will be some tables on site\, but bring a table or a tarp to set up on\nThis is not a craft fair. Please\, no new items for sale. \nThere is some parking at the center and also at the Andorra Upper Lot.\nMore info: instagram- @phillyoutdoorgearswap
URL:https://gridphilly.com/event/philly-outdoor-gear-swap/
LOCATION:The Wissahickon Environmental Center-  The Treehouse\, 300 W Northwestern Ave\,\, Philadelphia\, 19118\, United States
CATEGORIES:Community Events,Event,family and kid friendly,Free,Solar
ATTACH;FMTTYPE=image/jpeg:https://gridphilly.com/wp-content/uploads/2026/03/2026-gear-swap-flyer-with-contact-small-1.jpg
ORGANIZER;CN="Bull &amp%3B Tony":MAILTO:bull.gervasi@gmail.com
END:VEVENT
END:VCALENDAR